BEGIN:VCALENDAR
VERSION:2.0
PRODID:-//Quail Creek Sporting Ranch - ECPv6.15.15//NONSGML v1.0//EN
CALSCALE:GREGORIAN
METHOD:PUBLISH
X-WR-CALNAME:Quail Creek Sporting Ranch
X-ORIGINAL-URL:https://quailcreeksportingranch.com
X-WR-CALDESC:Events for Quail Creek Sporting Ranch
REFRESH-INTERVAL;VALUE=DURATION:PT1H
X-Robots-Tag:noindex
X-PUBLISHED-TTL:PT1H
BEGIN:VTIMEZONE
TZID:America/New_York
BEGIN:DAYLIGHT
TZOFFSETFROM:-0500
TZOFFSETTO:-0400
TZNAME:EDT
DTSTART:20230312T070000
END:DAYLIGHT
BEGIN:STANDARD
TZOFFSETFROM:-0400
TZOFFSETTO:-0500
TZNAME:EST
DTSTART:20231105T060000
END:STANDARD
BEGIN:DAYLIGHT
TZOFFSETFROM:-0500
TZOFFSETTO:-0400
TZNAME:EDT
DTSTART:20240310T070000
END:DAYLIGHT
BEGIN:STANDARD
TZOFFSETFROM:-0400
TZOFFSETTO:-0500
TZNAME:EST
DTSTART:20241103T060000
END:STANDARD
BEGIN:DAYLIGHT
TZOFFSETFROM:-0500
TZOFFSETTO:-0400
TZNAME:EDT
DTSTART:20250309T070000
END:DAYLIGHT
BEGIN:STANDARD
TZOFFSETFROM:-0400
TZOFFSETTO:-0500
TZNAME:EST
DTSTART:20251102T060000
END:STANDARD
END:VTIMEZONE
BEGIN:VEVENT
DTSTART;TZID=America/New_York:20241227T070000
DTEND;TZID=America/New_York:20241227T150000
DTSTAMP:20260425T114527
CREATED:20240513T163157Z
LAST-MODIFIED:20240513T163158Z
UID:10015316-1735282800-1735311600@quailcreeksportingranch.com
SUMMARY:Sporting Clays Course Open To The Public
DESCRIPTION:
URL:https://quailcreeksportingranch.com/event/sporting-clays-course-open-to-the-public-2/2024-12-27/
LOCATION:Quail Creek Sporting Ranch
CATEGORIES:Weekly
ORGANIZER;CN="Quail Creek Sporting Ranch":MAILTO:admin@quailcreeksportingranch.com
END:VEVENT
BEGIN:VEVENT
DTSTART;TZID=America/New_York:20241226T110000
DTEND;TZID=America/New_York:20241226T140000
DTSTAMP:20260425T114528
CREATED:20230406T193033Z
LAST-MODIFIED:20251231T181729Z
UID:10008893-1735210800-1735221600@quailcreeksportingranch.com
SUMMARY:Lunch Pavilion Open To The Public
DESCRIPTION:
URL:https://quailcreeksportingranch.com/event/lunch-pavilion-open-to-the-public/2024-12-26/
LOCATION:Quail Creek Sporting Ranch
CATEGORIES:Weekly
ORGANIZER;CN="Quail Creek Sporting Ranch":MAILTO:admin@quailcreeksportingranch.com
END:VEVENT
BEGIN:VEVENT
DTSTART;TZID=America/New_York:20241226T070000
DTEND;TZID=America/New_York:20241226T150000
DTSTAMP:20260425T114528
CREATED:20240513T163157Z
LAST-MODIFIED:20240513T163158Z
UID:10015315-1735196400-1735225200@quailcreeksportingranch.com
SUMMARY:Sporting Clays Course Open To The Public
DESCRIPTION:
URL:https://quailcreeksportingranch.com/event/sporting-clays-course-open-to-the-public-2/2024-12-26/
LOCATION:Quail Creek Sporting Ranch
CATEGORIES:Weekly
ORGANIZER;CN="Quail Creek Sporting Ranch":MAILTO:admin@quailcreeksportingranch.com
END:VEVENT
BEGIN:VEVENT
DTSTART;TZID=America/New_York:20241225T110000
DTEND;TZID=America/New_York:20241225T140000
DTSTAMP:20260425T114528
CREATED:20230406T193033Z
LAST-MODIFIED:20251231T181729Z
UID:10008892-1735124400-1735135200@quailcreeksportingranch.com
SUMMARY:Lunch Pavilion Open To The Public
DESCRIPTION:
URL:https://quailcreeksportingranch.com/event/lunch-pavilion-open-to-the-public/2024-12-25/
LOCATION:Quail Creek Sporting Ranch
CATEGORIES:Weekly
ORGANIZER;CN="Quail Creek Sporting Ranch":MAILTO:admin@quailcreeksportingranch.com
END:VEVENT
BEGIN:VEVENT
DTSTART;TZID=America/New_York:20241224T110000
DTEND;TZID=America/New_York:20241224T140000
DTSTAMP:20260425T114528
CREATED:20230406T193033Z
LAST-MODIFIED:20251231T181729Z
UID:10008891-1735038000-1735048800@quailcreeksportingranch.com
SUMMARY:Lunch Pavilion Open To The Public
DESCRIPTION:
URL:https://quailcreeksportingranch.com/event/lunch-pavilion-open-to-the-public/2024-12-24/
LOCATION:Quail Creek Sporting Ranch
CATEGORIES:Weekly
ORGANIZER;CN="Quail Creek Sporting Ranch":MAILTO:admin@quailcreeksportingranch.com
END:VEVENT
BEGIN:VEVENT
DTSTART;TZID=America/New_York:20241223T110000
DTEND;TZID=America/New_York:20241223T140000
DTSTAMP:20260425T114528
CREATED:20230406T193033Z
LAST-MODIFIED:20260202T161300Z
UID:10018105-1734951600-1734962400@quailcreeksportingranch.com
SUMMARY:Lunch Pavilion Open 11am-2pm
DESCRIPTION:
URL:https://quailcreeksportingranch.com/event/lunch-pavilion-closed/2024-12-23/
LOCATION:Quail Creek Sporting Ranch
CATEGORIES:Closure,Weekly
ORGANIZER;CN="Quail Creek Sporting Ranch":MAILTO:admin@quailcreeksportingranch.com
END:VEVENT
BEGIN:VEVENT
DTSTART;TZID=America/New_York:20241222T110000
DTEND;TZID=America/New_York:20241222T140000
DTSTAMP:20260425T114528
CREATED:20230406T193033Z
LAST-MODIFIED:20251231T181729Z
UID:10008889-1734865200-1734876000@quailcreeksportingranch.com
SUMMARY:Lunch Pavilion Open To The Public
DESCRIPTION:
URL:https://quailcreeksportingranch.com/event/lunch-pavilion-open-to-the-public/2024-12-22/
LOCATION:Quail Creek Sporting Ranch
CATEGORIES:Weekly
ORGANIZER;CN="Quail Creek Sporting Ranch":MAILTO:admin@quailcreeksportingranch.com
END:VEVENT
BEGIN:VEVENT
DTSTART;TZID=America/New_York:20241222T070000
DTEND;TZID=America/New_York:20241222T150000
DTSTAMP:20260425T114528
CREATED:20240513T163157Z
LAST-MODIFIED:20240513T163158Z
UID:10015313-1734850800-1734879600@quailcreeksportingranch.com
SUMMARY:Sporting Clays Course Open To The Public
DESCRIPTION:
URL:https://quailcreeksportingranch.com/event/sporting-clays-course-open-to-the-public-2/2024-12-22/
LOCATION:Quail Creek Sporting Ranch
CATEGORIES:Weekly
ORGANIZER;CN="Quail Creek Sporting Ranch":MAILTO:admin@quailcreeksportingranch.com
END:VEVENT
BEGIN:VEVENT
DTSTART;TZID=America/New_York:20241221T110000
DTEND;TZID=America/New_York:20241221T140000
DTSTAMP:20260425T114528
CREATED:20230406T193033Z
LAST-MODIFIED:20251231T181729Z
UID:10010797-1734778800-1734789600@quailcreeksportingranch.com
SUMMARY:Lunch Pavilion Open To The Public
DESCRIPTION:
URL:https://quailcreeksportingranch.com/event/lunch-pavilion-open-to-the-public/2024-12-21/
LOCATION:Quail Creek Sporting Ranch
CATEGORIES:Weekly
ORGANIZER;CN="Quail Creek Sporting Ranch":MAILTO:admin@quailcreeksportingranch.com
END:VEVENT
BEGIN:VEVENT
DTSTART;TZID=America/New_York:20241221T070000
DTEND;TZID=America/New_York:20241221T150000
DTSTAMP:20260425T114528
CREATED:20240513T163157Z
LAST-MODIFIED:20240513T163158Z
UID:10015312-1734764400-1734793200@quailcreeksportingranch.com
SUMMARY:Sporting Clays Course Open To The Public
DESCRIPTION:
URL:https://quailcreeksportingranch.com/event/sporting-clays-course-open-to-the-public-2/2024-12-21/
LOCATION:Quail Creek Sporting Ranch
CATEGORIES:Weekly
ORGANIZER;CN="Quail Creek Sporting Ranch":MAILTO:admin@quailcreeksportingranch.com
END:VEVENT
BEGIN:VEVENT
DTSTART;TZID=America/New_York:20241220T110000
DTEND;TZID=America/New_York:20241220T140000
DTSTAMP:20260425T114528
CREATED:20230406T193033Z
LAST-MODIFIED:20251231T181729Z
UID:10008888-1734692400-1734703200@quailcreeksportingranch.com
SUMMARY:Lunch Pavilion Open To The Public
DESCRIPTION:
URL:https://quailcreeksportingranch.com/event/lunch-pavilion-open-to-the-public/2024-12-20/
LOCATION:Quail Creek Sporting Ranch
CATEGORIES:Weekly
ORGANIZER;CN="Quail Creek Sporting Ranch":MAILTO:admin@quailcreeksportingranch.com
END:VEVENT
BEGIN:VEVENT
DTSTART;TZID=America/New_York:20241220T070000
DTEND;TZID=America/New_York:20241220T150000
DTSTAMP:20260425T114528
CREATED:20240513T163157Z
LAST-MODIFIED:20240513T163158Z
UID:10015311-1734678000-1734706800@quailcreeksportingranch.com
SUMMARY:Sporting Clays Course Open To The Public
DESCRIPTION:
URL:https://quailcreeksportingranch.com/event/sporting-clays-course-open-to-the-public-2/2024-12-20/
LOCATION:Quail Creek Sporting Ranch
CATEGORIES:Weekly
ORGANIZER;CN="Quail Creek Sporting Ranch":MAILTO:admin@quailcreeksportingranch.com
END:VEVENT
BEGIN:VEVENT
DTSTART;TZID=America/New_York:20241219T110000
DTEND;TZID=America/New_York:20241219T140000
DTSTAMP:20260425T114528
CREATED:20230406T193033Z
LAST-MODIFIED:20251231T181729Z
UID:10008887-1734606000-1734616800@quailcreeksportingranch.com
SUMMARY:Lunch Pavilion Open To The Public
DESCRIPTION:
URL:https://quailcreeksportingranch.com/event/lunch-pavilion-open-to-the-public/2024-12-19/
LOCATION:Quail Creek Sporting Ranch
CATEGORIES:Weekly
ORGANIZER;CN="Quail Creek Sporting Ranch":MAILTO:admin@quailcreeksportingranch.com
END:VEVENT
BEGIN:VEVENT
DTSTART;TZID=America/New_York:20241219T070000
DTEND;TZID=America/New_York:20241219T150000
DTSTAMP:20260425T114528
CREATED:20240513T163157Z
LAST-MODIFIED:20240513T163158Z
UID:10015310-1734591600-1734620400@quailcreeksportingranch.com
SUMMARY:Sporting Clays Course Open To The Public
DESCRIPTION:
URL:https://quailcreeksportingranch.com/event/sporting-clays-course-open-to-the-public-2/2024-12-19/
LOCATION:Quail Creek Sporting Ranch
CATEGORIES:Weekly
ORGANIZER;CN="Quail Creek Sporting Ranch":MAILTO:admin@quailcreeksportingranch.com
END:VEVENT
BEGIN:VEVENT
DTSTART;TZID=America/New_York:20241218T110000
DTEND;TZID=America/New_York:20241218T140000
DTSTAMP:20260425T114528
CREATED:20230406T193033Z
LAST-MODIFIED:20251231T181729Z
UID:10008886-1734519600-1734530400@quailcreeksportingranch.com
SUMMARY:Lunch Pavilion Open To The Public
DESCRIPTION:
URL:https://quailcreeksportingranch.com/event/lunch-pavilion-open-to-the-public/2024-12-18/
LOCATION:Quail Creek Sporting Ranch
CATEGORIES:Weekly
ORGANIZER;CN="Quail Creek Sporting Ranch":MAILTO:admin@quailcreeksportingranch.com
END:VEVENT
BEGIN:VEVENT
DTSTART;TZID=America/New_York:20241218T070000
DTEND;TZID=America/New_York:20241218T150000
DTSTAMP:20260425T114528
CREATED:20240513T163157Z
LAST-MODIFIED:20240513T163158Z
UID:10015309-1734505200-1734534000@quailcreeksportingranch.com
SUMMARY:Sporting Clays Course Open To The Public
DESCRIPTION:
URL:https://quailcreeksportingranch.com/event/sporting-clays-course-open-to-the-public-2/2024-12-18/
LOCATION:Quail Creek Sporting Ranch
CATEGORIES:Weekly
ORGANIZER;CN="Quail Creek Sporting Ranch":MAILTO:admin@quailcreeksportingranch.com
END:VEVENT
BEGIN:VEVENT
DTSTART;TZID=America/New_York:20241217T110000
DTEND;TZID=America/New_York:20241217T140000
DTSTAMP:20260425T114528
CREATED:20230406T193033Z
LAST-MODIFIED:20251231T181729Z
UID:10008885-1734433200-1734444000@quailcreeksportingranch.com
SUMMARY:Lunch Pavilion Open To The Public
DESCRIPTION:
URL:https://quailcreeksportingranch.com/event/lunch-pavilion-open-to-the-public/2024-12-17/
LOCATION:Quail Creek Sporting Ranch
CATEGORIES:Weekly
ORGANIZER;CN="Quail Creek Sporting Ranch":MAILTO:admin@quailcreeksportingranch.com
END:VEVENT
BEGIN:VEVENT
DTSTART;TZID=America/New_York:20241216T110000
DTEND;TZID=America/New_York:20241216T140000
DTSTAMP:20260425T114528
CREATED:20230406T193033Z
LAST-MODIFIED:20260202T161300Z
UID:10018104-1734346800-1734357600@quailcreeksportingranch.com
SUMMARY:Lunch Pavilion Open 11am-2pm
DESCRIPTION:
URL:https://quailcreeksportingranch.com/event/lunch-pavilion-closed/2024-12-16/
LOCATION:Quail Creek Sporting Ranch
CATEGORIES:Closure,Weekly
ORGANIZER;CN="Quail Creek Sporting Ranch":MAILTO:admin@quailcreeksportingranch.com
END:VEVENT
BEGIN:VEVENT
DTSTART;TZID=America/New_York:20241215T110000
DTEND;TZID=America/New_York:20241215T140000
DTSTAMP:20260425T114528
CREATED:20230406T193033Z
LAST-MODIFIED:20251231T181729Z
UID:10008883-1734260400-1734271200@quailcreeksportingranch.com
SUMMARY:Lunch Pavilion Open To The Public
DESCRIPTION:
URL:https://quailcreeksportingranch.com/event/lunch-pavilion-open-to-the-public/2024-12-15/
LOCATION:Quail Creek Sporting Ranch
CATEGORIES:Weekly
ORGANIZER;CN="Quail Creek Sporting Ranch":MAILTO:admin@quailcreeksportingranch.com
END:VEVENT
BEGIN:VEVENT
DTSTART;TZID=America/New_York:20241215T070000
DTEND;TZID=America/New_York:20241215T150000
DTSTAMP:20260425T114528
CREATED:20240513T163157Z
LAST-MODIFIED:20240513T163158Z
UID:10015308-1734246000-1734274800@quailcreeksportingranch.com
SUMMARY:Sporting Clays Course Open To The Public
DESCRIPTION:
URL:https://quailcreeksportingranch.com/event/sporting-clays-course-open-to-the-public-2/2024-12-15/
LOCATION:Quail Creek Sporting Ranch
CATEGORIES:Weekly
ORGANIZER;CN="Quail Creek Sporting Ranch":MAILTO:admin@quailcreeksportingranch.com
END:VEVENT
BEGIN:VEVENT
DTSTART;TZID=America/New_York:20241214T110000
DTEND;TZID=America/New_York:20241214T140000
DTSTAMP:20260425T114528
CREATED:20230406T193033Z
LAST-MODIFIED:20251231T181729Z
UID:10010796-1734174000-1734184800@quailcreeksportingranch.com
SUMMARY:Lunch Pavilion Open To The Public
DESCRIPTION:
URL:https://quailcreeksportingranch.com/event/lunch-pavilion-open-to-the-public/2024-12-14/
LOCATION:Quail Creek Sporting Ranch
CATEGORIES:Weekly
ORGANIZER;CN="Quail Creek Sporting Ranch":MAILTO:admin@quailcreeksportingranch.com
END:VEVENT
BEGIN:VEVENT
DTSTART;TZID=America/New_York:20241214T070000
DTEND;TZID=America/New_York:20241214T150000
DTSTAMP:20260425T114528
CREATED:20240513T163157Z
LAST-MODIFIED:20240513T163158Z
UID:10015307-1734159600-1734188400@quailcreeksportingranch.com
SUMMARY:Sporting Clays Course Open To The Public
DESCRIPTION:
URL:https://quailcreeksportingranch.com/event/sporting-clays-course-open-to-the-public-2/2024-12-14/
LOCATION:Quail Creek Sporting Ranch
CATEGORIES:Weekly
ORGANIZER;CN="Quail Creek Sporting Ranch":MAILTO:admin@quailcreeksportingranch.com
END:VEVENT
BEGIN:VEVENT
DTSTART;TZID=America/New_York:20241213T110000
DTEND;TZID=America/New_York:20241213T140000
DTSTAMP:20260425T114528
CREATED:20230406T193033Z
LAST-MODIFIED:20251231T181729Z
UID:10008882-1734087600-1734098400@quailcreeksportingranch.com
SUMMARY:Lunch Pavilion Open To The Public
DESCRIPTION:
URL:https://quailcreeksportingranch.com/event/lunch-pavilion-open-to-the-public/2024-12-13/
LOCATION:Quail Creek Sporting Ranch
CATEGORIES:Weekly
ORGANIZER;CN="Quail Creek Sporting Ranch":MAILTO:admin@quailcreeksportingranch.com
END:VEVENT
BEGIN:VEVENT
DTSTART;TZID=America/New_York:20241213T070000
DTEND;TZID=America/New_York:20241213T150000
DTSTAMP:20260425T114528
CREATED:20240513T163157Z
LAST-MODIFIED:20240513T163158Z
UID:10015306-1734073200-1734102000@quailcreeksportingranch.com
SUMMARY:Sporting Clays Course Open To The Public
DESCRIPTION:
URL:https://quailcreeksportingranch.com/event/sporting-clays-course-open-to-the-public-2/2024-12-13/
LOCATION:Quail Creek Sporting Ranch
CATEGORIES:Weekly
ORGANIZER;CN="Quail Creek Sporting Ranch":MAILTO:admin@quailcreeksportingranch.com
END:VEVENT
BEGIN:VEVENT
DTSTART;TZID=America/New_York:20241212T110000
DTEND;TZID=America/New_York:20241212T140000
DTSTAMP:20260425T114528
CREATED:20230406T193033Z
LAST-MODIFIED:20251231T181729Z
UID:10008881-1734001200-1734012000@quailcreeksportingranch.com
SUMMARY:Lunch Pavilion Open To The Public
DESCRIPTION:
URL:https://quailcreeksportingranch.com/event/lunch-pavilion-open-to-the-public/2024-12-12/
LOCATION:Quail Creek Sporting Ranch
CATEGORIES:Weekly
ORGANIZER;CN="Quail Creek Sporting Ranch":MAILTO:admin@quailcreeksportingranch.com
END:VEVENT
BEGIN:VEVENT
DTSTART;TZID=America/New_York:20241212T070000
DTEND;TZID=America/New_York:20241212T150000
DTSTAMP:20260425T114528
CREATED:20240513T163157Z
LAST-MODIFIED:20240513T163158Z
UID:10015305-1733986800-1734015600@quailcreeksportingranch.com
SUMMARY:Sporting Clays Course Open To The Public
DESCRIPTION:
URL:https://quailcreeksportingranch.com/event/sporting-clays-course-open-to-the-public-2/2024-12-12/
LOCATION:Quail Creek Sporting Ranch
CATEGORIES:Weekly
ORGANIZER;CN="Quail Creek Sporting Ranch":MAILTO:admin@quailcreeksportingranch.com
END:VEVENT
BEGIN:VEVENT
DTSTART;TZID=America/New_York:20241211T110000
DTEND;TZID=America/New_York:20241211T140000
DTSTAMP:20260425T114528
CREATED:20230406T193033Z
LAST-MODIFIED:20251231T181729Z
UID:10008880-1733914800-1733925600@quailcreeksportingranch.com
SUMMARY:Lunch Pavilion Open To The Public
DESCRIPTION:
URL:https://quailcreeksportingranch.com/event/lunch-pavilion-open-to-the-public/2024-12-11/
LOCATION:Quail Creek Sporting Ranch
CATEGORIES:Weekly
ORGANIZER;CN="Quail Creek Sporting Ranch":MAILTO:admin@quailcreeksportingranch.com
END:VEVENT
BEGIN:VEVENT
DTSTART;TZID=America/New_York:20241211T070000
DTEND;TZID=America/New_York:20241211T150000
DTSTAMP:20260425T114528
CREATED:20240513T163157Z
LAST-MODIFIED:20240513T163158Z
UID:10015304-1733900400-1733929200@quailcreeksportingranch.com
SUMMARY:Sporting Clays Course Open To The Public
DESCRIPTION:
URL:https://quailcreeksportingranch.com/event/sporting-clays-course-open-to-the-public-2/2024-12-11/
LOCATION:Quail Creek Sporting Ranch
CATEGORIES:Weekly
ORGANIZER;CN="Quail Creek Sporting Ranch":MAILTO:admin@quailcreeksportingranch.com
END:VEVENT
BEGIN:VEVENT
DTSTART;TZID=America/New_York:20241210T110000
DTEND;TZID=America/New_York:20241210T140000
DTSTAMP:20260425T114528
CREATED:20230406T193033Z
LAST-MODIFIED:20251231T181729Z
UID:10008879-1733828400-1733839200@quailcreeksportingranch.com
SUMMARY:Lunch Pavilion Open To The Public
DESCRIPTION:
URL:https://quailcreeksportingranch.com/event/lunch-pavilion-open-to-the-public/2024-12-10/
LOCATION:Quail Creek Sporting Ranch
CATEGORIES:Weekly
ORGANIZER;CN="Quail Creek Sporting Ranch":MAILTO:admin@quailcreeksportingranch.com
END:VEVENT
BEGIN:VEVENT
DTSTART;TZID=America/New_York:20241209T110000
DTEND;TZID=America/New_York:20241209T140000
DTSTAMP:20260425T114528
CREATED:20230406T193033Z
LAST-MODIFIED:20260202T161300Z
UID:10018103-1733742000-1733752800@quailcreeksportingranch.com
SUMMARY:Lunch Pavilion Open 11am-2pm
DESCRIPTION:
URL:https://quailcreeksportingranch.com/event/lunch-pavilion-closed/2024-12-09/
LOCATION:Quail Creek Sporting Ranch
CATEGORIES:Closure,Weekly
ORGANIZER;CN="Quail Creek Sporting Ranch":MAILTO:admin@quailcreeksportingranch.com
END:VEVENT
END:VCALENDAR