BEGIN:VCALENDAR
VERSION:2.0
PRODID:-//Quail Creek Sporting Ranch - ECPv6.15.15//NONSGML v1.0//EN
CALSCALE:GREGORIAN
METHOD:PUBLISH
X-WR-CALNAME:Quail Creek Sporting Ranch
X-ORIGINAL-URL:https://quailcreeksportingranch.com
X-WR-CALDESC:Events for Quail Creek Sporting Ranch
REFRESH-INTERVAL;VALUE=DURATION:PT1H
X-Robots-Tag:noindex
X-PUBLISHED-TTL:PT1H
BEGIN:VTIMEZONE
TZID:America/New_York
BEGIN:DAYLIGHT
TZOFFSETFROM:-0500
TZOFFSETTO:-0400
TZNAME:EDT
DTSTART:20240310T070000
END:DAYLIGHT
BEGIN:STANDARD
TZOFFSETFROM:-0400
TZOFFSETTO:-0500
TZNAME:EST
DTSTART:20241103T060000
END:STANDARD
BEGIN:DAYLIGHT
TZOFFSETFROM:-0500
TZOFFSETTO:-0400
TZNAME:EDT
DTSTART:20250309T070000
END:DAYLIGHT
BEGIN:STANDARD
TZOFFSETFROM:-0400
TZOFFSETTO:-0500
TZNAME:EST
DTSTART:20251102T060000
END:STANDARD
BEGIN:DAYLIGHT
TZOFFSETFROM:-0500
TZOFFSETTO:-0400
TZNAME:EDT
DTSTART:20260308T070000
END:DAYLIGHT
BEGIN:STANDARD
TZOFFSETFROM:-0400
TZOFFSETTO:-0500
TZNAME:EST
DTSTART:20261101T060000
END:STANDARD
END:VTIMEZONE
BEGIN:VEVENT
DTSTART;TZID=America/New_York:20250424T110000
DTEND;TZID=America/New_York:20250424T140000
DTSTAMP:20260424T052813
CREATED:20230406T193033Z
LAST-MODIFIED:20251231T181729Z
UID:10008995-1745492400-1745503200@quailcreeksportingranch.com
SUMMARY:Lunch Pavilion Open To The Public
DESCRIPTION:
URL:https://quailcreeksportingranch.com/event/lunch-pavilion-open-to-the-public/2025-04-24/
LOCATION:Quail Creek Sporting Ranch
CATEGORIES:Weekly
ORGANIZER;CN="Quail Creek Sporting Ranch":MAILTO:admin@quailcreeksportingranch.com
END:VEVENT
BEGIN:VEVENT
DTSTART;TZID=America/New_York:20250424T070000
DTEND;TZID=America/New_York:20250424T150000
DTSTAMP:20260424T052813
CREATED:20240513T163157Z
LAST-MODIFIED:20240513T163158Z
UID:10015400-1745478000-1745506800@quailcreeksportingranch.com
SUMMARY:Sporting Clays Course Open To The Public
DESCRIPTION:
URL:https://quailcreeksportingranch.com/event/sporting-clays-course-open-to-the-public-2/2025-04-24/
LOCATION:Quail Creek Sporting Ranch
CATEGORIES:Weekly
ORGANIZER;CN="Quail Creek Sporting Ranch":MAILTO:admin@quailcreeksportingranch.com
END:VEVENT
BEGIN:VEVENT
DTSTART;TZID=America/New_York:20250423T110000
DTEND;TZID=America/New_York:20250423T140000
DTSTAMP:20260424T052813
CREATED:20230406T193033Z
LAST-MODIFIED:20251231T181729Z
UID:10008994-1745406000-1745416800@quailcreeksportingranch.com
SUMMARY:Lunch Pavilion Open To The Public
DESCRIPTION:
URL:https://quailcreeksportingranch.com/event/lunch-pavilion-open-to-the-public/2025-04-23/
LOCATION:Quail Creek Sporting Ranch
CATEGORIES:Weekly
ORGANIZER;CN="Quail Creek Sporting Ranch":MAILTO:admin@quailcreeksportingranch.com
END:VEVENT
BEGIN:VEVENT
DTSTART;TZID=America/New_York:20250423T070000
DTEND;TZID=America/New_York:20250423T150000
DTSTAMP:20260424T052813
CREATED:20240513T163157Z
LAST-MODIFIED:20240513T163158Z
UID:10015399-1745391600-1745420400@quailcreeksportingranch.com
SUMMARY:Sporting Clays Course Open To The Public
DESCRIPTION:
URL:https://quailcreeksportingranch.com/event/sporting-clays-course-open-to-the-public-2/2025-04-23/
LOCATION:Quail Creek Sporting Ranch
CATEGORIES:Weekly
ORGANIZER;CN="Quail Creek Sporting Ranch":MAILTO:admin@quailcreeksportingranch.com
END:VEVENT
BEGIN:VEVENT
DTSTART;TZID=America/New_York:20250422T110000
DTEND;TZID=America/New_York:20250422T140000
DTSTAMP:20260424T052813
CREATED:20230406T193033Z
LAST-MODIFIED:20251231T181729Z
UID:10008993-1745319600-1745330400@quailcreeksportingranch.com
SUMMARY:Lunch Pavilion Open To The Public
DESCRIPTION:
URL:https://quailcreeksportingranch.com/event/lunch-pavilion-open-to-the-public/2025-04-22/
LOCATION:Quail Creek Sporting Ranch
CATEGORIES:Weekly
ORGANIZER;CN="Quail Creek Sporting Ranch":MAILTO:admin@quailcreeksportingranch.com
END:VEVENT
BEGIN:VEVENT
DTSTART;TZID=America/New_York:20250421T110000
DTEND;TZID=America/New_York:20250421T140000
DTSTAMP:20260424T052813
CREATED:20230406T193033Z
LAST-MODIFIED:20260202T161300Z
UID:10018122-1745233200-1745244000@quailcreeksportingranch.com
SUMMARY:Lunch Pavilion Open 11am-2pm
DESCRIPTION:
URL:https://quailcreeksportingranch.com/event/lunch-pavilion-closed/2025-04-21/
LOCATION:Quail Creek Sporting Ranch
CATEGORIES:Closure,Weekly
ORGANIZER;CN="Quail Creek Sporting Ranch":MAILTO:admin@quailcreeksportingranch.com
END:VEVENT
BEGIN:VEVENT
DTSTART;TZID=America/New_York:20250420T110000
DTEND;TZID=America/New_York:20250420T140000
DTSTAMP:20260424T052813
CREATED:20230406T193033Z
LAST-MODIFIED:20251231T181729Z
UID:10008991-1745146800-1745157600@quailcreeksportingranch.com
SUMMARY:Lunch Pavilion Open To The Public
DESCRIPTION:
URL:https://quailcreeksportingranch.com/event/lunch-pavilion-open-to-the-public/2025-04-20/
LOCATION:Quail Creek Sporting Ranch
CATEGORIES:Weekly
ORGANIZER;CN="Quail Creek Sporting Ranch":MAILTO:admin@quailcreeksportingranch.com
END:VEVENT
BEGIN:VEVENT
DTSTART;TZID=America/New_York:20250420T070000
DTEND;TZID=America/New_York:20250420T150000
DTSTAMP:20260424T052813
CREATED:20240513T163157Z
LAST-MODIFIED:20240513T163158Z
UID:10015398-1745132400-1745161200@quailcreeksportingranch.com
SUMMARY:Sporting Clays Course Open To The Public
DESCRIPTION:
URL:https://quailcreeksportingranch.com/event/sporting-clays-course-open-to-the-public-2/2025-04-20/
LOCATION:Quail Creek Sporting Ranch
CATEGORIES:Weekly
ORGANIZER;CN="Quail Creek Sporting Ranch":MAILTO:admin@quailcreeksportingranch.com
END:VEVENT
BEGIN:VEVENT
DTSTART;TZID=America/New_York:20250419T110000
DTEND;TZID=America/New_York:20250419T140000
DTSTAMP:20260424T052813
CREATED:20230406T193033Z
LAST-MODIFIED:20251231T181729Z
UID:10010814-1745060400-1745071200@quailcreeksportingranch.com
SUMMARY:Lunch Pavilion Open To The Public
DESCRIPTION:
URL:https://quailcreeksportingranch.com/event/lunch-pavilion-open-to-the-public/2025-04-19/
LOCATION:Quail Creek Sporting Ranch
CATEGORIES:Weekly
ORGANIZER;CN="Quail Creek Sporting Ranch":MAILTO:admin@quailcreeksportingranch.com
END:VEVENT
BEGIN:VEVENT
DTSTART;TZID=America/New_York:20250419T070000
DTEND;TZID=America/New_York:20250419T150000
DTSTAMP:20260424T052813
CREATED:20240513T163157Z
LAST-MODIFIED:20240513T163158Z
UID:10015397-1745046000-1745074800@quailcreeksportingranch.com
SUMMARY:Sporting Clays Course Open To The Public
DESCRIPTION:
URL:https://quailcreeksportingranch.com/event/sporting-clays-course-open-to-the-public-2/2025-04-19/
LOCATION:Quail Creek Sporting Ranch
CATEGORIES:Weekly
ORGANIZER;CN="Quail Creek Sporting Ranch":MAILTO:admin@quailcreeksportingranch.com
END:VEVENT
BEGIN:VEVENT
DTSTART;TZID=America/New_York:20250418T110000
DTEND;TZID=America/New_York:20250418T140000
DTSTAMP:20260424T052813
CREATED:20230406T193033Z
LAST-MODIFIED:20251231T181729Z
UID:10008990-1744974000-1744984800@quailcreeksportingranch.com
SUMMARY:Lunch Pavilion Open To The Public
DESCRIPTION:
URL:https://quailcreeksportingranch.com/event/lunch-pavilion-open-to-the-public/2025-04-18/
LOCATION:Quail Creek Sporting Ranch
CATEGORIES:Weekly
ORGANIZER;CN="Quail Creek Sporting Ranch":MAILTO:admin@quailcreeksportingranch.com
END:VEVENT
BEGIN:VEVENT
DTSTART;TZID=America/New_York:20250418T070000
DTEND;TZID=America/New_York:20250418T150000
DTSTAMP:20260424T052813
CREATED:20240513T163157Z
LAST-MODIFIED:20240513T163158Z
UID:10015396-1744959600-1744988400@quailcreeksportingranch.com
SUMMARY:Sporting Clays Course Open To The Public
DESCRIPTION:
URL:https://quailcreeksportingranch.com/event/sporting-clays-course-open-to-the-public-2/2025-04-18/
LOCATION:Quail Creek Sporting Ranch
CATEGORIES:Weekly
ORGANIZER;CN="Quail Creek Sporting Ranch":MAILTO:admin@quailcreeksportingranch.com
END:VEVENT
BEGIN:VEVENT
DTSTART;TZID=America/New_York:20250417T110000
DTEND;TZID=America/New_York:20250417T140000
DTSTAMP:20260424T052813
CREATED:20230406T193033Z
LAST-MODIFIED:20251231T181729Z
UID:10008989-1744887600-1744898400@quailcreeksportingranch.com
SUMMARY:Lunch Pavilion Open To The Public
DESCRIPTION:
URL:https://quailcreeksportingranch.com/event/lunch-pavilion-open-to-the-public/2025-04-17/
LOCATION:Quail Creek Sporting Ranch
CATEGORIES:Weekly
ORGANIZER;CN="Quail Creek Sporting Ranch":MAILTO:admin@quailcreeksportingranch.com
END:VEVENT
BEGIN:VEVENT
DTSTART;TZID=America/New_York:20250417T070000
DTEND;TZID=America/New_York:20250417T150000
DTSTAMP:20260424T052813
CREATED:20240513T163157Z
LAST-MODIFIED:20240513T163158Z
UID:10015395-1744873200-1744902000@quailcreeksportingranch.com
SUMMARY:Sporting Clays Course Open To The Public
DESCRIPTION:
URL:https://quailcreeksportingranch.com/event/sporting-clays-course-open-to-the-public-2/2025-04-17/
LOCATION:Quail Creek Sporting Ranch
CATEGORIES:Weekly
ORGANIZER;CN="Quail Creek Sporting Ranch":MAILTO:admin@quailcreeksportingranch.com
END:VEVENT
BEGIN:VEVENT
DTSTART;TZID=America/New_York:20250416T110000
DTEND;TZID=America/New_York:20250416T140000
DTSTAMP:20260424T052813
CREATED:20230406T193033Z
LAST-MODIFIED:20251231T181729Z
UID:10008988-1744801200-1744812000@quailcreeksportingranch.com
SUMMARY:Lunch Pavilion Open To The Public
DESCRIPTION:
URL:https://quailcreeksportingranch.com/event/lunch-pavilion-open-to-the-public/2025-04-16/
LOCATION:Quail Creek Sporting Ranch
CATEGORIES:Weekly
ORGANIZER;CN="Quail Creek Sporting Ranch":MAILTO:admin@quailcreeksportingranch.com
END:VEVENT
BEGIN:VEVENT
DTSTART;TZID=America/New_York:20250416T070000
DTEND;TZID=America/New_York:20250416T150000
DTSTAMP:20260424T052813
CREATED:20240513T163157Z
LAST-MODIFIED:20240513T163158Z
UID:10015394-1744786800-1744815600@quailcreeksportingranch.com
SUMMARY:Sporting Clays Course Open To The Public
DESCRIPTION:
URL:https://quailcreeksportingranch.com/event/sporting-clays-course-open-to-the-public-2/2025-04-16/
LOCATION:Quail Creek Sporting Ranch
CATEGORIES:Weekly
ORGANIZER;CN="Quail Creek Sporting Ranch":MAILTO:admin@quailcreeksportingranch.com
END:VEVENT
BEGIN:VEVENT
DTSTART;TZID=America/New_York:20250415T110000
DTEND;TZID=America/New_York:20250415T140000
DTSTAMP:20260424T052813
CREATED:20230406T193033Z
LAST-MODIFIED:20251231T181729Z
UID:10008987-1744714800-1744725600@quailcreeksportingranch.com
SUMMARY:Lunch Pavilion Open To The Public
DESCRIPTION:
URL:https://quailcreeksportingranch.com/event/lunch-pavilion-open-to-the-public/2025-04-15/
LOCATION:Quail Creek Sporting Ranch
CATEGORIES:Weekly
ORGANIZER;CN="Quail Creek Sporting Ranch":MAILTO:admin@quailcreeksportingranch.com
END:VEVENT
BEGIN:VEVENT
DTSTART;TZID=America/New_York:20250414T110000
DTEND;TZID=America/New_York:20250414T140000
DTSTAMP:20260424T052813
CREATED:20230406T193033Z
LAST-MODIFIED:20260202T161300Z
UID:10018121-1744628400-1744639200@quailcreeksportingranch.com
SUMMARY:Lunch Pavilion Open 11am-2pm
DESCRIPTION:
URL:https://quailcreeksportingranch.com/event/lunch-pavilion-closed/2025-04-14/
LOCATION:Quail Creek Sporting Ranch
CATEGORIES:Closure,Weekly
ORGANIZER;CN="Quail Creek Sporting Ranch":MAILTO:admin@quailcreeksportingranch.com
END:VEVENT
BEGIN:VEVENT
DTSTART;TZID=America/New_York:20250413T110000
DTEND;TZID=America/New_York:20250413T140000
DTSTAMP:20260424T052813
CREATED:20230406T193033Z
LAST-MODIFIED:20251231T181729Z
UID:10008985-1744542000-1744552800@quailcreeksportingranch.com
SUMMARY:Lunch Pavilion Open To The Public
DESCRIPTION:
URL:https://quailcreeksportingranch.com/event/lunch-pavilion-open-to-the-public/2025-04-13/
LOCATION:Quail Creek Sporting Ranch
CATEGORIES:Weekly
ORGANIZER;CN="Quail Creek Sporting Ranch":MAILTO:admin@quailcreeksportingranch.com
END:VEVENT
BEGIN:VEVENT
DTSTART;TZID=America/New_York:20250413T070000
DTEND;TZID=America/New_York:20250413T150000
DTSTAMP:20260424T052813
CREATED:20240513T163157Z
LAST-MODIFIED:20240513T163158Z
UID:10015393-1744527600-1744556400@quailcreeksportingranch.com
SUMMARY:Sporting Clays Course Open To The Public
DESCRIPTION:
URL:https://quailcreeksportingranch.com/event/sporting-clays-course-open-to-the-public-2/2025-04-13/
LOCATION:Quail Creek Sporting Ranch
CATEGORIES:Weekly
ORGANIZER;CN="Quail Creek Sporting Ranch":MAILTO:admin@quailcreeksportingranch.com
END:VEVENT
BEGIN:VEVENT
DTSTART;TZID=America/New_York:20250412T110000
DTEND;TZID=America/New_York:20250412T140000
DTSTAMP:20260424T052813
CREATED:20230406T193033Z
LAST-MODIFIED:20251231T181729Z
UID:10010813-1744455600-1744466400@quailcreeksportingranch.com
SUMMARY:Lunch Pavilion Open To The Public
DESCRIPTION:
URL:https://quailcreeksportingranch.com/event/lunch-pavilion-open-to-the-public/2025-04-12/
LOCATION:Quail Creek Sporting Ranch
CATEGORIES:Weekly
ORGANIZER;CN="Quail Creek Sporting Ranch":MAILTO:admin@quailcreeksportingranch.com
END:VEVENT
BEGIN:VEVENT
DTSTART;TZID=America/New_York:20250412T070000
DTEND;TZID=America/New_York:20250412T150000
DTSTAMP:20260424T052813
CREATED:20240513T163157Z
LAST-MODIFIED:20240513T163158Z
UID:10015392-1744441200-1744470000@quailcreeksportingranch.com
SUMMARY:Sporting Clays Course Open To The Public
DESCRIPTION:
URL:https://quailcreeksportingranch.com/event/sporting-clays-course-open-to-the-public-2/2025-04-12/
LOCATION:Quail Creek Sporting Ranch
CATEGORIES:Weekly
ORGANIZER;CN="Quail Creek Sporting Ranch":MAILTO:admin@quailcreeksportingranch.com
END:VEVENT
BEGIN:VEVENT
DTSTART;TZID=America/New_York:20250411T110000
DTEND;TZID=America/New_York:20250411T140000
DTSTAMP:20260424T052813
CREATED:20230406T193033Z
LAST-MODIFIED:20251231T181729Z
UID:10008984-1744369200-1744380000@quailcreeksportingranch.com
SUMMARY:Lunch Pavilion Open To The Public
DESCRIPTION:
URL:https://quailcreeksportingranch.com/event/lunch-pavilion-open-to-the-public/2025-04-11/
LOCATION:Quail Creek Sporting Ranch
CATEGORIES:Weekly
ORGANIZER;CN="Quail Creek Sporting Ranch":MAILTO:admin@quailcreeksportingranch.com
END:VEVENT
BEGIN:VEVENT
DTSTART;TZID=America/New_York:20250411T070000
DTEND;TZID=America/New_York:20250411T150000
DTSTAMP:20260424T052813
CREATED:20240513T163157Z
LAST-MODIFIED:20240513T163158Z
UID:10015391-1744354800-1744383600@quailcreeksportingranch.com
SUMMARY:Sporting Clays Course Open To The Public
DESCRIPTION:
URL:https://quailcreeksportingranch.com/event/sporting-clays-course-open-to-the-public-2/2025-04-11/
LOCATION:Quail Creek Sporting Ranch
CATEGORIES:Weekly
ORGANIZER;CN="Quail Creek Sporting Ranch":MAILTO:admin@quailcreeksportingranch.com
END:VEVENT
BEGIN:VEVENT
DTSTART;TZID=America/New_York:20250410T110000
DTEND;TZID=America/New_York:20250410T140000
DTSTAMP:20260424T052813
CREATED:20230406T193033Z
LAST-MODIFIED:20251231T181729Z
UID:10008983-1744282800-1744293600@quailcreeksportingranch.com
SUMMARY:Lunch Pavilion Open To The Public
DESCRIPTION:
URL:https://quailcreeksportingranch.com/event/lunch-pavilion-open-to-the-public/2025-04-10/
LOCATION:Quail Creek Sporting Ranch
CATEGORIES:Weekly
ORGANIZER;CN="Quail Creek Sporting Ranch":MAILTO:admin@quailcreeksportingranch.com
END:VEVENT
BEGIN:VEVENT
DTSTART;TZID=America/New_York:20250410T070000
DTEND;TZID=America/New_York:20250410T150000
DTSTAMP:20260424T052813
CREATED:20240513T163157Z
LAST-MODIFIED:20240513T163158Z
UID:10015390-1744268400-1744297200@quailcreeksportingranch.com
SUMMARY:Sporting Clays Course Open To The Public
DESCRIPTION:
URL:https://quailcreeksportingranch.com/event/sporting-clays-course-open-to-the-public-2/2025-04-10/
LOCATION:Quail Creek Sporting Ranch
CATEGORIES:Weekly
ORGANIZER;CN="Quail Creek Sporting Ranch":MAILTO:admin@quailcreeksportingranch.com
END:VEVENT
BEGIN:VEVENT
DTSTART;TZID=America/New_York:20250409T110000
DTEND;TZID=America/New_York:20250409T140000
DTSTAMP:20260424T052813
CREATED:20230406T193033Z
LAST-MODIFIED:20251231T181729Z
UID:10008982-1744196400-1744207200@quailcreeksportingranch.com
SUMMARY:Lunch Pavilion Open To The Public
DESCRIPTION:
URL:https://quailcreeksportingranch.com/event/lunch-pavilion-open-to-the-public/2025-04-09/
LOCATION:Quail Creek Sporting Ranch
CATEGORIES:Weekly
ORGANIZER;CN="Quail Creek Sporting Ranch":MAILTO:admin@quailcreeksportingranch.com
END:VEVENT
BEGIN:VEVENT
DTSTART;TZID=America/New_York:20250409T070000
DTEND;TZID=America/New_York:20250409T150000
DTSTAMP:20260424T052813
CREATED:20240513T163157Z
LAST-MODIFIED:20240513T163158Z
UID:10015389-1744182000-1744210800@quailcreeksportingranch.com
SUMMARY:Sporting Clays Course Open To The Public
DESCRIPTION:
URL:https://quailcreeksportingranch.com/event/sporting-clays-course-open-to-the-public-2/2025-04-09/
LOCATION:Quail Creek Sporting Ranch
CATEGORIES:Weekly
ORGANIZER;CN="Quail Creek Sporting Ranch":MAILTO:admin@quailcreeksportingranch.com
END:VEVENT
BEGIN:VEVENT
DTSTART;TZID=America/New_York:20250408T110000
DTEND;TZID=America/New_York:20250408T140000
DTSTAMP:20260424T052813
CREATED:20230406T193033Z
LAST-MODIFIED:20251231T181729Z
UID:10008981-1744110000-1744120800@quailcreeksportingranch.com
SUMMARY:Lunch Pavilion Open To The Public
DESCRIPTION:
URL:https://quailcreeksportingranch.com/event/lunch-pavilion-open-to-the-public/2025-04-08/
LOCATION:Quail Creek Sporting Ranch
CATEGORIES:Weekly
ORGANIZER;CN="Quail Creek Sporting Ranch":MAILTO:admin@quailcreeksportingranch.com
END:VEVENT
BEGIN:VEVENT
DTSTART;TZID=America/New_York:20250407T110000
DTEND;TZID=America/New_York:20250407T140000
DTSTAMP:20260424T052813
CREATED:20230406T193033Z
LAST-MODIFIED:20260202T161300Z
UID:10018120-1744023600-1744034400@quailcreeksportingranch.com
SUMMARY:Lunch Pavilion Open 11am-2pm
DESCRIPTION:
URL:https://quailcreeksportingranch.com/event/lunch-pavilion-closed/2025-04-07/
LOCATION:Quail Creek Sporting Ranch
CATEGORIES:Closure,Weekly
ORGANIZER;CN="Quail Creek Sporting Ranch":MAILTO:admin@quailcreeksportingranch.com
END:VEVENT
END:VCALENDAR