BEGIN:VCALENDAR
VERSION:2.0
PRODID:-//Quail Creek Sporting Ranch - ECPv6.15.15//NONSGML v1.0//EN
CALSCALE:GREGORIAN
METHOD:PUBLISH
X-WR-CALNAME:Quail Creek Sporting Ranch
X-ORIGINAL-URL:https://quailcreeksportingranch.com
X-WR-CALDESC:Events for Quail Creek Sporting Ranch
REFRESH-INTERVAL;VALUE=DURATION:PT1H
X-Robots-Tag:noindex
X-PUBLISHED-TTL:PT1H
BEGIN:VTIMEZONE
TZID:America/New_York
BEGIN:DAYLIGHT
TZOFFSETFROM:-0500
TZOFFSETTO:-0400
TZNAME:EDT
DTSTART:20240310T070000
END:DAYLIGHT
BEGIN:STANDARD
TZOFFSETFROM:-0400
TZOFFSETTO:-0500
TZNAME:EST
DTSTART:20241103T060000
END:STANDARD
BEGIN:DAYLIGHT
TZOFFSETFROM:-0500
TZOFFSETTO:-0400
TZNAME:EDT
DTSTART:20250309T070000
END:DAYLIGHT
BEGIN:STANDARD
TZOFFSETFROM:-0400
TZOFFSETTO:-0500
TZNAME:EST
DTSTART:20251102T060000
END:STANDARD
BEGIN:DAYLIGHT
TZOFFSETFROM:-0500
TZOFFSETTO:-0400
TZNAME:EDT
DTSTART:20260308T070000
END:DAYLIGHT
BEGIN:STANDARD
TZOFFSETFROM:-0400
TZOFFSETTO:-0500
TZNAME:EST
DTSTART:20261101T060000
END:STANDARD
END:VTIMEZONE
BEGIN:VEVENT
DTSTART;TZID=America/New_York:20250522T110000
DTEND;TZID=America/New_York:20250522T140000
DTSTAMP:20260423T224330
CREATED:20230406T193033Z
LAST-MODIFIED:20251231T181729Z
UID:10009019-1747911600-1747922400@quailcreeksportingranch.com
SUMMARY:Lunch Pavilion Open To The Public
DESCRIPTION:
URL:https://quailcreeksportingranch.com/event/lunch-pavilion-open-to-the-public/2025-05-22/
LOCATION:Quail Creek Sporting Ranch
CATEGORIES:Weekly
ORGANIZER;CN="Quail Creek Sporting Ranch":MAILTO:admin@quailcreeksportingranch.com
END:VEVENT
BEGIN:VEVENT
DTSTART;TZID=America/New_York:20250522T070000
DTEND;TZID=America/New_York:20250522T150000
DTSTAMP:20260423T224330
CREATED:20240513T163157Z
LAST-MODIFIED:20240513T163158Z
UID:10015420-1747897200-1747926000@quailcreeksportingranch.com
SUMMARY:Sporting Clays Course Open To The Public
DESCRIPTION:
URL:https://quailcreeksportingranch.com/event/sporting-clays-course-open-to-the-public-2/2025-05-22/
LOCATION:Quail Creek Sporting Ranch
CATEGORIES:Weekly
ORGANIZER;CN="Quail Creek Sporting Ranch":MAILTO:admin@quailcreeksportingranch.com
END:VEVENT
BEGIN:VEVENT
DTSTART;TZID=America/New_York:20250521T110000
DTEND;TZID=America/New_York:20250521T140000
DTSTAMP:20260423T224330
CREATED:20230406T193033Z
LAST-MODIFIED:20251231T181729Z
UID:10009018-1747825200-1747836000@quailcreeksportingranch.com
SUMMARY:Lunch Pavilion Open To The Public
DESCRIPTION:
URL:https://quailcreeksportingranch.com/event/lunch-pavilion-open-to-the-public/2025-05-21/
LOCATION:Quail Creek Sporting Ranch
CATEGORIES:Weekly
ORGANIZER;CN="Quail Creek Sporting Ranch":MAILTO:admin@quailcreeksportingranch.com
END:VEVENT
BEGIN:VEVENT
DTSTART;TZID=America/New_York:20250521T070000
DTEND;TZID=America/New_York:20250521T150000
DTSTAMP:20260423T224330
CREATED:20240513T163157Z
LAST-MODIFIED:20240513T163158Z
UID:10015419-1747810800-1747839600@quailcreeksportingranch.com
SUMMARY:Sporting Clays Course Open To The Public
DESCRIPTION:
URL:https://quailcreeksportingranch.com/event/sporting-clays-course-open-to-the-public-2/2025-05-21/
LOCATION:Quail Creek Sporting Ranch
CATEGORIES:Weekly
ORGANIZER;CN="Quail Creek Sporting Ranch":MAILTO:admin@quailcreeksportingranch.com
END:VEVENT
BEGIN:VEVENT
DTSTART;TZID=America/New_York:20250520T110000
DTEND;TZID=America/New_York:20250520T140000
DTSTAMP:20260423T224330
CREATED:20230406T193033Z
LAST-MODIFIED:20251231T181729Z
UID:10009017-1747738800-1747749600@quailcreeksportingranch.com
SUMMARY:Lunch Pavilion Open To The Public
DESCRIPTION:
URL:https://quailcreeksportingranch.com/event/lunch-pavilion-open-to-the-public/2025-05-20/
LOCATION:Quail Creek Sporting Ranch
CATEGORIES:Weekly
ORGANIZER;CN="Quail Creek Sporting Ranch":MAILTO:admin@quailcreeksportingranch.com
END:VEVENT
BEGIN:VEVENT
DTSTART;TZID=America/New_York:20250519T110000
DTEND;TZID=America/New_York:20250519T140000
DTSTAMP:20260423T224330
CREATED:20230406T193033Z
LAST-MODIFIED:20260202T161300Z
UID:10018126-1747652400-1747663200@quailcreeksportingranch.com
SUMMARY:Lunch Pavilion Open 11am-2pm
DESCRIPTION:
URL:https://quailcreeksportingranch.com/event/lunch-pavilion-closed/2025-05-19/
LOCATION:Quail Creek Sporting Ranch
CATEGORIES:Closure,Weekly
ORGANIZER;CN="Quail Creek Sporting Ranch":MAILTO:admin@quailcreeksportingranch.com
END:VEVENT
BEGIN:VEVENT
DTSTART;TZID=America/New_York:20250518T110000
DTEND;TZID=America/New_York:20250518T140000
DTSTAMP:20260423T224330
CREATED:20230406T193033Z
LAST-MODIFIED:20251231T181729Z
UID:10009015-1747566000-1747576800@quailcreeksportingranch.com
SUMMARY:Lunch Pavilion Open To The Public
DESCRIPTION:
URL:https://quailcreeksportingranch.com/event/lunch-pavilion-open-to-the-public/2025-05-18/
LOCATION:Quail Creek Sporting Ranch
CATEGORIES:Weekly
ORGANIZER;CN="Quail Creek Sporting Ranch":MAILTO:admin@quailcreeksportingranch.com
END:VEVENT
BEGIN:VEVENT
DTSTART;TZID=America/New_York:20250518T070000
DTEND;TZID=America/New_York:20250518T150000
DTSTAMP:20260423T224330
CREATED:20240513T163157Z
LAST-MODIFIED:20240513T163158Z
UID:10015418-1747551600-1747580400@quailcreeksportingranch.com
SUMMARY:Sporting Clays Course Open To The Public
DESCRIPTION:
URL:https://quailcreeksportingranch.com/event/sporting-clays-course-open-to-the-public-2/2025-05-18/
LOCATION:Quail Creek Sporting Ranch
CATEGORIES:Weekly
ORGANIZER;CN="Quail Creek Sporting Ranch":MAILTO:admin@quailcreeksportingranch.com
END:VEVENT
BEGIN:VEVENT
DTSTART;TZID=America/New_York:20250517T110000
DTEND;TZID=America/New_York:20250517T140000
DTSTAMP:20260423T224330
CREATED:20230406T193033Z
LAST-MODIFIED:20251231T181729Z
UID:10010818-1747479600-1747490400@quailcreeksportingranch.com
SUMMARY:Lunch Pavilion Open To The Public
DESCRIPTION:
URL:https://quailcreeksportingranch.com/event/lunch-pavilion-open-to-the-public/2025-05-17/
LOCATION:Quail Creek Sporting Ranch
CATEGORIES:Weekly
ORGANIZER;CN="Quail Creek Sporting Ranch":MAILTO:admin@quailcreeksportingranch.com
END:VEVENT
BEGIN:VEVENT
DTSTART;TZID=America/New_York:20250517T070000
DTEND;TZID=America/New_York:20250517T150000
DTSTAMP:20260423T224330
CREATED:20240513T163157Z
LAST-MODIFIED:20240513T163158Z
UID:10015417-1747465200-1747494000@quailcreeksportingranch.com
SUMMARY:Sporting Clays Course Open To The Public
DESCRIPTION:
URL:https://quailcreeksportingranch.com/event/sporting-clays-course-open-to-the-public-2/2025-05-17/
LOCATION:Quail Creek Sporting Ranch
CATEGORIES:Weekly
ORGANIZER;CN="Quail Creek Sporting Ranch":MAILTO:admin@quailcreeksportingranch.com
END:VEVENT
BEGIN:VEVENT
DTSTART;TZID=America/New_York:20250516T110000
DTEND;TZID=America/New_York:20250516T140000
DTSTAMP:20260423T224330
CREATED:20230406T193033Z
LAST-MODIFIED:20251231T181729Z
UID:10009014-1747393200-1747404000@quailcreeksportingranch.com
SUMMARY:Lunch Pavilion Open To The Public
DESCRIPTION:
URL:https://quailcreeksportingranch.com/event/lunch-pavilion-open-to-the-public/2025-05-16/
LOCATION:Quail Creek Sporting Ranch
CATEGORIES:Weekly
ORGANIZER;CN="Quail Creek Sporting Ranch":MAILTO:admin@quailcreeksportingranch.com
END:VEVENT
BEGIN:VEVENT
DTSTART;TZID=America/New_York:20250516T070000
DTEND;TZID=America/New_York:20250516T150000
DTSTAMP:20260423T224330
CREATED:20240513T163157Z
LAST-MODIFIED:20240513T163158Z
UID:10015416-1747378800-1747407600@quailcreeksportingranch.com
SUMMARY:Sporting Clays Course Open To The Public
DESCRIPTION:
URL:https://quailcreeksportingranch.com/event/sporting-clays-course-open-to-the-public-2/2025-05-16/
LOCATION:Quail Creek Sporting Ranch
CATEGORIES:Weekly
ORGANIZER;CN="Quail Creek Sporting Ranch":MAILTO:admin@quailcreeksportingranch.com
END:VEVENT
BEGIN:VEVENT
DTSTART;TZID=America/New_York:20250515T110000
DTEND;TZID=America/New_York:20250515T140000
DTSTAMP:20260423T224330
CREATED:20230406T193033Z
LAST-MODIFIED:20251231T181729Z
UID:10009013-1747306800-1747317600@quailcreeksportingranch.com
SUMMARY:Lunch Pavilion Open To The Public
DESCRIPTION:
URL:https://quailcreeksportingranch.com/event/lunch-pavilion-open-to-the-public/2025-05-15/
LOCATION:Quail Creek Sporting Ranch
CATEGORIES:Weekly
ORGANIZER;CN="Quail Creek Sporting Ranch":MAILTO:admin@quailcreeksportingranch.com
END:VEVENT
BEGIN:VEVENT
DTSTART;TZID=America/New_York:20250515T070000
DTEND;TZID=America/New_York:20250515T150000
DTSTAMP:20260423T224330
CREATED:20240513T163157Z
LAST-MODIFIED:20240513T163158Z
UID:10015415-1747292400-1747321200@quailcreeksportingranch.com
SUMMARY:Sporting Clays Course Open To The Public
DESCRIPTION:
URL:https://quailcreeksportingranch.com/event/sporting-clays-course-open-to-the-public-2/2025-05-15/
LOCATION:Quail Creek Sporting Ranch
CATEGORIES:Weekly
ORGANIZER;CN="Quail Creek Sporting Ranch":MAILTO:admin@quailcreeksportingranch.com
END:VEVENT
BEGIN:VEVENT
DTSTART;TZID=America/New_York:20250514T110000
DTEND;TZID=America/New_York:20250514T140000
DTSTAMP:20260423T224330
CREATED:20230406T193033Z
LAST-MODIFIED:20251231T181729Z
UID:10009012-1747220400-1747231200@quailcreeksportingranch.com
SUMMARY:Lunch Pavilion Open To The Public
DESCRIPTION:
URL:https://quailcreeksportingranch.com/event/lunch-pavilion-open-to-the-public/2025-05-14/
LOCATION:Quail Creek Sporting Ranch
CATEGORIES:Weekly
ORGANIZER;CN="Quail Creek Sporting Ranch":MAILTO:admin@quailcreeksportingranch.com
END:VEVENT
BEGIN:VEVENT
DTSTART;TZID=America/New_York:20250514T070000
DTEND;TZID=America/New_York:20250514T150000
DTSTAMP:20260423T224330
CREATED:20240513T163157Z
LAST-MODIFIED:20240513T163158Z
UID:10015414-1747206000-1747234800@quailcreeksportingranch.com
SUMMARY:Sporting Clays Course Open To The Public
DESCRIPTION:
URL:https://quailcreeksportingranch.com/event/sporting-clays-course-open-to-the-public-2/2025-05-14/
LOCATION:Quail Creek Sporting Ranch
CATEGORIES:Weekly
ORGANIZER;CN="Quail Creek Sporting Ranch":MAILTO:admin@quailcreeksportingranch.com
END:VEVENT
BEGIN:VEVENT
DTSTART;TZID=America/New_York:20250513T110000
DTEND;TZID=America/New_York:20250513T140000
DTSTAMP:20260423T224330
CREATED:20230406T193033Z
LAST-MODIFIED:20251231T181729Z
UID:10009011-1747134000-1747144800@quailcreeksportingranch.com
SUMMARY:Lunch Pavilion Open To The Public
DESCRIPTION:
URL:https://quailcreeksportingranch.com/event/lunch-pavilion-open-to-the-public/2025-05-13/
LOCATION:Quail Creek Sporting Ranch
CATEGORIES:Weekly
ORGANIZER;CN="Quail Creek Sporting Ranch":MAILTO:admin@quailcreeksportingranch.com
END:VEVENT
BEGIN:VEVENT
DTSTART;TZID=America/New_York:20250512T110000
DTEND;TZID=America/New_York:20250512T140000
DTSTAMP:20260423T224330
CREATED:20230406T193033Z
LAST-MODIFIED:20260202T161300Z
UID:10018125-1747047600-1747058400@quailcreeksportingranch.com
SUMMARY:Lunch Pavilion Open 11am-2pm
DESCRIPTION:
URL:https://quailcreeksportingranch.com/event/lunch-pavilion-closed/2025-05-12/
LOCATION:Quail Creek Sporting Ranch
CATEGORIES:Closure,Weekly
ORGANIZER;CN="Quail Creek Sporting Ranch":MAILTO:admin@quailcreeksportingranch.com
END:VEVENT
BEGIN:VEVENT
DTSTART;TZID=America/New_York:20250511T110000
DTEND;TZID=America/New_York:20250511T140000
DTSTAMP:20260423T224330
CREATED:20230406T193033Z
LAST-MODIFIED:20251231T181729Z
UID:10009009-1746961200-1746972000@quailcreeksportingranch.com
SUMMARY:Lunch Pavilion Open To The Public
DESCRIPTION:
URL:https://quailcreeksportingranch.com/event/lunch-pavilion-open-to-the-public/2025-05-11/
LOCATION:Quail Creek Sporting Ranch
CATEGORIES:Weekly
ORGANIZER;CN="Quail Creek Sporting Ranch":MAILTO:admin@quailcreeksportingranch.com
END:VEVENT
BEGIN:VEVENT
DTSTART;TZID=America/New_York:20250511T070000
DTEND;TZID=America/New_York:20250511T150000
DTSTAMP:20260423T224330
CREATED:20240513T163157Z
LAST-MODIFIED:20240513T163158Z
UID:10015413-1746946800-1746975600@quailcreeksportingranch.com
SUMMARY:Sporting Clays Course Open To The Public
DESCRIPTION:
URL:https://quailcreeksportingranch.com/event/sporting-clays-course-open-to-the-public-2/2025-05-11/
LOCATION:Quail Creek Sporting Ranch
CATEGORIES:Weekly
ORGANIZER;CN="Quail Creek Sporting Ranch":MAILTO:admin@quailcreeksportingranch.com
END:VEVENT
BEGIN:VEVENT
DTSTART;TZID=America/New_York:20250510T110000
DTEND;TZID=America/New_York:20250510T140000
DTSTAMP:20260423T224330
CREATED:20230406T193033Z
LAST-MODIFIED:20251231T181729Z
UID:10010817-1746874800-1746885600@quailcreeksportingranch.com
SUMMARY:Lunch Pavilion Open To The Public
DESCRIPTION:
URL:https://quailcreeksportingranch.com/event/lunch-pavilion-open-to-the-public/2025-05-10/
LOCATION:Quail Creek Sporting Ranch
CATEGORIES:Weekly
ORGANIZER;CN="Quail Creek Sporting Ranch":MAILTO:admin@quailcreeksportingranch.com
END:VEVENT
BEGIN:VEVENT
DTSTART;TZID=America/New_York:20250510T070000
DTEND;TZID=America/New_York:20250510T150000
DTSTAMP:20260423T224330
CREATED:20240513T163157Z
LAST-MODIFIED:20240513T163158Z
UID:10015412-1746860400-1746889200@quailcreeksportingranch.com
SUMMARY:Sporting Clays Course Open To The Public
DESCRIPTION:
URL:https://quailcreeksportingranch.com/event/sporting-clays-course-open-to-the-public-2/2025-05-10/
LOCATION:Quail Creek Sporting Ranch
CATEGORIES:Weekly
ORGANIZER;CN="Quail Creek Sporting Ranch":MAILTO:admin@quailcreeksportingranch.com
END:VEVENT
BEGIN:VEVENT
DTSTART;TZID=America/New_York:20250509T110000
DTEND;TZID=America/New_York:20250509T140000
DTSTAMP:20260423T224330
CREATED:20230406T193033Z
LAST-MODIFIED:20251231T181729Z
UID:10009008-1746788400-1746799200@quailcreeksportingranch.com
SUMMARY:Lunch Pavilion Open To The Public
DESCRIPTION:
URL:https://quailcreeksportingranch.com/event/lunch-pavilion-open-to-the-public/2025-05-09/
LOCATION:Quail Creek Sporting Ranch
CATEGORIES:Weekly
ORGANIZER;CN="Quail Creek Sporting Ranch":MAILTO:admin@quailcreeksportingranch.com
END:VEVENT
BEGIN:VEVENT
DTSTART;TZID=America/New_York:20250509T070000
DTEND;TZID=America/New_York:20250509T150000
DTSTAMP:20260423T224330
CREATED:20240513T163157Z
LAST-MODIFIED:20240513T163158Z
UID:10015411-1746774000-1746802800@quailcreeksportingranch.com
SUMMARY:Sporting Clays Course Open To The Public
DESCRIPTION:
URL:https://quailcreeksportingranch.com/event/sporting-clays-course-open-to-the-public-2/2025-05-09/
LOCATION:Quail Creek Sporting Ranch
CATEGORIES:Weekly
ORGANIZER;CN="Quail Creek Sporting Ranch":MAILTO:admin@quailcreeksportingranch.com
END:VEVENT
BEGIN:VEVENT
DTSTART;TZID=America/New_York:20250508T110000
DTEND;TZID=America/New_York:20250508T140000
DTSTAMP:20260423T224330
CREATED:20230406T193033Z
LAST-MODIFIED:20251231T181729Z
UID:10009007-1746702000-1746712800@quailcreeksportingranch.com
SUMMARY:Lunch Pavilion Open To The Public
DESCRIPTION:
URL:https://quailcreeksportingranch.com/event/lunch-pavilion-open-to-the-public/2025-05-08/
LOCATION:Quail Creek Sporting Ranch
CATEGORIES:Weekly
ORGANIZER;CN="Quail Creek Sporting Ranch":MAILTO:admin@quailcreeksportingranch.com
END:VEVENT
BEGIN:VEVENT
DTSTART;TZID=America/New_York:20250508T070000
DTEND;TZID=America/New_York:20250508T150000
DTSTAMP:20260423T224330
CREATED:20240513T163157Z
LAST-MODIFIED:20240513T163158Z
UID:10015410-1746687600-1746716400@quailcreeksportingranch.com
SUMMARY:Sporting Clays Course Open To The Public
DESCRIPTION:
URL:https://quailcreeksportingranch.com/event/sporting-clays-course-open-to-the-public-2/2025-05-08/
LOCATION:Quail Creek Sporting Ranch
CATEGORIES:Weekly
ORGANIZER;CN="Quail Creek Sporting Ranch":MAILTO:admin@quailcreeksportingranch.com
END:VEVENT
BEGIN:VEVENT
DTSTART;TZID=America/New_York:20250507T110000
DTEND;TZID=America/New_York:20250507T140000
DTSTAMP:20260423T224330
CREATED:20230406T193033Z
LAST-MODIFIED:20251231T181729Z
UID:10009006-1746615600-1746626400@quailcreeksportingranch.com
SUMMARY:Lunch Pavilion Open To The Public
DESCRIPTION:
URL:https://quailcreeksportingranch.com/event/lunch-pavilion-open-to-the-public/2025-05-07/
LOCATION:Quail Creek Sporting Ranch
CATEGORIES:Weekly
ORGANIZER;CN="Quail Creek Sporting Ranch":MAILTO:admin@quailcreeksportingranch.com
END:VEVENT
BEGIN:VEVENT
DTSTART;TZID=America/New_York:20250507T070000
DTEND;TZID=America/New_York:20250507T150000
DTSTAMP:20260423T224330
CREATED:20240513T163157Z
LAST-MODIFIED:20240513T163158Z
UID:10015409-1746601200-1746630000@quailcreeksportingranch.com
SUMMARY:Sporting Clays Course Open To The Public
DESCRIPTION:
URL:https://quailcreeksportingranch.com/event/sporting-clays-course-open-to-the-public-2/2025-05-07/
LOCATION:Quail Creek Sporting Ranch
CATEGORIES:Weekly
ORGANIZER;CN="Quail Creek Sporting Ranch":MAILTO:admin@quailcreeksportingranch.com
END:VEVENT
BEGIN:VEVENT
DTSTART;TZID=America/New_York:20250506T110000
DTEND;TZID=America/New_York:20250506T140000
DTSTAMP:20260423T224330
CREATED:20230406T193033Z
LAST-MODIFIED:20251231T181729Z
UID:10009005-1746529200-1746540000@quailcreeksportingranch.com
SUMMARY:Lunch Pavilion Open To The Public
DESCRIPTION:
URL:https://quailcreeksportingranch.com/event/lunch-pavilion-open-to-the-public/2025-05-06/
LOCATION:Quail Creek Sporting Ranch
CATEGORIES:Weekly
ORGANIZER;CN="Quail Creek Sporting Ranch":MAILTO:admin@quailcreeksportingranch.com
END:VEVENT
BEGIN:VEVENT
DTSTART;TZID=America/New_York:20250505T110000
DTEND;TZID=America/New_York:20250505T140000
DTSTAMP:20260423T224330
CREATED:20230406T193033Z
LAST-MODIFIED:20260202T161300Z
UID:10018124-1746442800-1746453600@quailcreeksportingranch.com
SUMMARY:Lunch Pavilion Open 11am-2pm
DESCRIPTION:
URL:https://quailcreeksportingranch.com/event/lunch-pavilion-closed/2025-05-05/
LOCATION:Quail Creek Sporting Ranch
CATEGORIES:Closure,Weekly
ORGANIZER;CN="Quail Creek Sporting Ranch":MAILTO:admin@quailcreeksportingranch.com
END:VEVENT
END:VCALENDAR