BEGIN:VCALENDAR
VERSION:2.0
PRODID:-//Quail Creek Sporting Ranch - ECPv6.15.15//NONSGML v1.0//EN
CALSCALE:GREGORIAN
METHOD:PUBLISH
X-WR-CALNAME:Quail Creek Sporting Ranch
X-ORIGINAL-URL:https://quailcreeksportingranch.com
X-WR-CALDESC:Events for Quail Creek Sporting Ranch
REFRESH-INTERVAL;VALUE=DURATION:PT1H
X-Robots-Tag:noindex
X-PUBLISHED-TTL:PT1H
BEGIN:VTIMEZONE
TZID:America/New_York
BEGIN:DAYLIGHT
TZOFFSETFROM:-0500
TZOFFSETTO:-0400
TZNAME:EDT
DTSTART:20240310T070000
END:DAYLIGHT
BEGIN:STANDARD
TZOFFSETFROM:-0400
TZOFFSETTO:-0500
TZNAME:EST
DTSTART:20241103T060000
END:STANDARD
BEGIN:DAYLIGHT
TZOFFSETFROM:-0500
TZOFFSETTO:-0400
TZNAME:EDT
DTSTART:20250309T070000
END:DAYLIGHT
BEGIN:STANDARD
TZOFFSETFROM:-0400
TZOFFSETTO:-0500
TZNAME:EST
DTSTART:20251102T060000
END:STANDARD
BEGIN:DAYLIGHT
TZOFFSETFROM:-0500
TZOFFSETTO:-0400
TZNAME:EDT
DTSTART:20260308T070000
END:DAYLIGHT
BEGIN:STANDARD
TZOFFSETFROM:-0400
TZOFFSETTO:-0500
TZNAME:EST
DTSTART:20261101T060000
END:STANDARD
END:VTIMEZONE
BEGIN:VEVENT
DTSTART;TZID=America/New_York:20251022T070000
DTEND;TZID=America/New_York:20251022T150000
DTSTAMP:20260422T082203
CREATED:20240513T163157Z
LAST-MODIFIED:20240513T163158Z
UID:10015529-1761116400-1761145200@quailcreeksportingranch.com
SUMMARY:Sporting Clays Course Open To The Public
DESCRIPTION:
URL:https://quailcreeksportingranch.com/event/sporting-clays-course-open-to-the-public-2/2025-10-22/
LOCATION:Quail Creek Sporting Ranch
CATEGORIES:Weekly
ORGANIZER;CN="Quail Creek Sporting Ranch":MAILTO:admin@quailcreeksportingranch.com
END:VEVENT
BEGIN:VEVENT
DTSTART;TZID=America/New_York:20251021T110000
DTEND;TZID=America/New_York:20251021T140000
DTSTAMP:20260422T082203
CREATED:20230406T193033Z
LAST-MODIFIED:20251231T181729Z
UID:10009149-1761044400-1761055200@quailcreeksportingranch.com
SUMMARY:Lunch Pavilion Open To The Public
DESCRIPTION:
URL:https://quailcreeksportingranch.com/event/lunch-pavilion-open-to-the-public/2025-10-21/
LOCATION:Quail Creek Sporting Ranch
CATEGORIES:Weekly
ORGANIZER;CN="Quail Creek Sporting Ranch":MAILTO:admin@quailcreeksportingranch.com
END:VEVENT
BEGIN:VEVENT
DTSTART;TZID=America/New_York:20251020T110000
DTEND;TZID=America/New_York:20251020T140000
DTSTAMP:20260422T082203
CREATED:20230406T193033Z
LAST-MODIFIED:20260202T161300Z
UID:10018148-1760958000-1760968800@quailcreeksportingranch.com
SUMMARY:Lunch Pavilion Open 11am-2pm
DESCRIPTION:
URL:https://quailcreeksportingranch.com/event/lunch-pavilion-closed/2025-10-20/
LOCATION:Quail Creek Sporting Ranch
CATEGORIES:Closure,Weekly
ORGANIZER;CN="Quail Creek Sporting Ranch":MAILTO:admin@quailcreeksportingranch.com
END:VEVENT
BEGIN:VEVENT
DTSTART;TZID=America/New_York:20251019T110000
DTEND;TZID=America/New_York:20251019T140000
DTSTAMP:20260422T082203
CREATED:20230406T193033Z
LAST-MODIFIED:20251231T181729Z
UID:10009147-1760871600-1760882400@quailcreeksportingranch.com
SUMMARY:Lunch Pavilion Open To The Public
DESCRIPTION:
URL:https://quailcreeksportingranch.com/event/lunch-pavilion-open-to-the-public/2025-10-19/
LOCATION:Quail Creek Sporting Ranch
CATEGORIES:Weekly
ORGANIZER;CN="Quail Creek Sporting Ranch":MAILTO:admin@quailcreeksportingranch.com
END:VEVENT
BEGIN:VEVENT
DTSTART;TZID=America/New_York:20251018T110000
DTEND;TZID=America/New_York:20251018T140000
DTSTAMP:20260422T082203
CREATED:20230406T193033Z
LAST-MODIFIED:20251231T181729Z
UID:10010840-1760785200-1760796000@quailcreeksportingranch.com
SUMMARY:Lunch Pavilion Open To The Public
DESCRIPTION:
URL:https://quailcreeksportingranch.com/event/lunch-pavilion-open-to-the-public/2025-10-18/
LOCATION:Quail Creek Sporting Ranch
CATEGORIES:Weekly
ORGANIZER;CN="Quail Creek Sporting Ranch":MAILTO:admin@quailcreeksportingranch.com
END:VEVENT
BEGIN:VEVENT
DTSTART;TZID=America/New_York:20251018T070000
DTEND;TZID=America/New_York:20251018T150000
DTSTAMP:20260422T082203
CREATED:20240513T163157Z
LAST-MODIFIED:20240513T163158Z
UID:10015527-1760770800-1760799600@quailcreeksportingranch.com
SUMMARY:Sporting Clays Course Open To The Public
DESCRIPTION:
URL:https://quailcreeksportingranch.com/event/sporting-clays-course-open-to-the-public-2/2025-10-18/
LOCATION:Quail Creek Sporting Ranch
CATEGORIES:Weekly
ORGANIZER;CN="Quail Creek Sporting Ranch":MAILTO:admin@quailcreeksportingranch.com
END:VEVENT
BEGIN:VEVENT
DTSTART;TZID=America/New_York:20251017T110000
DTEND;TZID=America/New_York:20251017T140000
DTSTAMP:20260422T082203
CREATED:20230406T193033Z
LAST-MODIFIED:20251231T181729Z
UID:10009146-1760698800-1760709600@quailcreeksportingranch.com
SUMMARY:Lunch Pavilion Open To The Public
DESCRIPTION:
URL:https://quailcreeksportingranch.com/event/lunch-pavilion-open-to-the-public/2025-10-17/
LOCATION:Quail Creek Sporting Ranch
CATEGORIES:Weekly
ORGANIZER;CN="Quail Creek Sporting Ranch":MAILTO:admin@quailcreeksportingranch.com
END:VEVENT
BEGIN:VEVENT
DTSTART;TZID=America/New_York:20251017T070000
DTEND;TZID=America/New_York:20251017T150000
DTSTAMP:20260422T082203
CREATED:20240513T163157Z
LAST-MODIFIED:20240513T163158Z
UID:10015526-1760684400-1760713200@quailcreeksportingranch.com
SUMMARY:Sporting Clays Course Open To The Public
DESCRIPTION:
URL:https://quailcreeksportingranch.com/event/sporting-clays-course-open-to-the-public-2/2025-10-17/
LOCATION:Quail Creek Sporting Ranch
CATEGORIES:Weekly
ORGANIZER;CN="Quail Creek Sporting Ranch":MAILTO:admin@quailcreeksportingranch.com
END:VEVENT
BEGIN:VEVENT
DTSTART;TZID=America/New_York:20251016T110000
DTEND;TZID=America/New_York:20251016T140000
DTSTAMP:20260422T082203
CREATED:20230406T193033Z
LAST-MODIFIED:20251231T181729Z
UID:10009145-1760612400-1760623200@quailcreeksportingranch.com
SUMMARY:Lunch Pavilion Open To The Public
DESCRIPTION:
URL:https://quailcreeksportingranch.com/event/lunch-pavilion-open-to-the-public/2025-10-16/
LOCATION:Quail Creek Sporting Ranch
CATEGORIES:Weekly
ORGANIZER;CN="Quail Creek Sporting Ranch":MAILTO:admin@quailcreeksportingranch.com
END:VEVENT
BEGIN:VEVENT
DTSTART;TZID=America/New_York:20251016T070000
DTEND;TZID=America/New_York:20251016T150000
DTSTAMP:20260422T082203
CREATED:20240513T163157Z
LAST-MODIFIED:20240513T163158Z
UID:10015525-1760598000-1760626800@quailcreeksportingranch.com
SUMMARY:Sporting Clays Course Open To The Public
DESCRIPTION:
URL:https://quailcreeksportingranch.com/event/sporting-clays-course-open-to-the-public-2/2025-10-16/
LOCATION:Quail Creek Sporting Ranch
CATEGORIES:Weekly
ORGANIZER;CN="Quail Creek Sporting Ranch":MAILTO:admin@quailcreeksportingranch.com
END:VEVENT
BEGIN:VEVENT
DTSTART;TZID=America/New_York:20251015T110000
DTEND;TZID=America/New_York:20251015T140000
DTSTAMP:20260422T082203
CREATED:20230406T193033Z
LAST-MODIFIED:20251231T181729Z
UID:10009144-1760526000-1760536800@quailcreeksportingranch.com
SUMMARY:Lunch Pavilion Open To The Public
DESCRIPTION:
URL:https://quailcreeksportingranch.com/event/lunch-pavilion-open-to-the-public/2025-10-15/
LOCATION:Quail Creek Sporting Ranch
CATEGORIES:Weekly
ORGANIZER;CN="Quail Creek Sporting Ranch":MAILTO:admin@quailcreeksportingranch.com
END:VEVENT
BEGIN:VEVENT
DTSTART;TZID=America/New_York:20251015T070000
DTEND;TZID=America/New_York:20251015T150000
DTSTAMP:20260422T082203
CREATED:20240513T163157Z
LAST-MODIFIED:20240513T163158Z
UID:10015524-1760511600-1760540400@quailcreeksportingranch.com
SUMMARY:Sporting Clays Course Open To The Public
DESCRIPTION:
URL:https://quailcreeksportingranch.com/event/sporting-clays-course-open-to-the-public-2/2025-10-15/
LOCATION:Quail Creek Sporting Ranch
CATEGORIES:Weekly
ORGANIZER;CN="Quail Creek Sporting Ranch":MAILTO:admin@quailcreeksportingranch.com
END:VEVENT
BEGIN:VEVENT
DTSTART;TZID=America/New_York:20251014T110000
DTEND;TZID=America/New_York:20251014T140000
DTSTAMP:20260422T082203
CREATED:20230406T193033Z
LAST-MODIFIED:20251231T181729Z
UID:10009143-1760439600-1760450400@quailcreeksportingranch.com
SUMMARY:Lunch Pavilion Open To The Public
DESCRIPTION:
URL:https://quailcreeksportingranch.com/event/lunch-pavilion-open-to-the-public/2025-10-14/
LOCATION:Quail Creek Sporting Ranch
CATEGORIES:Weekly
ORGANIZER;CN="Quail Creek Sporting Ranch":MAILTO:admin@quailcreeksportingranch.com
END:VEVENT
BEGIN:VEVENT
DTSTART;TZID=America/New_York:20251013T110000
DTEND;TZID=America/New_York:20251013T140000
DTSTAMP:20260422T082203
CREATED:20230406T193033Z
LAST-MODIFIED:20260202T161300Z
UID:10018147-1760353200-1760364000@quailcreeksportingranch.com
SUMMARY:Lunch Pavilion Open 11am-2pm
DESCRIPTION:
URL:https://quailcreeksportingranch.com/event/lunch-pavilion-closed/2025-10-13/
LOCATION:Quail Creek Sporting Ranch
CATEGORIES:Closure,Weekly
ORGANIZER;CN="Quail Creek Sporting Ranch":MAILTO:admin@quailcreeksportingranch.com
END:VEVENT
BEGIN:VEVENT
DTSTART;TZID=America/New_York:20251012T110000
DTEND;TZID=America/New_York:20251012T140000
DTSTAMP:20260422T082203
CREATED:20230406T193033Z
LAST-MODIFIED:20251231T181729Z
UID:10009141-1760266800-1760277600@quailcreeksportingranch.com
SUMMARY:Lunch Pavilion Open To The Public
DESCRIPTION:
URL:https://quailcreeksportingranch.com/event/lunch-pavilion-open-to-the-public/2025-10-12/
LOCATION:Quail Creek Sporting Ranch
CATEGORIES:Weekly
ORGANIZER;CN="Quail Creek Sporting Ranch":MAILTO:admin@quailcreeksportingranch.com
END:VEVENT
BEGIN:VEVENT
DTSTART;TZID=America/New_York:20251012T070000
DTEND;TZID=America/New_York:20251012T150000
DTSTAMP:20260422T082203
CREATED:20240513T163157Z
LAST-MODIFIED:20240513T163158Z
UID:10015523-1760252400-1760281200@quailcreeksportingranch.com
SUMMARY:Sporting Clays Course Open To The Public
DESCRIPTION:
URL:https://quailcreeksportingranch.com/event/sporting-clays-course-open-to-the-public-2/2025-10-12/
LOCATION:Quail Creek Sporting Ranch
CATEGORIES:Weekly
ORGANIZER;CN="Quail Creek Sporting Ranch":MAILTO:admin@quailcreeksportingranch.com
END:VEVENT
BEGIN:VEVENT
DTSTART;TZID=America/New_York:20251011T110000
DTEND;TZID=America/New_York:20251011T140000
DTSTAMP:20260422T082203
CREATED:20230406T193033Z
LAST-MODIFIED:20251231T181729Z
UID:10010839-1760180400-1760191200@quailcreeksportingranch.com
SUMMARY:Lunch Pavilion Open To The Public
DESCRIPTION:
URL:https://quailcreeksportingranch.com/event/lunch-pavilion-open-to-the-public/2025-10-11/
LOCATION:Quail Creek Sporting Ranch
CATEGORIES:Weekly
ORGANIZER;CN="Quail Creek Sporting Ranch":MAILTO:admin@quailcreeksportingranch.com
END:VEVENT
BEGIN:VEVENT
DTSTART;TZID=America/New_York:20251011T070000
DTEND;TZID=America/New_York:20251011T150000
DTSTAMP:20260422T082203
CREATED:20240513T163157Z
LAST-MODIFIED:20240513T163158Z
UID:10015522-1760166000-1760194800@quailcreeksportingranch.com
SUMMARY:Sporting Clays Course Open To The Public
DESCRIPTION:
URL:https://quailcreeksportingranch.com/event/sporting-clays-course-open-to-the-public-2/2025-10-11/
LOCATION:Quail Creek Sporting Ranch
CATEGORIES:Weekly
ORGANIZER;CN="Quail Creek Sporting Ranch":MAILTO:admin@quailcreeksportingranch.com
END:VEVENT
BEGIN:VEVENT
DTSTART;TZID=America/New_York:20251010T110000
DTEND;TZID=America/New_York:20251010T140000
DTSTAMP:20260422T082203
CREATED:20230406T193033Z
LAST-MODIFIED:20251231T181729Z
UID:10009140-1760094000-1760104800@quailcreeksportingranch.com
SUMMARY:Lunch Pavilion Open To The Public
DESCRIPTION:
URL:https://quailcreeksportingranch.com/event/lunch-pavilion-open-to-the-public/2025-10-10/
LOCATION:Quail Creek Sporting Ranch
CATEGORIES:Weekly
ORGANIZER;CN="Quail Creek Sporting Ranch":MAILTO:admin@quailcreeksportingranch.com
END:VEVENT
BEGIN:VEVENT
DTSTART;TZID=America/New_York:20251010T070000
DTEND;TZID=America/New_York:20251010T150000
DTSTAMP:20260422T082203
CREATED:20240513T163157Z
LAST-MODIFIED:20240513T163158Z
UID:10015521-1760079600-1760108400@quailcreeksportingranch.com
SUMMARY:Sporting Clays Course Open To The Public
DESCRIPTION:
URL:https://quailcreeksportingranch.com/event/sporting-clays-course-open-to-the-public-2/2025-10-10/
LOCATION:Quail Creek Sporting Ranch
CATEGORIES:Weekly
ORGANIZER;CN="Quail Creek Sporting Ranch":MAILTO:admin@quailcreeksportingranch.com
END:VEVENT
BEGIN:VEVENT
DTSTART;TZID=America/New_York:20251009T110000
DTEND;TZID=America/New_York:20251009T140000
DTSTAMP:20260422T082203
CREATED:20230406T193033Z
LAST-MODIFIED:20251231T181729Z
UID:10009139-1760007600-1760018400@quailcreeksportingranch.com
SUMMARY:Lunch Pavilion Open To The Public
DESCRIPTION:
URL:https://quailcreeksportingranch.com/event/lunch-pavilion-open-to-the-public/2025-10-09/
LOCATION:Quail Creek Sporting Ranch
CATEGORIES:Weekly
ORGANIZER;CN="Quail Creek Sporting Ranch":MAILTO:admin@quailcreeksportingranch.com
END:VEVENT
BEGIN:VEVENT
DTSTART;TZID=America/New_York:20251009T070000
DTEND;TZID=America/New_York:20251009T150000
DTSTAMP:20260422T082203
CREATED:20240513T163157Z
LAST-MODIFIED:20240513T163158Z
UID:10015520-1759993200-1760022000@quailcreeksportingranch.com
SUMMARY:Sporting Clays Course Open To The Public
DESCRIPTION:
URL:https://quailcreeksportingranch.com/event/sporting-clays-course-open-to-the-public-2/2025-10-09/
LOCATION:Quail Creek Sporting Ranch
CATEGORIES:Weekly
ORGANIZER;CN="Quail Creek Sporting Ranch":MAILTO:admin@quailcreeksportingranch.com
END:VEVENT
BEGIN:VEVENT
DTSTART;TZID=America/New_York:20251008T110000
DTEND;TZID=America/New_York:20251008T140000
DTSTAMP:20260422T082203
CREATED:20230406T193033Z
LAST-MODIFIED:20251231T181729Z
UID:10009138-1759921200-1759932000@quailcreeksportingranch.com
SUMMARY:Lunch Pavilion Open To The Public
DESCRIPTION:
URL:https://quailcreeksportingranch.com/event/lunch-pavilion-open-to-the-public/2025-10-08/
LOCATION:Quail Creek Sporting Ranch
CATEGORIES:Weekly
ORGANIZER;CN="Quail Creek Sporting Ranch":MAILTO:admin@quailcreeksportingranch.com
END:VEVENT
BEGIN:VEVENT
DTSTART;TZID=America/New_York:20251008T070000
DTEND;TZID=America/New_York:20251008T150000
DTSTAMP:20260422T082203
CREATED:20240513T163157Z
LAST-MODIFIED:20240513T163158Z
UID:10015519-1759906800-1759935600@quailcreeksportingranch.com
SUMMARY:Sporting Clays Course Open To The Public
DESCRIPTION:
URL:https://quailcreeksportingranch.com/event/sporting-clays-course-open-to-the-public-2/2025-10-08/
LOCATION:Quail Creek Sporting Ranch
CATEGORIES:Weekly
ORGANIZER;CN="Quail Creek Sporting Ranch":MAILTO:admin@quailcreeksportingranch.com
END:VEVENT
BEGIN:VEVENT
DTSTART;TZID=America/New_York:20251007T110000
DTEND;TZID=America/New_York:20251007T140000
DTSTAMP:20260422T082203
CREATED:20230406T193033Z
LAST-MODIFIED:20251231T181729Z
UID:10009137-1759834800-1759845600@quailcreeksportingranch.com
SUMMARY:Lunch Pavilion Open To The Public
DESCRIPTION:
URL:https://quailcreeksportingranch.com/event/lunch-pavilion-open-to-the-public/2025-10-07/
LOCATION:Quail Creek Sporting Ranch
CATEGORIES:Weekly
ORGANIZER;CN="Quail Creek Sporting Ranch":MAILTO:admin@quailcreeksportingranch.com
END:VEVENT
BEGIN:VEVENT
DTSTART;TZID=America/New_York:20251006T110000
DTEND;TZID=America/New_York:20251006T140000
DTSTAMP:20260422T082203
CREATED:20230406T193033Z
LAST-MODIFIED:20260202T161300Z
UID:10018146-1759748400-1759759200@quailcreeksportingranch.com
SUMMARY:Lunch Pavilion Open 11am-2pm
DESCRIPTION:
URL:https://quailcreeksportingranch.com/event/lunch-pavilion-closed/2025-10-06/
LOCATION:Quail Creek Sporting Ranch
CATEGORIES:Closure,Weekly
ORGANIZER;CN="Quail Creek Sporting Ranch":MAILTO:admin@quailcreeksportingranch.com
END:VEVENT
BEGIN:VEVENT
DTSTART;TZID=America/New_York:20251005T110000
DTEND;TZID=America/New_York:20251005T140000
DTSTAMP:20260422T082203
CREATED:20230406T193033Z
LAST-MODIFIED:20251231T181729Z
UID:10009135-1759662000-1759672800@quailcreeksportingranch.com
SUMMARY:Lunch Pavilion Open To The Public
DESCRIPTION:
URL:https://quailcreeksportingranch.com/event/lunch-pavilion-open-to-the-public/2025-10-05/
LOCATION:Quail Creek Sporting Ranch
CATEGORIES:Weekly
ORGANIZER;CN="Quail Creek Sporting Ranch":MAILTO:admin@quailcreeksportingranch.com
END:VEVENT
BEGIN:VEVENT
DTSTART;TZID=America/New_York:20251005T070000
DTEND;TZID=America/New_York:20251005T150000
DTSTAMP:20260422T082203
CREATED:20240513T163157Z
LAST-MODIFIED:20240513T163158Z
UID:10015518-1759647600-1759676400@quailcreeksportingranch.com
SUMMARY:Sporting Clays Course Open To The Public
DESCRIPTION:
URL:https://quailcreeksportingranch.com/event/sporting-clays-course-open-to-the-public-2/2025-10-05/
LOCATION:Quail Creek Sporting Ranch
CATEGORIES:Weekly
ORGANIZER;CN="Quail Creek Sporting Ranch":MAILTO:admin@quailcreeksportingranch.com
END:VEVENT
BEGIN:VEVENT
DTSTART;TZID=America/New_York:20251004T110000
DTEND;TZID=America/New_York:20251004T140000
DTSTAMP:20260422T082203
CREATED:20230406T193033Z
LAST-MODIFIED:20251231T181729Z
UID:10010838-1759575600-1759586400@quailcreeksportingranch.com
SUMMARY:Lunch Pavilion Open To The Public
DESCRIPTION:
URL:https://quailcreeksportingranch.com/event/lunch-pavilion-open-to-the-public/2025-10-04/
LOCATION:Quail Creek Sporting Ranch
CATEGORIES:Weekly
ORGANIZER;CN="Quail Creek Sporting Ranch":MAILTO:admin@quailcreeksportingranch.com
END:VEVENT
BEGIN:VEVENT
DTSTART;TZID=America/New_York:20251004T070000
DTEND;TZID=America/New_York:20251004T150000
DTSTAMP:20260422T082203
CREATED:20240513T163157Z
LAST-MODIFIED:20240513T163158Z
UID:10015517-1759561200-1759590000@quailcreeksportingranch.com
SUMMARY:Sporting Clays Course Open To The Public
DESCRIPTION:
URL:https://quailcreeksportingranch.com/event/sporting-clays-course-open-to-the-public-2/2025-10-04/
LOCATION:Quail Creek Sporting Ranch
CATEGORIES:Weekly
ORGANIZER;CN="Quail Creek Sporting Ranch":MAILTO:admin@quailcreeksportingranch.com
END:VEVENT
END:VCALENDAR