BEGIN:VCALENDAR
VERSION:2.0
PRODID:-//Quail Creek Sporting Ranch - ECPv6.15.15//NONSGML v1.0//EN
CALSCALE:GREGORIAN
METHOD:PUBLISH
X-ORIGINAL-URL:https://quailcreeksportingranch.com
X-WR-CALDESC:Events for Quail Creek Sporting Ranch
REFRESH-INTERVAL;VALUE=DURATION:PT1H
X-Robots-Tag:noindex
X-PUBLISHED-TTL:PT1H
BEGIN:VTIMEZONE
TZID:America/New_York
BEGIN:DAYLIGHT
TZOFFSETFROM:-0500
TZOFFSETTO:-0400
TZNAME:EDT
DTSTART:20240310T070000
END:DAYLIGHT
BEGIN:STANDARD
TZOFFSETFROM:-0400
TZOFFSETTO:-0500
TZNAME:EST
DTSTART:20241103T060000
END:STANDARD
BEGIN:DAYLIGHT
TZOFFSETFROM:-0500
TZOFFSETTO:-0400
TZNAME:EDT
DTSTART:20250309T070000
END:DAYLIGHT
BEGIN:STANDARD
TZOFFSETFROM:-0400
TZOFFSETTO:-0500
TZNAME:EST
DTSTART:20251102T060000
END:STANDARD
BEGIN:DAYLIGHT
TZOFFSETFROM:-0500
TZOFFSETTO:-0400
TZNAME:EDT
DTSTART:20260308T070000
END:DAYLIGHT
BEGIN:STANDARD
TZOFFSETFROM:-0400
TZOFFSETTO:-0500
TZNAME:EST
DTSTART:20261101T060000
END:STANDARD
BEGIN:DAYLIGHT
TZOFFSETFROM:-0500
TZOFFSETTO:-0400
TZNAME:EDT
DTSTART:20270314T070000
END:DAYLIGHT
BEGIN:STANDARD
TZOFFSETFROM:-0400
TZOFFSETTO:-0500
TZNAME:EST
DTSTART:20271107T060000
END:STANDARD
END:VTIMEZONE
BEGIN:VEVENT
DTSTART;TZID=America/New_York:20260104T070000
DTEND;TZID=America/New_York:20260104T150000
DTSTAMP:20260421T074637
CREATED:20251231T181605Z
LAST-MODIFIED:20260304T202514Z
UID:10015583-1767510000-1767538800@quailcreeksportingranch.com
SUMMARY:Sporting Clays Course Open To The Public
DESCRIPTION:
URL:https://quailcreeksportingranch.com/event/sporting-clays-course-open-to-the-public-2-2/2026-01-04/
LOCATION:Quail Creek Sporting Ranch
CATEGORIES:Weekly
ORGANIZER;CN="Quail Creek Sporting Ranch":MAILTO:admin@quailcreeksportingranch.com
END:VEVENT
BEGIN:VEVENT
DTSTART;TZID=America/New_York:20260103T110000
DTEND;TZID=America/New_York:20260103T140000
DTSTAMP:20260421T074637
CREATED:20230406T193033Z
LAST-MODIFIED:20251231T181729Z
UID:10010851-1767438000-1767448800@quailcreeksportingranch.com
SUMMARY:Lunch Pavilion Open To The Public
DESCRIPTION:
URL:https://quailcreeksportingranch.com/event/lunch-pavilion-open-to-the-public/2026-01-03/
LOCATION:Quail Creek Sporting Ranch
CATEGORIES:Weekly
ORGANIZER;CN="Quail Creek Sporting Ranch":MAILTO:admin@quailcreeksportingranch.com
END:VEVENT
BEGIN:VEVENT
DTSTART;TZID=America/New_York:20260103T070000
DTEND;TZID=America/New_York:20260103T150000
DTSTAMP:20260421T074637
CREATED:20251231T181605Z
LAST-MODIFIED:20260304T202514Z
UID:10015582-1767423600-1767452400@quailcreeksportingranch.com
SUMMARY:Sporting Clays Course Open To The Public
DESCRIPTION:
URL:https://quailcreeksportingranch.com/event/sporting-clays-course-open-to-the-public-2-2/2026-01-03/
LOCATION:Quail Creek Sporting Ranch
CATEGORIES:Weekly
ORGANIZER;CN="Quail Creek Sporting Ranch":MAILTO:admin@quailcreeksportingranch.com
END:VEVENT
BEGIN:VEVENT
DTSTART;TZID=America/New_York:20260102T110000
DTEND;TZID=America/New_York:20260102T140000
DTSTAMP:20260421T074637
CREATED:20230406T193033Z
LAST-MODIFIED:20251231T181729Z
UID:10009212-1767351600-1767362400@quailcreeksportingranch.com
SUMMARY:Lunch Pavilion Open To The Public
DESCRIPTION:
URL:https://quailcreeksportingranch.com/event/lunch-pavilion-open-to-the-public/2026-01-02/
LOCATION:Quail Creek Sporting Ranch
CATEGORIES:Weekly
ORGANIZER;CN="Quail Creek Sporting Ranch":MAILTO:admin@quailcreeksportingranch.com
END:VEVENT
BEGIN:VEVENT
DTSTART;TZID=America/New_York:20260102T070000
DTEND;TZID=America/New_York:20260102T150000
DTSTAMP:20260421T074637
CREATED:20251231T181605Z
LAST-MODIFIED:20260304T202514Z
UID:10015581-1767337200-1767366000@quailcreeksportingranch.com
SUMMARY:Sporting Clays Course Open To The Public
DESCRIPTION:
URL:https://quailcreeksportingranch.com/event/sporting-clays-course-open-to-the-public-2-2/2026-01-02/
LOCATION:Quail Creek Sporting Ranch
CATEGORIES:Weekly
ORGANIZER;CN="Quail Creek Sporting Ranch":MAILTO:admin@quailcreeksportingranch.com
END:VEVENT
BEGIN:VEVENT
DTSTART;TZID=America/New_York:20251231T110000
DTEND;TZID=America/New_York:20251231T140000
DTSTAMP:20260421T074637
CREATED:20230406T193033Z
LAST-MODIFIED:20251231T181729Z
UID:10009210-1767178800-1767189600@quailcreeksportingranch.com
SUMMARY:Lunch Pavilion Open To The Public
DESCRIPTION:
URL:https://quailcreeksportingranch.com/event/lunch-pavilion-open-to-the-public/2025-12-31/
LOCATION:Quail Creek Sporting Ranch
CATEGORIES:Weekly
ORGANIZER;CN="Quail Creek Sporting Ranch":MAILTO:admin@quailcreeksportingranch.com
END:VEVENT
BEGIN:VEVENT
DTSTART;TZID=America/New_York:20251231T070000
DTEND;TZID=America/New_York:20251231T150000
DTSTAMP:20260421T074637
CREATED:20251231T181605Z
LAST-MODIFIED:20260304T202514Z
UID:10015579-1767164400-1767193200@quailcreeksportingranch.com
SUMMARY:Sporting Clays Course Open To The Public
DESCRIPTION:
URL:https://quailcreeksportingranch.com/event/sporting-clays-course-open-to-the-public-2-2/2025-12-31/
LOCATION:Quail Creek Sporting Ranch
CATEGORIES:Weekly
ORGANIZER;CN="Quail Creek Sporting Ranch":MAILTO:admin@quailcreeksportingranch.com
END:VEVENT
BEGIN:VEVENT
DTSTART;TZID=America/New_York:20251230T110000
DTEND;TZID=America/New_York:20251230T140000
DTSTAMP:20260421T074637
CREATED:20230406T193033Z
LAST-MODIFIED:20251231T181729Z
UID:10009209-1767092400-1767103200@quailcreeksportingranch.com
SUMMARY:Lunch Pavilion Open To The Public
DESCRIPTION:
URL:https://quailcreeksportingranch.com/event/lunch-pavilion-open-to-the-public/2025-12-30/
LOCATION:Quail Creek Sporting Ranch
CATEGORIES:Weekly
ORGANIZER;CN="Quail Creek Sporting Ranch":MAILTO:admin@quailcreeksportingranch.com
END:VEVENT
BEGIN:VEVENT
DTSTART;TZID=America/New_York:20251229T110000
DTEND;TZID=America/New_York:20251229T140000
DTSTAMP:20260421T074637
CREATED:20230406T193033Z
LAST-MODIFIED:20260202T161300Z
UID:10018158-1767006000-1767016800@quailcreeksportingranch.com
SUMMARY:Lunch Pavilion Open 11am-2pm
DESCRIPTION:
URL:https://quailcreeksportingranch.com/event/lunch-pavilion-closed/2025-12-29/
LOCATION:Quail Creek Sporting Ranch
CATEGORIES:Closure,Weekly
ORGANIZER;CN="Quail Creek Sporting Ranch":MAILTO:admin@quailcreeksportingranch.com
END:VEVENT
BEGIN:VEVENT
DTSTART;TZID=America/New_York:20251228T110000
DTEND;TZID=America/New_York:20251228T140000
DTSTAMP:20260421T074637
CREATED:20230406T193033Z
LAST-MODIFIED:20251231T181729Z
UID:10009207-1766919600-1766930400@quailcreeksportingranch.com
SUMMARY:Lunch Pavilion Open To The Public
DESCRIPTION:
URL:https://quailcreeksportingranch.com/event/lunch-pavilion-open-to-the-public/2025-12-28/
LOCATION:Quail Creek Sporting Ranch
CATEGORIES:Weekly
ORGANIZER;CN="Quail Creek Sporting Ranch":MAILTO:admin@quailcreeksportingranch.com
END:VEVENT
BEGIN:VEVENT
DTSTART;TZID=America/New_York:20251228T070000
DTEND;TZID=America/New_York:20251228T150000
DTSTAMP:20260421T074637
CREATED:20240513T163157Z
LAST-MODIFIED:20240513T163158Z
UID:10015578-1766905200-1766934000@quailcreeksportingranch.com
SUMMARY:Sporting Clays Course Open To The Public
DESCRIPTION:
URL:https://quailcreeksportingranch.com/event/sporting-clays-course-open-to-the-public-2/2025-12-28/
LOCATION:Quail Creek Sporting Ranch
CATEGORIES:Weekly
ORGANIZER;CN="Quail Creek Sporting Ranch":MAILTO:admin@quailcreeksportingranch.com
END:VEVENT
BEGIN:VEVENT
DTSTART;TZID=America/New_York:20251227T110000
DTEND;TZID=America/New_York:20251227T140000
DTSTAMP:20260421T074637
CREATED:20230406T193033Z
LAST-MODIFIED:20251231T181729Z
UID:10010850-1766833200-1766844000@quailcreeksportingranch.com
SUMMARY:Lunch Pavilion Open To The Public
DESCRIPTION:
URL:https://quailcreeksportingranch.com/event/lunch-pavilion-open-to-the-public/2025-12-27/
LOCATION:Quail Creek Sporting Ranch
CATEGORIES:Weekly
ORGANIZER;CN="Quail Creek Sporting Ranch":MAILTO:admin@quailcreeksportingranch.com
END:VEVENT
BEGIN:VEVENT
DTSTART;TZID=America/New_York:20251227T070000
DTEND;TZID=America/New_York:20251227T150000
DTSTAMP:20260421T074637
CREATED:20240513T163157Z
LAST-MODIFIED:20240513T163158Z
UID:10015577-1766818800-1766847600@quailcreeksportingranch.com
SUMMARY:Sporting Clays Course Open To The Public
DESCRIPTION:
URL:https://quailcreeksportingranch.com/event/sporting-clays-course-open-to-the-public-2/2025-12-27/
LOCATION:Quail Creek Sporting Ranch
CATEGORIES:Weekly
ORGANIZER;CN="Quail Creek Sporting Ranch":MAILTO:admin@quailcreeksportingranch.com
END:VEVENT
BEGIN:VEVENT
DTSTART;TZID=America/New_York:20251226T110000
DTEND;TZID=America/New_York:20251226T140000
DTSTAMP:20260421T074637
CREATED:20230406T193033Z
LAST-MODIFIED:20251231T181729Z
UID:10009206-1766746800-1766757600@quailcreeksportingranch.com
SUMMARY:Lunch Pavilion Open To The Public
DESCRIPTION:
URL:https://quailcreeksportingranch.com/event/lunch-pavilion-open-to-the-public/2025-12-26/
LOCATION:Quail Creek Sporting Ranch
CATEGORIES:Weekly
ORGANIZER;CN="Quail Creek Sporting Ranch":MAILTO:admin@quailcreeksportingranch.com
END:VEVENT
BEGIN:VEVENT
DTSTART;TZID=America/New_York:20251226T070000
DTEND;TZID=America/New_York:20251226T150000
DTSTAMP:20260421T074637
CREATED:20240513T163157Z
LAST-MODIFIED:20240513T163158Z
UID:10015576-1766732400-1766761200@quailcreeksportingranch.com
SUMMARY:Sporting Clays Course Open To The Public
DESCRIPTION:
URL:https://quailcreeksportingranch.com/event/sporting-clays-course-open-to-the-public-2/2025-12-26/
LOCATION:Quail Creek Sporting Ranch
CATEGORIES:Weekly
ORGANIZER;CN="Quail Creek Sporting Ranch":MAILTO:admin@quailcreeksportingranch.com
END:VEVENT
BEGIN:VEVENT
DTSTART;TZID=America/New_York:20251223T110000
DTEND;TZID=America/New_York:20251223T140000
DTSTAMP:20260421T074637
CREATED:20230406T193033Z
LAST-MODIFIED:20251231T181729Z
UID:10009203-1766487600-1766498400@quailcreeksportingranch.com
SUMMARY:Lunch Pavilion Open To The Public
DESCRIPTION:
URL:https://quailcreeksportingranch.com/event/lunch-pavilion-open-to-the-public/2025-12-23/
LOCATION:Quail Creek Sporting Ranch
CATEGORIES:Weekly
ORGANIZER;CN="Quail Creek Sporting Ranch":MAILTO:admin@quailcreeksportingranch.com
END:VEVENT
BEGIN:VEVENT
DTSTART;TZID=America/New_York:20251222T110000
DTEND;TZID=America/New_York:20251222T140000
DTSTAMP:20260421T074637
CREATED:20230406T193033Z
LAST-MODIFIED:20260202T161300Z
UID:10018157-1766401200-1766412000@quailcreeksportingranch.com
SUMMARY:Lunch Pavilion Open 11am-2pm
DESCRIPTION:
URL:https://quailcreeksportingranch.com/event/lunch-pavilion-closed/2025-12-22/
LOCATION:Quail Creek Sporting Ranch
CATEGORIES:Closure,Weekly
ORGANIZER;CN="Quail Creek Sporting Ranch":MAILTO:admin@quailcreeksportingranch.com
END:VEVENT
BEGIN:VEVENT
DTSTART;TZID=America/New_York:20251221T110000
DTEND;TZID=America/New_York:20251221T140000
DTSTAMP:20260421T074637
CREATED:20230406T193033Z
LAST-MODIFIED:20251231T181729Z
UID:10009201-1766314800-1766325600@quailcreeksportingranch.com
SUMMARY:Lunch Pavilion Open To The Public
DESCRIPTION:
URL:https://quailcreeksportingranch.com/event/lunch-pavilion-open-to-the-public/2025-12-21/
LOCATION:Quail Creek Sporting Ranch
CATEGORIES:Weekly
ORGANIZER;CN="Quail Creek Sporting Ranch":MAILTO:admin@quailcreeksportingranch.com
END:VEVENT
BEGIN:VEVENT
DTSTART;TZID=America/New_York:20251221T070000
DTEND;TZID=America/New_York:20251221T150000
DTSTAMP:20260421T074637
CREATED:20240513T163157Z
LAST-MODIFIED:20240513T163158Z
UID:10015573-1766300400-1766329200@quailcreeksportingranch.com
SUMMARY:Sporting Clays Course Open To The Public
DESCRIPTION:
URL:https://quailcreeksportingranch.com/event/sporting-clays-course-open-to-the-public-2/2025-12-21/
LOCATION:Quail Creek Sporting Ranch
CATEGORIES:Weekly
ORGANIZER;CN="Quail Creek Sporting Ranch":MAILTO:admin@quailcreeksportingranch.com
END:VEVENT
BEGIN:VEVENT
DTSTART;TZID=America/New_York:20251220T110000
DTEND;TZID=America/New_York:20251220T140000
DTSTAMP:20260421T074637
CREATED:20230406T193033Z
LAST-MODIFIED:20251231T181729Z
UID:10010849-1766228400-1766239200@quailcreeksportingranch.com
SUMMARY:Lunch Pavilion Open To The Public
DESCRIPTION:
URL:https://quailcreeksportingranch.com/event/lunch-pavilion-open-to-the-public/2025-12-20/
LOCATION:Quail Creek Sporting Ranch
CATEGORIES:Weekly
ORGANIZER;CN="Quail Creek Sporting Ranch":MAILTO:admin@quailcreeksportingranch.com
END:VEVENT
BEGIN:VEVENT
DTSTART;TZID=America/New_York:20251220T070000
DTEND;TZID=America/New_York:20251220T150000
DTSTAMP:20260421T074637
CREATED:20240513T163157Z
LAST-MODIFIED:20240513T163158Z
UID:10015572-1766214000-1766242800@quailcreeksportingranch.com
SUMMARY:Sporting Clays Course Open To The Public
DESCRIPTION:
URL:https://quailcreeksportingranch.com/event/sporting-clays-course-open-to-the-public-2/2025-12-20/
LOCATION:Quail Creek Sporting Ranch
CATEGORIES:Weekly
ORGANIZER;CN="Quail Creek Sporting Ranch":MAILTO:admin@quailcreeksportingranch.com
END:VEVENT
BEGIN:VEVENT
DTSTART;TZID=America/New_York:20251219T110000
DTEND;TZID=America/New_York:20251219T140000
DTSTAMP:20260421T074637
CREATED:20230406T193033Z
LAST-MODIFIED:20251231T181729Z
UID:10009200-1766142000-1766152800@quailcreeksportingranch.com
SUMMARY:Lunch Pavilion Open To The Public
DESCRIPTION:
URL:https://quailcreeksportingranch.com/event/lunch-pavilion-open-to-the-public/2025-12-19/
LOCATION:Quail Creek Sporting Ranch
CATEGORIES:Weekly
ORGANIZER;CN="Quail Creek Sporting Ranch":MAILTO:admin@quailcreeksportingranch.com
END:VEVENT
BEGIN:VEVENT
DTSTART;TZID=America/New_York:20251219T070000
DTEND;TZID=America/New_York:20251219T150000
DTSTAMP:20260421T074637
CREATED:20240513T163157Z
LAST-MODIFIED:20240513T163158Z
UID:10015571-1766127600-1766156400@quailcreeksportingranch.com
SUMMARY:Sporting Clays Course Open To The Public
DESCRIPTION:
URL:https://quailcreeksportingranch.com/event/sporting-clays-course-open-to-the-public-2/2025-12-19/
LOCATION:Quail Creek Sporting Ranch
CATEGORIES:Weekly
ORGANIZER;CN="Quail Creek Sporting Ranch":MAILTO:admin@quailcreeksportingranch.com
END:VEVENT
BEGIN:VEVENT
DTSTART;TZID=America/New_York:20251218T110000
DTEND;TZID=America/New_York:20251218T140000
DTSTAMP:20260421T074637
CREATED:20230406T193033Z
LAST-MODIFIED:20251231T181729Z
UID:10009199-1766055600-1766066400@quailcreeksportingranch.com
SUMMARY:Lunch Pavilion Open To The Public
DESCRIPTION:
URL:https://quailcreeksportingranch.com/event/lunch-pavilion-open-to-the-public/2025-12-18/
LOCATION:Quail Creek Sporting Ranch
CATEGORIES:Weekly
ORGANIZER;CN="Quail Creek Sporting Ranch":MAILTO:admin@quailcreeksportingranch.com
END:VEVENT
BEGIN:VEVENT
DTSTART;TZID=America/New_York:20251218T070000
DTEND;TZID=America/New_York:20251218T150000
DTSTAMP:20260421T074638
CREATED:20240513T163157Z
LAST-MODIFIED:20240513T163158Z
UID:10015570-1766041200-1766070000@quailcreeksportingranch.com
SUMMARY:Sporting Clays Course Open To The Public
DESCRIPTION:
URL:https://quailcreeksportingranch.com/event/sporting-clays-course-open-to-the-public-2/2025-12-18/
LOCATION:Quail Creek Sporting Ranch
CATEGORIES:Weekly
ORGANIZER;CN="Quail Creek Sporting Ranch":MAILTO:admin@quailcreeksportingranch.com
END:VEVENT
BEGIN:VEVENT
DTSTART;TZID=America/New_York:20251217T110000
DTEND;TZID=America/New_York:20251217T140000
DTSTAMP:20260421T074638
CREATED:20230406T193033Z
LAST-MODIFIED:20251231T181729Z
UID:10009198-1765969200-1765980000@quailcreeksportingranch.com
SUMMARY:Lunch Pavilion Open To The Public
DESCRIPTION:
URL:https://quailcreeksportingranch.com/event/lunch-pavilion-open-to-the-public/2025-12-17/
LOCATION:Quail Creek Sporting Ranch
CATEGORIES:Weekly
ORGANIZER;CN="Quail Creek Sporting Ranch":MAILTO:admin@quailcreeksportingranch.com
END:VEVENT
BEGIN:VEVENT
DTSTART;TZID=America/New_York:20251217T070000
DTEND;TZID=America/New_York:20251217T150000
DTSTAMP:20260421T074638
CREATED:20240513T163157Z
LAST-MODIFIED:20240513T163158Z
UID:10015569-1765954800-1765983600@quailcreeksportingranch.com
SUMMARY:Sporting Clays Course Open To The Public
DESCRIPTION:
URL:https://quailcreeksportingranch.com/event/sporting-clays-course-open-to-the-public-2/2025-12-17/
LOCATION:Quail Creek Sporting Ranch
CATEGORIES:Weekly
ORGANIZER;CN="Quail Creek Sporting Ranch":MAILTO:admin@quailcreeksportingranch.com
END:VEVENT
BEGIN:VEVENT
DTSTART;TZID=America/New_York:20251216T110000
DTEND;TZID=America/New_York:20251216T140000
DTSTAMP:20260421T074638
CREATED:20230406T193033Z
LAST-MODIFIED:20251231T181729Z
UID:10009197-1765882800-1765893600@quailcreeksportingranch.com
SUMMARY:Lunch Pavilion Open To The Public
DESCRIPTION:
URL:https://quailcreeksportingranch.com/event/lunch-pavilion-open-to-the-public/2025-12-16/
LOCATION:Quail Creek Sporting Ranch
CATEGORIES:Weekly
ORGANIZER;CN="Quail Creek Sporting Ranch":MAILTO:admin@quailcreeksportingranch.com
END:VEVENT
BEGIN:VEVENT
DTSTART;TZID=America/New_York:20251215T110000
DTEND;TZID=America/New_York:20251215T140000
DTSTAMP:20260421T074638
CREATED:20230406T193033Z
LAST-MODIFIED:20260202T161300Z
UID:10018156-1765796400-1765807200@quailcreeksportingranch.com
SUMMARY:Lunch Pavilion Open 11am-2pm
DESCRIPTION:
URL:https://quailcreeksportingranch.com/event/lunch-pavilion-closed/2025-12-15/
LOCATION:Quail Creek Sporting Ranch
CATEGORIES:Closure,Weekly
ORGANIZER;CN="Quail Creek Sporting Ranch":MAILTO:admin@quailcreeksportingranch.com
END:VEVENT
BEGIN:VEVENT
DTSTART;TZID=America/New_York:20251214T110000
DTEND;TZID=America/New_York:20251214T140000
DTSTAMP:20260421T074638
CREATED:20230406T193033Z
LAST-MODIFIED:20251231T181729Z
UID:10009195-1765710000-1765720800@quailcreeksportingranch.com
SUMMARY:Lunch Pavilion Open To The Public
DESCRIPTION:
URL:https://quailcreeksportingranch.com/event/lunch-pavilion-open-to-the-public/2025-12-14/
LOCATION:Quail Creek Sporting Ranch
CATEGORIES:Weekly
ORGANIZER;CN="Quail Creek Sporting Ranch":MAILTO:admin@quailcreeksportingranch.com
END:VEVENT
END:VCALENDAR