BEGIN:VCALENDAR
VERSION:2.0
PRODID:-//Quail Creek Sporting Ranch - ECPv6.15.15//NONSGML v1.0//EN
CALSCALE:GREGORIAN
METHOD:PUBLISH
X-ORIGINAL-URL:https://quailcreeksportingranch.com
X-WR-CALDESC:Events for Quail Creek Sporting Ranch
REFRESH-INTERVAL;VALUE=DURATION:PT1H
X-Robots-Tag:noindex
X-PUBLISHED-TTL:PT1H
BEGIN:VTIMEZONE
TZID:America/New_York
BEGIN:DAYLIGHT
TZOFFSETFROM:-0500
TZOFFSETTO:-0400
TZNAME:EDT
DTSTART:20240310T070000
END:DAYLIGHT
BEGIN:STANDARD
TZOFFSETFROM:-0400
TZOFFSETTO:-0500
TZNAME:EST
DTSTART:20241103T060000
END:STANDARD
BEGIN:DAYLIGHT
TZOFFSETFROM:-0500
TZOFFSETTO:-0400
TZNAME:EDT
DTSTART:20250309T070000
END:DAYLIGHT
BEGIN:STANDARD
TZOFFSETFROM:-0400
TZOFFSETTO:-0500
TZNAME:EST
DTSTART:20251102T060000
END:STANDARD
BEGIN:DAYLIGHT
TZOFFSETFROM:-0500
TZOFFSETTO:-0400
TZNAME:EDT
DTSTART:20260308T070000
END:DAYLIGHT
BEGIN:STANDARD
TZOFFSETFROM:-0400
TZOFFSETTO:-0500
TZNAME:EST
DTSTART:20261101T060000
END:STANDARD
END:VTIMEZONE
BEGIN:VEVENT
DTSTART;TZID=America/New_York:20251017T080000
DTEND;TZID=America/New_York:20251017T170000
DTSTAMP:20260421T222919
CREATED:20251005T153051Z
LAST-MODIFIED:20251005T153051Z
UID:10016680-1760688000-1760720400@quailcreeksportingranch.com
SUMMARY:Central FL Boy Scouts Clay Shoot (Red Course 8am-1pm)
DESCRIPTION:
URL:https://quailcreeksportingranch.com/event/central-fl-boy-scouts-clay-shoot-red-course-8am-1pm/
LOCATION:Quail Creek Sporting Ranch
CATEGORIES:Event,Red Course Closed
ORGANIZER;CN="Quail Creek Sporting Ranch":MAILTO:admin@quailcreeksportingranch.com
END:VEVENT
BEGIN:VEVENT
DTSTART;TZID=America/New_York:20251018T080000
DTEND;TZID=America/New_York:20251018T130000
DTSTAMP:20260421T222919
CREATED:20251005T153557Z
LAST-MODIFIED:20251005T204747Z
UID:10016681-1760774400-1760792400@quailcreeksportingranch.com
SUMMARY:Visiting Nurse Association of Florida Clay Shoot (Red Course 8am-1pm)
DESCRIPTION:
URL:https://quailcreeksportingranch.com/event/visiting-nurse-association-of-florida-clay-shoot-red-course-8am-1pm/
LOCATION:Quail Creek Sporting Ranch
CATEGORIES:Event|Closure,Red Course Closed
ORGANIZER;CN="Quail Creek Sporting Ranch":MAILTO:admin@quailcreeksportingranch.com
END:VEVENT
BEGIN:VEVENT
DTSTART;TZID=America/New_York:20251019T080000
DTEND;TZID=America/New_York:20251019T150000
DTSTAMP:20260421T222919
CREATED:20251011T133920Z
LAST-MODIFIED:20251011T134034Z
UID:10016683-1760860800-1760886000@quailcreeksportingranch.com
SUMMARY:Sasquatch Scramble Leg #1 - All courses occupied by event. Walk-ins welcome. Carts by reservation only
DESCRIPTION:
URL:https://quailcreeksportingranch.com/event/sasquatch-scramble-leg-1-all-courses-occupied-by-event-walk-ins-welcome-carts-by-reservation-only/
LOCATION:Quail Creek Sporting Ranch
CATEGORIES:Blue Course Closed,Closure,Event,Event|Closure,NSCA,Red Course Closed,Shoot,White Course Closed
ORGANIZER;CN="Quail Creek Sporting Ranch":MAILTO:admin@quailcreeksportingranch.com
END:VEVENT
BEGIN:VEVENT
DTSTART;TZID=America/New_York:20251025T073000
DTEND;TZID=America/New_York:20251025T130000
DTSTAMP:20260421T222919
CREATED:20251011T133722Z
LAST-MODIFIED:20251011T133722Z
UID:10016682-1761377400-1761397200@quailcreeksportingranch.com
SUMMARY:The Rotary Clubs Clay Shoot -  Operation Outdoor Freedom (Red & Blue Course 7:30am-1pm)
DESCRIPTION:
URL:https://quailcreeksportingranch.com/event/the-rotary-clubs-clay-shoot-operation-outdoor-freedom-red-blue-course-730am-1pm/
LOCATION:Quail Creek Sporting Ranch
CATEGORIES:Blue Course Closed,Closure,Red Course Closed
ORGANIZER;CN="Quail Creek Sporting Ranch":MAILTO:admin@quailcreeksportingranch.com
END:VEVENT
END:VCALENDAR