BEGIN:VCALENDAR
VERSION:2.0
PRODID:-//Quail Creek Sporting Ranch - ECPv6.15.15//NONSGML v1.0//EN
CALSCALE:GREGORIAN
METHOD:PUBLISH
X-ORIGINAL-URL:https://quailcreeksportingranch.com
X-WR-CALDESC:Events for Quail Creek Sporting Ranch
REFRESH-INTERVAL;VALUE=DURATION:PT1H
X-Robots-Tag:noindex
X-PUBLISHED-TTL:PT1H
BEGIN:VTIMEZONE
TZID:America/New_York
BEGIN:DAYLIGHT
TZOFFSETFROM:-0500
TZOFFSETTO:-0400
TZNAME:EDT
DTSTART:20230312T070000
END:DAYLIGHT
BEGIN:STANDARD
TZOFFSETFROM:-0400
TZOFFSETTO:-0500
TZNAME:EST
DTSTART:20231105T060000
END:STANDARD
BEGIN:DAYLIGHT
TZOFFSETFROM:-0500
TZOFFSETTO:-0400
TZNAME:EDT
DTSTART:20240310T070000
END:DAYLIGHT
BEGIN:STANDARD
TZOFFSETFROM:-0400
TZOFFSETTO:-0500
TZNAME:EST
DTSTART:20241103T060000
END:STANDARD
BEGIN:DAYLIGHT
TZOFFSETFROM:-0500
TZOFFSETTO:-0400
TZNAME:EDT
DTSTART:20250309T070000
END:DAYLIGHT
BEGIN:STANDARD
TZOFFSETFROM:-0400
TZOFFSETTO:-0500
TZNAME:EST
DTSTART:20251102T060000
END:STANDARD
END:VTIMEZONE
BEGIN:VEVENT
DTSTART;VALUE=DATE:20240907
DTEND;VALUE=DATE:20240908
DTSTAMP:20260422T062820
CREATED:20240402T141413Z
LAST-MODIFIED:20240818T124628Z
UID:10015151-1725667200-1725753599@quailcreeksportingranch.com
SUMMARY:NSCA – The Quail Creek Classic (Blue\, White & FITASC Course Closed)
DESCRIPTION:
URL:https://quailcreeksportingranch.com/event/nsca-the-quail-creek-classic-blue-white-course-closed-2/
LOCATION:Quail Creek Sporting Ranch
CATEGORIES:Blue Course Closed,FITASC Closed,NSCA,White Course Closed
ORGANIZER;CN="Quail Creek Sporting Ranch":MAILTO:admin@quailcreeksportingranch.com
END:VEVENT
BEGIN:VEVENT
DTSTART;VALUE=DATE:20240831
DTEND;VALUE=DATE:20240901
DTSTAMP:20260422T062820
CREATED:20240822T140100Z
LAST-MODIFIED:20240822T140100Z
UID:10016470-1725062400-1725148799@quailcreeksportingranch.com
SUMMARY:Work Hard\, Play Harder NSCA Shoot
DESCRIPTION:
URL:https://quailcreeksportingranch.com/event/work-hard-play-harder-nsca-shoot/
CATEGORIES:Blue Course Closed,FITASC Closed,NSCA,White Course Closed
END:VEVENT
BEGIN:VEVENT
DTSTART;VALUE=DATE:20240803
DTEND;VALUE=DATE:20240804
DTSTAMP:20260422T062820
CREATED:20240402T141231Z
LAST-MODIFIED:20240402T141231Z
UID:10015149-1722643200-1722729599@quailcreeksportingranch.com
SUMMARY:NSCA – End of Summer Slam (Blue & White Course Closed)
DESCRIPTION:
URL:https://quailcreeksportingranch.com/event/nsca-end-of-summer-slam-blue-white-course-closed/
LOCATION:Quail Creek Sporting Ranch
CATEGORIES:Blue Course Closed,NSCA,White Course Closed
ORGANIZER;CN="Quail Creek Sporting Ranch":MAILTO:admin@quailcreeksportingranch.com
END:VEVENT
BEGIN:VEVENT
DTSTART;VALUE=DATE:20240727
DTEND;VALUE=DATE:20240728
DTSTAMP:20260422T062820
CREATED:20240402T141143Z
LAST-MODIFIED:20240402T141143Z
UID:10015148-1722038400-1722124799@quailcreeksportingranch.com
SUMMARY:NSCA – Stars\, Stripes & Sporting Clays (Blue & White Course Closed)
DESCRIPTION:
URL:https://quailcreeksportingranch.com/event/nsca-stars-stripes-sporting-clays-blue-white-course-closed-2/
LOCATION:Quail Creek Sporting Ranch
CATEGORIES:Blue Course Closed,NSCA,White Course Closed
ORGANIZER;CN="Quail Creek Sporting Ranch":MAILTO:admin@quailcreeksportingranch.com
END:VEVENT
BEGIN:VEVENT
DTSTART;VALUE=DATE:20240609
DTEND;VALUE=DATE:20240610
DTSTAMP:20260422T062820
CREATED:20240402T141104Z
LAST-MODIFIED:20240402T141105Z
UID:10015147-1717891200-1717977599@quailcreeksportingranch.com
SUMMARY:NSCA – Summer Shootout (Blue & White Course Closed)
DESCRIPTION:
URL:https://quailcreeksportingranch.com/event/nsca-summer-shootout-blue-white-course-closed/
LOCATION:Quail Creek Sporting Ranch
CATEGORIES:Blue Course Closed,NSCA,White Course Closed
ORGANIZER;CN="Quail Creek Sporting Ranch":MAILTO:admin@quailcreeksportingranch.com
END:VEVENT
BEGIN:VEVENT
DTSTART;VALUE=DATE:20240526
DTEND;VALUE=DATE:20240527
DTSTAMP:20260422T062820
CREATED:20240402T141007Z
LAST-MODIFIED:20240515T145328Z
UID:10015146-1716681600-1716767999@quailcreeksportingranch.com
SUMMARY:NSCA – The Salute Shoot (Blue\, White & FITASC Course Closed)
DESCRIPTION:
URL:https://quailcreeksportingranch.com/event/nsca-the-salute-shoot-blue-white-course-closed/
LOCATION:Quail Creek Sporting Ranch
CATEGORIES:Blue Course Closed,NSCA,White Course Closed
ORGANIZER;CN="Quail Creek Sporting Ranch":MAILTO:admin@quailcreeksportingranch.com
END:VEVENT
BEGIN:VEVENT
DTSTART;VALUE=DATE:20240213
DTEND;VALUE=DATE:20240219
DTSTAMP:20260422T062820
CREATED:20240119T165412Z
LAST-MODIFIED:20240119T165412Z
UID:10014581-1707782400-1708300799@quailcreeksportingranch.com
SUMMARY:JACK LINK'S CUP
DESCRIPTION:
URL:https://quailcreeksportingranch.com/event/jack-links-cup/
LOCATION:Quail Creek Sporting Ranch
CATEGORIES:Blue Course Closed,Closure,Event,Event|Closure,NSCA,Red Course Closed
ORGANIZER;CN="Quail Creek Sporting Ranch":MAILTO:admin@quailcreeksportingranch.com
END:VEVENT
BEGIN:VEVENT
DTSTART;VALUE=DATE:20240121
DTEND;VALUE=DATE:20240122
DTSTAMP:20260422T062820
CREATED:20240119T162839Z
LAST-MODIFIED:20240119T162937Z
UID:10014573-1705795200-1705881599@quailcreeksportingranch.com
SUMMARY:John Martinelli Memorial - NSCA (BLUE & WHITE COURSES CLOSED)
DESCRIPTION:
URL:https://quailcreeksportingranch.com/event/john-martinelli-memorial-nsca-blue-white-courses-closed/
LOCATION:Quail Creek Sporting Ranch
CATEGORIES:Blue Course Closed,Closure,Event,Event|Closure,NSCA
ORGANIZER;CN="Quail Creek Sporting Ranch":MAILTO:admin@quailcreeksportingranch.com
END:VEVENT
END:VCALENDAR