BEGIN:VCALENDAR
VERSION:2.0
PRODID:-//Quail Creek Sporting Ranch - ECPv6.15.15//NONSGML v1.0//EN
CALSCALE:GREGORIAN
METHOD:PUBLISH
X-ORIGINAL-URL:https://quailcreeksportingranch.com
X-WR-CALDESC:Events for Quail Creek Sporting Ranch
REFRESH-INTERVAL;VALUE=DURATION:PT1H
X-Robots-Tag:noindex
X-PUBLISHED-TTL:PT1H
BEGIN:VTIMEZONE
TZID:America/New_York
BEGIN:DAYLIGHT
TZOFFSETFROM:-0500
TZOFFSETTO:-0400
TZNAME:EDT
DTSTART:20240310T070000
END:DAYLIGHT
BEGIN:STANDARD
TZOFFSETFROM:-0400
TZOFFSETTO:-0500
TZNAME:EST
DTSTART:20241103T060000
END:STANDARD
BEGIN:DAYLIGHT
TZOFFSETFROM:-0500
TZOFFSETTO:-0400
TZNAME:EDT
DTSTART:20250309T070000
END:DAYLIGHT
BEGIN:STANDARD
TZOFFSETFROM:-0400
TZOFFSETTO:-0500
TZNAME:EST
DTSTART:20251102T060000
END:STANDARD
BEGIN:DAYLIGHT
TZOFFSETFROM:-0500
TZOFFSETTO:-0400
TZNAME:EDT
DTSTART:20260308T070000
END:DAYLIGHT
BEGIN:STANDARD
TZOFFSETFROM:-0400
TZOFFSETTO:-0500
TZNAME:EST
DTSTART:20261101T060000
END:STANDARD
END:VTIMEZONE
BEGIN:VEVENT
DTSTART;TZID=America/New_York:20250414T110000
DTEND;TZID=America/New_York:20250414T140000
DTSTAMP:20260422T102141
CREATED:20230406T193033Z
LAST-MODIFIED:20260202T161300Z
UID:10018121-1744628400-1744639200@quailcreeksportingranch.com
SUMMARY:Lunch Pavilion Open 11am-2pm
DESCRIPTION:
URL:https://quailcreeksportingranch.com/event/lunch-pavilion-closed/2025-04-14/
LOCATION:Quail Creek Sporting Ranch
CATEGORIES:Closure,Weekly
ORGANIZER;CN="Quail Creek Sporting Ranch":MAILTO:admin@quailcreeksportingranch.com
END:VEVENT
BEGIN:VEVENT
DTSTART;VALUE=DATE:20250414
DTEND;VALUE=DATE:20250415
DTSTAMP:20260422T102141
CREATED:20230406T193235Z
LAST-MODIFIED:20230407T134114Z
UID:10008198-1744588800-1744675199@quailcreeksportingranch.com
SUMMARY:Sporting Clays Course (CLOSED)
DESCRIPTION:
URL:https://quailcreeksportingranch.com/event/sporting-clays-course-closed/2025-04-14/
LOCATION:Quail Creek Sporting Ranch
CATEGORIES:Closure,Event
ORGANIZER;CN="Quail Creek Sporting Ranch":MAILTO:admin@quailcreeksportingranch.com
END:VEVENT
BEGIN:VEVENT
DTSTART;TZID=America/New_York:20250407T110000
DTEND;TZID=America/New_York:20250407T140000
DTSTAMP:20260422T102141
CREATED:20230406T193033Z
LAST-MODIFIED:20260202T161300Z
UID:10018120-1744023600-1744034400@quailcreeksportingranch.com
SUMMARY:Lunch Pavilion Open 11am-2pm
DESCRIPTION:
URL:https://quailcreeksportingranch.com/event/lunch-pavilion-closed/2025-04-07/
LOCATION:Quail Creek Sporting Ranch
CATEGORIES:Closure,Weekly
ORGANIZER;CN="Quail Creek Sporting Ranch":MAILTO:admin@quailcreeksportingranch.com
END:VEVENT
BEGIN:VEVENT
DTSTART;VALUE=DATE:20250407
DTEND;VALUE=DATE:20250408
DTSTAMP:20260422T102141
CREATED:20230406T193235Z
LAST-MODIFIED:20230407T134114Z
UID:10008197-1743984000-1744070399@quailcreeksportingranch.com
SUMMARY:Sporting Clays Course (CLOSED)
DESCRIPTION:
URL:https://quailcreeksportingranch.com/event/sporting-clays-course-closed/2025-04-07/
LOCATION:Quail Creek Sporting Ranch
CATEGORIES:Closure,Event
ORGANIZER;CN="Quail Creek Sporting Ranch":MAILTO:admin@quailcreeksportingranch.com
END:VEVENT
BEGIN:VEVENT
DTSTART;TZID=America/New_York:20250404T100000
DTEND;TZID=America/New_York:20250404T170000
DTSTAMP:20260422T102141
CREATED:20250401T154728Z
LAST-MODIFIED:20250401T155156Z
UID:10016651-1743760800-1743786000@quailcreeksportingranch.com
SUMMARY:Ashrae Gold Coast Clay Shoot - Red Course Closed 10am-5pm
DESCRIPTION:
URL:https://quailcreeksportingranch.com/event/ashrae-gold-coast-clay-shoot-red-course-closed-8am-5pm/
LOCATION:Quail Creek Sporting Ranch
CATEGORIES:Closure,Event,Event|Closure,Red Course Closed,Shoot
ORGANIZER;CN="Quail Creek Sporting Ranch":MAILTO:admin@quailcreeksportingranch.com
END:VEVENT
BEGIN:VEVENT
DTSTART;TZID=America/New_York:20250331T110000
DTEND;TZID=America/New_York:20250331T140000
DTSTAMP:20260422T102141
CREATED:20230406T193033Z
LAST-MODIFIED:20260202T161300Z
UID:10018119-1743418800-1743429600@quailcreeksportingranch.com
SUMMARY:Lunch Pavilion Open 11am-2pm
DESCRIPTION:
URL:https://quailcreeksportingranch.com/event/lunch-pavilion-closed/2025-03-31/
LOCATION:Quail Creek Sporting Ranch
CATEGORIES:Closure,Weekly
ORGANIZER;CN="Quail Creek Sporting Ranch":MAILTO:admin@quailcreeksportingranch.com
END:VEVENT
BEGIN:VEVENT
DTSTART;VALUE=DATE:20250331
DTEND;VALUE=DATE:20250401
DTSTAMP:20260422T102141
CREATED:20230406T193235Z
LAST-MODIFIED:20230407T134114Z
UID:10008196-1743379200-1743465599@quailcreeksportingranch.com
SUMMARY:Sporting Clays Course (CLOSED)
DESCRIPTION:
URL:https://quailcreeksportingranch.com/event/sporting-clays-course-closed/2025-03-31/
LOCATION:Quail Creek Sporting Ranch
CATEGORIES:Closure,Event
ORGANIZER;CN="Quail Creek Sporting Ranch":MAILTO:admin@quailcreeksportingranch.com
END:VEVENT
BEGIN:VEVENT
DTSTART;TZID=America/New_York:20250324T110000
DTEND;TZID=America/New_York:20250324T140000
DTSTAMP:20260422T102141
CREATED:20230406T193033Z
LAST-MODIFIED:20260202T161300Z
UID:10018118-1742814000-1742824800@quailcreeksportingranch.com
SUMMARY:Lunch Pavilion Open 11am-2pm
DESCRIPTION:
URL:https://quailcreeksportingranch.com/event/lunch-pavilion-closed/2025-03-24/
LOCATION:Quail Creek Sporting Ranch
CATEGORIES:Closure,Weekly
ORGANIZER;CN="Quail Creek Sporting Ranch":MAILTO:admin@quailcreeksportingranch.com
END:VEVENT
BEGIN:VEVENT
DTSTART;VALUE=DATE:20250324
DTEND;VALUE=DATE:20250325
DTSTAMP:20260422T102141
CREATED:20230406T193235Z
LAST-MODIFIED:20230407T134114Z
UID:10008195-1742774400-1742860799@quailcreeksportingranch.com
SUMMARY:Sporting Clays Course (CLOSED)
DESCRIPTION:
URL:https://quailcreeksportingranch.com/event/sporting-clays-course-closed/2025-03-24/
LOCATION:Quail Creek Sporting Ranch
CATEGORIES:Closure,Event
ORGANIZER;CN="Quail Creek Sporting Ranch":MAILTO:admin@quailcreeksportingranch.com
END:VEVENT
BEGIN:VEVENT
DTSTART;TZID=America/New_York:20250317T110000
DTEND;TZID=America/New_York:20250317T140000
DTSTAMP:20260422T102141
CREATED:20230406T193033Z
LAST-MODIFIED:20260202T161300Z
UID:10018117-1742209200-1742220000@quailcreeksportingranch.com
SUMMARY:Lunch Pavilion Open 11am-2pm
DESCRIPTION:
URL:https://quailcreeksportingranch.com/event/lunch-pavilion-closed/2025-03-17/
LOCATION:Quail Creek Sporting Ranch
CATEGORIES:Closure,Weekly
ORGANIZER;CN="Quail Creek Sporting Ranch":MAILTO:admin@quailcreeksportingranch.com
END:VEVENT
BEGIN:VEVENT
DTSTART;VALUE=DATE:20250317
DTEND;VALUE=DATE:20250318
DTSTAMP:20260422T102141
CREATED:20230406T193235Z
LAST-MODIFIED:20230407T134114Z
UID:10008194-1742169600-1742255999@quailcreeksportingranch.com
SUMMARY:Sporting Clays Course (CLOSED)
DESCRIPTION:
URL:https://quailcreeksportingranch.com/event/sporting-clays-course-closed/2025-03-17/
LOCATION:Quail Creek Sporting Ranch
CATEGORIES:Closure,Event
ORGANIZER;CN="Quail Creek Sporting Ranch":MAILTO:admin@quailcreeksportingranch.com
END:VEVENT
BEGIN:VEVENT
DTSTART;TZID=America/New_York:20250310T110000
DTEND;TZID=America/New_York:20250310T140000
DTSTAMP:20260422T102141
CREATED:20230406T193033Z
LAST-MODIFIED:20260202T161300Z
UID:10018116-1741604400-1741615200@quailcreeksportingranch.com
SUMMARY:Lunch Pavilion Open 11am-2pm
DESCRIPTION:
URL:https://quailcreeksportingranch.com/event/lunch-pavilion-closed/2025-03-10/
LOCATION:Quail Creek Sporting Ranch
CATEGORIES:Closure,Weekly
ORGANIZER;CN="Quail Creek Sporting Ranch":MAILTO:admin@quailcreeksportingranch.com
END:VEVENT
BEGIN:VEVENT
DTSTART;VALUE=DATE:20250310
DTEND;VALUE=DATE:20250311
DTSTAMP:20260422T102141
CREATED:20230406T193235Z
LAST-MODIFIED:20230407T134114Z
UID:10008193-1741564800-1741651199@quailcreeksportingranch.com
SUMMARY:Sporting Clays Course (CLOSED)
DESCRIPTION:
URL:https://quailcreeksportingranch.com/event/sporting-clays-course-closed/2025-03-10/
LOCATION:Quail Creek Sporting Ranch
CATEGORIES:Closure,Event
ORGANIZER;CN="Quail Creek Sporting Ranch":MAILTO:admin@quailcreeksportingranch.com
END:VEVENT
BEGIN:VEVENT
DTSTART;TZID=America/New_York:20250303T110000
DTEND;TZID=America/New_York:20250303T140000
DTSTAMP:20260422T102141
CREATED:20230406T193033Z
LAST-MODIFIED:20260202T161300Z
UID:10018115-1740999600-1741010400@quailcreeksportingranch.com
SUMMARY:Lunch Pavilion Open 11am-2pm
DESCRIPTION:
URL:https://quailcreeksportingranch.com/event/lunch-pavilion-closed/2025-03-03/
LOCATION:Quail Creek Sporting Ranch
CATEGORIES:Closure,Weekly
ORGANIZER;CN="Quail Creek Sporting Ranch":MAILTO:admin@quailcreeksportingranch.com
END:VEVENT
BEGIN:VEVENT
DTSTART;VALUE=DATE:20250303
DTEND;VALUE=DATE:20250304
DTSTAMP:20260422T102141
CREATED:20230406T193235Z
LAST-MODIFIED:20230407T134114Z
UID:10008192-1740960000-1741046399@quailcreeksportingranch.com
SUMMARY:Sporting Clays Course (CLOSED)
DESCRIPTION:
URL:https://quailcreeksportingranch.com/event/sporting-clays-course-closed/2025-03-03/
LOCATION:Quail Creek Sporting Ranch
CATEGORIES:Closure,Event
ORGANIZER;CN="Quail Creek Sporting Ranch":MAILTO:admin@quailcreeksportingranch.com
END:VEVENT
BEGIN:VEVENT
DTSTART;TZID=America/New_York:20250224T110000
DTEND;TZID=America/New_York:20250224T140000
DTSTAMP:20260422T102141
CREATED:20230406T193033Z
LAST-MODIFIED:20260202T161300Z
UID:10018114-1740394800-1740405600@quailcreeksportingranch.com
SUMMARY:Lunch Pavilion Open 11am-2pm
DESCRIPTION:
URL:https://quailcreeksportingranch.com/event/lunch-pavilion-closed/2025-02-24/
LOCATION:Quail Creek Sporting Ranch
CATEGORIES:Closure,Weekly
ORGANIZER;CN="Quail Creek Sporting Ranch":MAILTO:admin@quailcreeksportingranch.com
END:VEVENT
BEGIN:VEVENT
DTSTART;VALUE=DATE:20250224
DTEND;VALUE=DATE:20250225
DTSTAMP:20260422T102141
CREATED:20230406T193235Z
LAST-MODIFIED:20230407T134114Z
UID:10008191-1740355200-1740441599@quailcreeksportingranch.com
SUMMARY:Sporting Clays Course (CLOSED)
DESCRIPTION:
URL:https://quailcreeksportingranch.com/event/sporting-clays-course-closed/2025-02-24/
LOCATION:Quail Creek Sporting Ranch
CATEGORIES:Closure,Event
ORGANIZER;CN="Quail Creek Sporting Ranch":MAILTO:admin@quailcreeksportingranch.com
END:VEVENT
BEGIN:VEVENT
DTSTART;TZID=America/New_York:20250217T110000
DTEND;TZID=America/New_York:20250217T140000
DTSTAMP:20260422T102141
CREATED:20230406T193033Z
LAST-MODIFIED:20260202T161300Z
UID:10018113-1739790000-1739800800@quailcreeksportingranch.com
SUMMARY:Lunch Pavilion Open 11am-2pm
DESCRIPTION:
URL:https://quailcreeksportingranch.com/event/lunch-pavilion-closed/2025-02-17/
LOCATION:Quail Creek Sporting Ranch
CATEGORIES:Closure,Weekly
ORGANIZER;CN="Quail Creek Sporting Ranch":MAILTO:admin@quailcreeksportingranch.com
END:VEVENT
BEGIN:VEVENT
DTSTART;VALUE=DATE:20250217
DTEND;VALUE=DATE:20250218
DTSTAMP:20260422T102141
CREATED:20230406T193235Z
LAST-MODIFIED:20230407T134114Z
UID:10008190-1739750400-1739836799@quailcreeksportingranch.com
SUMMARY:Sporting Clays Course (CLOSED)
DESCRIPTION:
URL:https://quailcreeksportingranch.com/event/sporting-clays-course-closed/2025-02-17/
LOCATION:Quail Creek Sporting Ranch
CATEGORIES:Closure,Event
ORGANIZER;CN="Quail Creek Sporting Ranch":MAILTO:admin@quailcreeksportingranch.com
END:VEVENT
BEGIN:VEVENT
DTSTART;TZID=America/New_York:20250210T110000
DTEND;TZID=America/New_York:20250210T140000
DTSTAMP:20260422T102141
CREATED:20230406T193033Z
LAST-MODIFIED:20260202T161300Z
UID:10018112-1739185200-1739196000@quailcreeksportingranch.com
SUMMARY:Lunch Pavilion Open 11am-2pm
DESCRIPTION:
URL:https://quailcreeksportingranch.com/event/lunch-pavilion-closed/2025-02-10/
LOCATION:Quail Creek Sporting Ranch
CATEGORIES:Closure,Weekly
ORGANIZER;CN="Quail Creek Sporting Ranch":MAILTO:admin@quailcreeksportingranch.com
END:VEVENT
BEGIN:VEVENT
DTSTART;VALUE=DATE:20250210
DTEND;VALUE=DATE:20250211
DTSTAMP:20260422T102141
CREATED:20230406T193235Z
LAST-MODIFIED:20230407T134114Z
UID:10008189-1739145600-1739231999@quailcreeksportingranch.com
SUMMARY:Sporting Clays Course (CLOSED)
DESCRIPTION:
URL:https://quailcreeksportingranch.com/event/sporting-clays-course-closed/2025-02-10/
LOCATION:Quail Creek Sporting Ranch
CATEGORIES:Closure,Event
ORGANIZER;CN="Quail Creek Sporting Ranch":MAILTO:admin@quailcreeksportingranch.com
END:VEVENT
BEGIN:VEVENT
DTSTART;TZID=America/New_York:20250203T110000
DTEND;TZID=America/New_York:20250203T140000
DTSTAMP:20260422T102141
CREATED:20230406T193033Z
LAST-MODIFIED:20260202T161300Z
UID:10018111-1738580400-1738591200@quailcreeksportingranch.com
SUMMARY:Lunch Pavilion Open 11am-2pm
DESCRIPTION:
URL:https://quailcreeksportingranch.com/event/lunch-pavilion-closed/2025-02-03/
LOCATION:Quail Creek Sporting Ranch
CATEGORIES:Closure,Weekly
ORGANIZER;CN="Quail Creek Sporting Ranch":MAILTO:admin@quailcreeksportingranch.com
END:VEVENT
BEGIN:VEVENT
DTSTART;VALUE=DATE:20250203
DTEND;VALUE=DATE:20250204
DTSTAMP:20260422T102141
CREATED:20230406T193235Z
LAST-MODIFIED:20230407T134114Z
UID:10008188-1738540800-1738627199@quailcreeksportingranch.com
SUMMARY:Sporting Clays Course (CLOSED)
DESCRIPTION:
URL:https://quailcreeksportingranch.com/event/sporting-clays-course-closed/2025-02-03/
LOCATION:Quail Creek Sporting Ranch
CATEGORIES:Closure,Event
ORGANIZER;CN="Quail Creek Sporting Ranch":MAILTO:admin@quailcreeksportingranch.com
END:VEVENT
BEGIN:VEVENT
DTSTART;TZID=America/New_York:20250128T070000
DTEND;TZID=America/New_York:20250128T140000
DTSTAMP:20260422T102141
CREATED:20241230T194736Z
LAST-MODIFIED:20241230T194736Z
UID:10016632-1738047600-1738072800@quailcreeksportingranch.com
SUMMARY:Diamond R Fertilizer Co (Red Course Closed & Golf Carts Reserved)
DESCRIPTION:
URL:https://quailcreeksportingranch.com/event/diamond-r-fertilizer-co-red-course-closed-golf-carts-reserved/
LOCATION:Quail Creek Sporting Ranch
CATEGORIES:Closure,Event,Event|Closure,Red Course Closed,Shoot
ORGANIZER;CN="Quail Creek Sporting Ranch":MAILTO:admin@quailcreeksportingranch.com
END:VEVENT
BEGIN:VEVENT
DTSTART;TZID=America/New_York:20250127T110000
DTEND;TZID=America/New_York:20250127T140000
DTSTAMP:20260422T102141
CREATED:20230406T193033Z
LAST-MODIFIED:20260202T161300Z
UID:10018110-1737975600-1737986400@quailcreeksportingranch.com
SUMMARY:Lunch Pavilion Open 11am-2pm
DESCRIPTION:
URL:https://quailcreeksportingranch.com/event/lunch-pavilion-closed/2025-01-27/
LOCATION:Quail Creek Sporting Ranch
CATEGORIES:Closure,Weekly
ORGANIZER;CN="Quail Creek Sporting Ranch":MAILTO:admin@quailcreeksportingranch.com
END:VEVENT
BEGIN:VEVENT
DTSTART;VALUE=DATE:20250127
DTEND;VALUE=DATE:20250128
DTSTAMP:20260422T102141
CREATED:20230406T193235Z
LAST-MODIFIED:20230407T134114Z
UID:10008187-1737936000-1738022399@quailcreeksportingranch.com
SUMMARY:Sporting Clays Course (CLOSED)
DESCRIPTION:
URL:https://quailcreeksportingranch.com/event/sporting-clays-course-closed/2025-01-27/
LOCATION:Quail Creek Sporting Ranch
CATEGORIES:Closure,Event
ORGANIZER;CN="Quail Creek Sporting Ranch":MAILTO:admin@quailcreeksportingranch.com
END:VEVENT
BEGIN:VEVENT
DTSTART;TZID=America/New_York:20250120T110000
DTEND;TZID=America/New_York:20250120T140000
DTSTAMP:20260422T102141
CREATED:20230406T193033Z
LAST-MODIFIED:20260202T161300Z
UID:10018109-1737370800-1737381600@quailcreeksportingranch.com
SUMMARY:Lunch Pavilion Open 11am-2pm
DESCRIPTION:
URL:https://quailcreeksportingranch.com/event/lunch-pavilion-closed/2025-01-20/
LOCATION:Quail Creek Sporting Ranch
CATEGORIES:Closure,Weekly
ORGANIZER;CN="Quail Creek Sporting Ranch":MAILTO:admin@quailcreeksportingranch.com
END:VEVENT
BEGIN:VEVENT
DTSTART;VALUE=DATE:20250120
DTEND;VALUE=DATE:20250121
DTSTAMP:20260422T102141
CREATED:20230406T193235Z
LAST-MODIFIED:20230407T134114Z
UID:10008186-1737331200-1737417599@quailcreeksportingranch.com
SUMMARY:Sporting Clays Course (CLOSED)
DESCRIPTION:
URL:https://quailcreeksportingranch.com/event/sporting-clays-course-closed/2025-01-20/
LOCATION:Quail Creek Sporting Ranch
CATEGORIES:Closure,Event
ORGANIZER;CN="Quail Creek Sporting Ranch":MAILTO:admin@quailcreeksportingranch.com
END:VEVENT
BEGIN:VEVENT
DTSTART;TZID=America/New_York:20250113T110000
DTEND;TZID=America/New_York:20250113T140000
DTSTAMP:20260422T102141
CREATED:20230406T193033Z
LAST-MODIFIED:20260202T161300Z
UID:10018108-1736766000-1736776800@quailcreeksportingranch.com
SUMMARY:Lunch Pavilion Open 11am-2pm
DESCRIPTION:
URL:https://quailcreeksportingranch.com/event/lunch-pavilion-closed/2025-01-13/
LOCATION:Quail Creek Sporting Ranch
CATEGORIES:Closure,Weekly
ORGANIZER;CN="Quail Creek Sporting Ranch":MAILTO:admin@quailcreeksportingranch.com
END:VEVENT
BEGIN:VEVENT
DTSTART;VALUE=DATE:20250113
DTEND;VALUE=DATE:20250114
DTSTAMP:20260422T102141
CREATED:20230406T193235Z
LAST-MODIFIED:20230407T134114Z
UID:10008185-1736726400-1736812799@quailcreeksportingranch.com
SUMMARY:Sporting Clays Course (CLOSED)
DESCRIPTION:
URL:https://quailcreeksportingranch.com/event/sporting-clays-course-closed/2025-01-13/
LOCATION:Quail Creek Sporting Ranch
CATEGORIES:Closure,Event
ORGANIZER;CN="Quail Creek Sporting Ranch":MAILTO:admin@quailcreeksportingranch.com
END:VEVENT
END:VCALENDAR