BEGIN:VCALENDAR
VERSION:2.0
PRODID:-//Quail Creek Sporting Ranch - ECPv6.15.15//NONSGML v1.0//EN
CALSCALE:GREGORIAN
METHOD:PUBLISH
X-WR-CALNAME:Quail Creek Sporting Ranch
X-ORIGINAL-URL:https://quailcreeksportingranch.com
X-WR-CALDESC:Events for Quail Creek Sporting Ranch
REFRESH-INTERVAL;VALUE=DURATION:PT1H
X-Robots-Tag:noindex
X-PUBLISHED-TTL:PT1H
BEGIN:VTIMEZONE
TZID:America/New_York
BEGIN:DAYLIGHT
TZOFFSETFROM:-0500
TZOFFSETTO:-0400
TZNAME:EDT
DTSTART:20260308T070000
END:DAYLIGHT
BEGIN:STANDARD
TZOFFSETFROM:-0400
TZOFFSETTO:-0500
TZNAME:EST
DTSTART:20261101T060000
END:STANDARD
BEGIN:DAYLIGHT
TZOFFSETFROM:-0500
TZOFFSETTO:-0400
TZNAME:EDT
DTSTART:20270314T070000
END:DAYLIGHT
BEGIN:STANDARD
TZOFFSETFROM:-0400
TZOFFSETTO:-0500
TZNAME:EST
DTSTART:20271107T060000
END:STANDARD
BEGIN:DAYLIGHT
TZOFFSETFROM:-0500
TZOFFSETTO:-0400
TZNAME:EDT
DTSTART:20280312T070000
END:DAYLIGHT
BEGIN:STANDARD
TZOFFSETFROM:-0400
TZOFFSETTO:-0500
TZNAME:EST
DTSTART:20281105T060000
END:STANDARD
BEGIN:DAYLIGHT
TZOFFSETFROM:-0500
TZOFFSETTO:-0400
TZNAME:EDT
DTSTART:20290311T070000
END:DAYLIGHT
BEGIN:STANDARD
TZOFFSETFROM:-0400
TZOFFSETTO:-0500
TZNAME:EST
DTSTART:20291104T060000
END:STANDARD
END:VTIMEZONE
BEGIN:VEVENT
DTSTART;TZID=America/New_York:20271129T110000
DTEND;TZID=America/New_York:20271129T140000
DTSTAMP:20260422T081858
CREATED:20230406T193033Z
LAST-MODIFIED:20260202T161300Z
UID:10018258-1827486000-1827496800@quailcreeksportingranch.com
SUMMARY:Lunch Pavilion Open 11am-2pm
DESCRIPTION:
URL:https://quailcreeksportingranch.com/event/lunch-pavilion-closed/2027-11-29/
LOCATION:Quail Creek Sporting Ranch
CATEGORIES:Closure,Weekly
ORGANIZER;CN="Quail Creek Sporting Ranch":MAILTO:admin@quailcreeksportingranch.com
END:VEVENT
BEGIN:VEVENT
DTSTART;TZID=America/New_York:20271206T110000
DTEND;TZID=America/New_York:20271206T140000
DTSTAMP:20260422T081858
CREATED:20230406T193033Z
LAST-MODIFIED:20260202T161300Z
UID:10018259-1828090800-1828101600@quailcreeksportingranch.com
SUMMARY:Lunch Pavilion Open 11am-2pm
DESCRIPTION:
URL:https://quailcreeksportingranch.com/event/lunch-pavilion-closed/2027-12-06/
LOCATION:Quail Creek Sporting Ranch
CATEGORIES:Closure,Weekly
ORGANIZER;CN="Quail Creek Sporting Ranch":MAILTO:admin@quailcreeksportingranch.com
END:VEVENT
BEGIN:VEVENT
DTSTART;TZID=America/New_York:20271213T110000
DTEND;TZID=America/New_York:20271213T140000
DTSTAMP:20260422T081858
CREATED:20230406T193033Z
LAST-MODIFIED:20260202T161300Z
UID:10018260-1828695600-1828706400@quailcreeksportingranch.com
SUMMARY:Lunch Pavilion Open 11am-2pm
DESCRIPTION:
URL:https://quailcreeksportingranch.com/event/lunch-pavilion-closed/2027-12-13/
LOCATION:Quail Creek Sporting Ranch
CATEGORIES:Closure,Weekly
ORGANIZER;CN="Quail Creek Sporting Ranch":MAILTO:admin@quailcreeksportingranch.com
END:VEVENT
BEGIN:VEVENT
DTSTART;TZID=America/New_York:20271220T110000
DTEND;TZID=America/New_York:20271220T140000
DTSTAMP:20260422T081858
CREATED:20230406T193033Z
LAST-MODIFIED:20260202T161300Z
UID:10018261-1829300400-1829311200@quailcreeksportingranch.com
SUMMARY:Lunch Pavilion Open 11am-2pm
DESCRIPTION:
URL:https://quailcreeksportingranch.com/event/lunch-pavilion-closed/2027-12-20/
LOCATION:Quail Creek Sporting Ranch
CATEGORIES:Closure,Weekly
ORGANIZER;CN="Quail Creek Sporting Ranch":MAILTO:admin@quailcreeksportingranch.com
END:VEVENT
BEGIN:VEVENT
DTSTART;VALUE=DATE:20271225
DTEND;VALUE=DATE:20271226
DTSTAMP:20260422T081858
CREATED:20230406T204645Z
LAST-MODIFIED:20230407T133826Z
UID:10008092-1829692800-1829779199@quailcreeksportingranch.com
SUMMARY:Christmas (Closed For Holiday)
DESCRIPTION:
URL:https://quailcreeksportingranch.com/event/christmas-closed-for-holiday/2027-12-25/
LOCATION:Quail Creek Sporting Ranch
CATEGORIES:Closure
ORGANIZER;CN="Quail Creek Sporting Ranch":MAILTO:admin@quailcreeksportingranch.com
END:VEVENT
BEGIN:VEVENT
DTSTART;TZID=America/New_York:20271227T110000
DTEND;TZID=America/New_York:20271227T140000
DTSTAMP:20260422T081858
CREATED:20230406T193033Z
LAST-MODIFIED:20260202T161300Z
UID:10018262-1829905200-1829916000@quailcreeksportingranch.com
SUMMARY:Lunch Pavilion Open 11am-2pm
DESCRIPTION:
URL:https://quailcreeksportingranch.com/event/lunch-pavilion-closed/2027-12-27/
LOCATION:Quail Creek Sporting Ranch
CATEGORIES:Closure,Weekly
ORGANIZER;CN="Quail Creek Sporting Ranch":MAILTO:admin@quailcreeksportingranch.com
END:VEVENT
BEGIN:VEVENT
DTSTART;TZID=America/New_York:20280103T110000
DTEND;TZID=America/New_York:20280103T140000
DTSTAMP:20260422T081858
CREATED:20230406T193033Z
LAST-MODIFIED:20260202T161300Z
UID:10018263-1830510000-1830520800@quailcreeksportingranch.com
SUMMARY:Lunch Pavilion Open 11am-2pm
DESCRIPTION:
URL:https://quailcreeksportingranch.com/event/lunch-pavilion-closed/2028-01-03/
LOCATION:Quail Creek Sporting Ranch
CATEGORIES:Closure,Weekly
ORGANIZER;CN="Quail Creek Sporting Ranch":MAILTO:admin@quailcreeksportingranch.com
END:VEVENT
BEGIN:VEVENT
DTSTART;TZID=America/New_York:20280110T110000
DTEND;TZID=America/New_York:20280110T140000
DTSTAMP:20260422T081858
CREATED:20230406T193033Z
LAST-MODIFIED:20260202T161300Z
UID:10018264-1831114800-1831125600@quailcreeksportingranch.com
SUMMARY:Lunch Pavilion Open 11am-2pm
DESCRIPTION:
URL:https://quailcreeksportingranch.com/event/lunch-pavilion-closed/2028-01-10/
LOCATION:Quail Creek Sporting Ranch
CATEGORIES:Closure,Weekly
ORGANIZER;CN="Quail Creek Sporting Ranch":MAILTO:admin@quailcreeksportingranch.com
END:VEVENT
BEGIN:VEVENT
DTSTART;TZID=America/New_York:20280117T110000
DTEND;TZID=America/New_York:20280117T140000
DTSTAMP:20260422T081858
CREATED:20230406T193033Z
LAST-MODIFIED:20260202T161300Z
UID:10018265-1831719600-1831730400@quailcreeksportingranch.com
SUMMARY:Lunch Pavilion Open 11am-2pm
DESCRIPTION:
URL:https://quailcreeksportingranch.com/event/lunch-pavilion-closed/2028-01-17/
LOCATION:Quail Creek Sporting Ranch
CATEGORIES:Closure,Weekly
ORGANIZER;CN="Quail Creek Sporting Ranch":MAILTO:admin@quailcreeksportingranch.com
END:VEVENT
BEGIN:VEVENT
DTSTART;TZID=America/New_York:20280124T110000
DTEND;TZID=America/New_York:20280124T140000
DTSTAMP:20260422T081858
CREATED:20230406T193033Z
LAST-MODIFIED:20260202T161300Z
UID:10018266-1832324400-1832335200@quailcreeksportingranch.com
SUMMARY:Lunch Pavilion Open 11am-2pm
DESCRIPTION:
URL:https://quailcreeksportingranch.com/event/lunch-pavilion-closed/2028-01-24/
LOCATION:Quail Creek Sporting Ranch
CATEGORIES:Closure,Weekly
ORGANIZER;CN="Quail Creek Sporting Ranch":MAILTO:admin@quailcreeksportingranch.com
END:VEVENT
BEGIN:VEVENT
DTSTART;TZID=America/New_York:20280131T110000
DTEND;TZID=America/New_York:20280131T140000
DTSTAMP:20260422T081858
CREATED:20230406T193033Z
LAST-MODIFIED:20260202T161300Z
UID:10018267-1832929200-1832940000@quailcreeksportingranch.com
SUMMARY:Lunch Pavilion Open 11am-2pm
DESCRIPTION:
URL:https://quailcreeksportingranch.com/event/lunch-pavilion-closed/2028-01-31/
LOCATION:Quail Creek Sporting Ranch
CATEGORIES:Closure,Weekly
ORGANIZER;CN="Quail Creek Sporting Ranch":MAILTO:admin@quailcreeksportingranch.com
END:VEVENT
BEGIN:VEVENT
DTSTART;TZID=America/New_York:20280207T110000
DTEND;TZID=America/New_York:20280207T140000
DTSTAMP:20260422T081858
CREATED:20230406T193033Z
LAST-MODIFIED:20260202T161300Z
UID:10018268-1833534000-1833544800@quailcreeksportingranch.com
SUMMARY:Lunch Pavilion Open 11am-2pm
DESCRIPTION:
URL:https://quailcreeksportingranch.com/event/lunch-pavilion-closed/2028-02-07/
LOCATION:Quail Creek Sporting Ranch
CATEGORIES:Closure,Weekly
ORGANIZER;CN="Quail Creek Sporting Ranch":MAILTO:admin@quailcreeksportingranch.com
END:VEVENT
BEGIN:VEVENT
DTSTART;TZID=America/New_York:20280214T110000
DTEND;TZID=America/New_York:20280214T140000
DTSTAMP:20260422T081858
CREATED:20230406T193033Z
LAST-MODIFIED:20260202T161300Z
UID:10018269-1834138800-1834149600@quailcreeksportingranch.com
SUMMARY:Lunch Pavilion Open 11am-2pm
DESCRIPTION:
URL:https://quailcreeksportingranch.com/event/lunch-pavilion-closed/2028-02-14/
LOCATION:Quail Creek Sporting Ranch
CATEGORIES:Closure,Weekly
ORGANIZER;CN="Quail Creek Sporting Ranch":MAILTO:admin@quailcreeksportingranch.com
END:VEVENT
BEGIN:VEVENT
DTSTART;TZID=America/New_York:20280221T110000
DTEND;TZID=America/New_York:20280221T140000
DTSTAMP:20260422T081858
CREATED:20230406T193033Z
LAST-MODIFIED:20260202T161300Z
UID:10018270-1834743600-1834754400@quailcreeksportingranch.com
SUMMARY:Lunch Pavilion Open 11am-2pm
DESCRIPTION:
URL:https://quailcreeksportingranch.com/event/lunch-pavilion-closed/2028-02-21/
LOCATION:Quail Creek Sporting Ranch
CATEGORIES:Closure,Weekly
ORGANIZER;CN="Quail Creek Sporting Ranch":MAILTO:admin@quailcreeksportingranch.com
END:VEVENT
BEGIN:VEVENT
DTSTART;TZID=America/New_York:20280228T110000
DTEND;TZID=America/New_York:20280228T140000
DTSTAMP:20260422T081858
CREATED:20230406T193033Z
LAST-MODIFIED:20260202T161300Z
UID:10018271-1835348400-1835359200@quailcreeksportingranch.com
SUMMARY:Lunch Pavilion Open 11am-2pm
DESCRIPTION:
URL:https://quailcreeksportingranch.com/event/lunch-pavilion-closed/2028-02-28/
LOCATION:Quail Creek Sporting Ranch
CATEGORIES:Closure,Weekly
ORGANIZER;CN="Quail Creek Sporting Ranch":MAILTO:admin@quailcreeksportingranch.com
END:VEVENT
BEGIN:VEVENT
DTSTART;TZID=America/New_York:20280306T110000
DTEND;TZID=America/New_York:20280306T140000
DTSTAMP:20260422T081858
CREATED:20230406T193033Z
LAST-MODIFIED:20260202T161300Z
UID:10018272-1835953200-1835964000@quailcreeksportingranch.com
SUMMARY:Lunch Pavilion Open 11am-2pm
DESCRIPTION:
URL:https://quailcreeksportingranch.com/event/lunch-pavilion-closed/2028-03-06/
LOCATION:Quail Creek Sporting Ranch
CATEGORIES:Closure,Weekly
ORGANIZER;CN="Quail Creek Sporting Ranch":MAILTO:admin@quailcreeksportingranch.com
END:VEVENT
BEGIN:VEVENT
DTSTART;TZID=America/New_York:20280313T110000
DTEND;TZID=America/New_York:20280313T140000
DTSTAMP:20260422T081858
CREATED:20230406T193033Z
LAST-MODIFIED:20260202T161300Z
UID:10018273-1836558000-1836568800@quailcreeksportingranch.com
SUMMARY:Lunch Pavilion Open 11am-2pm
DESCRIPTION:
URL:https://quailcreeksportingranch.com/event/lunch-pavilion-closed/2028-03-13/
LOCATION:Quail Creek Sporting Ranch
CATEGORIES:Closure,Weekly
ORGANIZER;CN="Quail Creek Sporting Ranch":MAILTO:admin@quailcreeksportingranch.com
END:VEVENT
BEGIN:VEVENT
DTSTART;TZID=America/New_York:20280320T110000
DTEND;TZID=America/New_York:20280320T140000
DTSTAMP:20260422T081858
CREATED:20230406T193033Z
LAST-MODIFIED:20260202T161300Z
UID:10018274-1837162800-1837173600@quailcreeksportingranch.com
SUMMARY:Lunch Pavilion Open 11am-2pm
DESCRIPTION:
URL:https://quailcreeksportingranch.com/event/lunch-pavilion-closed/2028-03-20/
LOCATION:Quail Creek Sporting Ranch
CATEGORIES:Closure,Weekly
ORGANIZER;CN="Quail Creek Sporting Ranch":MAILTO:admin@quailcreeksportingranch.com
END:VEVENT
BEGIN:VEVENT
DTSTART;TZID=America/New_York:20280327T110000
DTEND;TZID=America/New_York:20280327T140000
DTSTAMP:20260422T081858
CREATED:20230406T193033Z
LAST-MODIFIED:20260202T161300Z
UID:10018275-1837767600-1837778400@quailcreeksportingranch.com
SUMMARY:Lunch Pavilion Open 11am-2pm
DESCRIPTION:
URL:https://quailcreeksportingranch.com/event/lunch-pavilion-closed/2028-03-27/
LOCATION:Quail Creek Sporting Ranch
CATEGORIES:Closure,Weekly
ORGANIZER;CN="Quail Creek Sporting Ranch":MAILTO:admin@quailcreeksportingranch.com
END:VEVENT
BEGIN:VEVENT
DTSTART;TZID=America/New_York:20280403T110000
DTEND;TZID=America/New_York:20280403T140000
DTSTAMP:20260422T081858
CREATED:20230406T193033Z
LAST-MODIFIED:20260202T161300Z
UID:10018276-1838372400-1838383200@quailcreeksportingranch.com
SUMMARY:Lunch Pavilion Open 11am-2pm
DESCRIPTION:
URL:https://quailcreeksportingranch.com/event/lunch-pavilion-closed/2028-04-03/
LOCATION:Quail Creek Sporting Ranch
CATEGORIES:Closure,Weekly
ORGANIZER;CN="Quail Creek Sporting Ranch":MAILTO:admin@quailcreeksportingranch.com
END:VEVENT
BEGIN:VEVENT
DTSTART;TZID=America/New_York:20280410T110000
DTEND;TZID=America/New_York:20280410T140000
DTSTAMP:20260422T081858
CREATED:20230406T193033Z
LAST-MODIFIED:20260202T161300Z
UID:10018277-1838977200-1838988000@quailcreeksportingranch.com
SUMMARY:Lunch Pavilion Open 11am-2pm
DESCRIPTION:
URL:https://quailcreeksportingranch.com/event/lunch-pavilion-closed/2028-04-10/
LOCATION:Quail Creek Sporting Ranch
CATEGORIES:Closure,Weekly
ORGANIZER;CN="Quail Creek Sporting Ranch":MAILTO:admin@quailcreeksportingranch.com
END:VEVENT
BEGIN:VEVENT
DTSTART;TZID=America/New_York:20280417T110000
DTEND;TZID=America/New_York:20280417T140000
DTSTAMP:20260422T081858
CREATED:20230406T193033Z
LAST-MODIFIED:20260202T161300Z
UID:10018278-1839582000-1839592800@quailcreeksportingranch.com
SUMMARY:Lunch Pavilion Open 11am-2pm
DESCRIPTION:
URL:https://quailcreeksportingranch.com/event/lunch-pavilion-closed/2028-04-17/
LOCATION:Quail Creek Sporting Ranch
CATEGORIES:Closure,Weekly
ORGANIZER;CN="Quail Creek Sporting Ranch":MAILTO:admin@quailcreeksportingranch.com
END:VEVENT
BEGIN:VEVENT
DTSTART;TZID=America/New_York:20280424T110000
DTEND;TZID=America/New_York:20280424T140000
DTSTAMP:20260422T081858
CREATED:20230406T193033Z
LAST-MODIFIED:20260202T161300Z
UID:10018279-1840186800-1840197600@quailcreeksportingranch.com
SUMMARY:Lunch Pavilion Open 11am-2pm
DESCRIPTION:
URL:https://quailcreeksportingranch.com/event/lunch-pavilion-closed/2028-04-24/
LOCATION:Quail Creek Sporting Ranch
CATEGORIES:Closure,Weekly
ORGANIZER;CN="Quail Creek Sporting Ranch":MAILTO:admin@quailcreeksportingranch.com
END:VEVENT
BEGIN:VEVENT
DTSTART;TZID=America/New_York:20280501T110000
DTEND;TZID=America/New_York:20280501T140000
DTSTAMP:20260422T081858
CREATED:20230406T193033Z
LAST-MODIFIED:20260202T161300Z
UID:10018280-1840791600-1840802400@quailcreeksportingranch.com
SUMMARY:Lunch Pavilion Open 11am-2pm
DESCRIPTION:
URL:https://quailcreeksportingranch.com/event/lunch-pavilion-closed/2028-05-01/
LOCATION:Quail Creek Sporting Ranch
CATEGORIES:Closure,Weekly
ORGANIZER;CN="Quail Creek Sporting Ranch":MAILTO:admin@quailcreeksportingranch.com
END:VEVENT
BEGIN:VEVENT
DTSTART;TZID=America/New_York:20280508T110000
DTEND;TZID=America/New_York:20280508T140000
DTSTAMP:20260422T081858
CREATED:20230406T193033Z
LAST-MODIFIED:20260202T161300Z
UID:10018281-1841396400-1841407200@quailcreeksportingranch.com
SUMMARY:Lunch Pavilion Open 11am-2pm
DESCRIPTION:
URL:https://quailcreeksportingranch.com/event/lunch-pavilion-closed/2028-05-08/
LOCATION:Quail Creek Sporting Ranch
CATEGORIES:Closure,Weekly
ORGANIZER;CN="Quail Creek Sporting Ranch":MAILTO:admin@quailcreeksportingranch.com
END:VEVENT
BEGIN:VEVENT
DTSTART;TZID=America/New_York:20280515T110000
DTEND;TZID=America/New_York:20280515T140000
DTSTAMP:20260422T081858
CREATED:20230406T193033Z
LAST-MODIFIED:20260202T161300Z
UID:10018282-1842001200-1842012000@quailcreeksportingranch.com
SUMMARY:Lunch Pavilion Open 11am-2pm
DESCRIPTION:
URL:https://quailcreeksportingranch.com/event/lunch-pavilion-closed/2028-05-15/
LOCATION:Quail Creek Sporting Ranch
CATEGORIES:Closure,Weekly
ORGANIZER;CN="Quail Creek Sporting Ranch":MAILTO:admin@quailcreeksportingranch.com
END:VEVENT
BEGIN:VEVENT
DTSTART;TZID=America/New_York:20280522T110000
DTEND;TZID=America/New_York:20280522T140000
DTSTAMP:20260422T081858
CREATED:20230406T193033Z
LAST-MODIFIED:20260202T161300Z
UID:10018283-1842606000-1842616800@quailcreeksportingranch.com
SUMMARY:Lunch Pavilion Open 11am-2pm
DESCRIPTION:
URL:https://quailcreeksportingranch.com/event/lunch-pavilion-closed/2028-05-22/
LOCATION:Quail Creek Sporting Ranch
CATEGORIES:Closure,Weekly
ORGANIZER;CN="Quail Creek Sporting Ranch":MAILTO:admin@quailcreeksportingranch.com
END:VEVENT
BEGIN:VEVENT
DTSTART;TZID=America/New_York:20280529T110000
DTEND;TZID=America/New_York:20280529T140000
DTSTAMP:20260422T081858
CREATED:20230406T193033Z
LAST-MODIFIED:20260202T161300Z
UID:10018284-1843210800-1843221600@quailcreeksportingranch.com
SUMMARY:Lunch Pavilion Open 11am-2pm
DESCRIPTION:
URL:https://quailcreeksportingranch.com/event/lunch-pavilion-closed/2028-05-29/
LOCATION:Quail Creek Sporting Ranch
CATEGORIES:Closure,Weekly
ORGANIZER;CN="Quail Creek Sporting Ranch":MAILTO:admin@quailcreeksportingranch.com
END:VEVENT
BEGIN:VEVENT
DTSTART;TZID=America/New_York:20280605T110000
DTEND;TZID=America/New_York:20280605T140000
DTSTAMP:20260422T081858
CREATED:20230406T193033Z
LAST-MODIFIED:20260202T161300Z
UID:10018285-1843815600-1843826400@quailcreeksportingranch.com
SUMMARY:Lunch Pavilion Open 11am-2pm
DESCRIPTION:
URL:https://quailcreeksportingranch.com/event/lunch-pavilion-closed/2028-06-05/
LOCATION:Quail Creek Sporting Ranch
CATEGORIES:Closure,Weekly
ORGANIZER;CN="Quail Creek Sporting Ranch":MAILTO:admin@quailcreeksportingranch.com
END:VEVENT
BEGIN:VEVENT
DTSTART;TZID=America/New_York:20280612T110000
DTEND;TZID=America/New_York:20280612T140000
DTSTAMP:20260422T081858
CREATED:20230406T193033Z
LAST-MODIFIED:20260202T161300Z
UID:10018286-1844420400-1844431200@quailcreeksportingranch.com
SUMMARY:Lunch Pavilion Open 11am-2pm
DESCRIPTION:
URL:https://quailcreeksportingranch.com/event/lunch-pavilion-closed/2028-06-12/
LOCATION:Quail Creek Sporting Ranch
CATEGORIES:Closure,Weekly
ORGANIZER;CN="Quail Creek Sporting Ranch":MAILTO:admin@quailcreeksportingranch.com
END:VEVENT
END:VCALENDAR