BEGIN:VCALENDAR
VERSION:2.0
PRODID:-//Quail Creek Sporting Ranch - ECPv6.15.15//NONSGML v1.0//EN
CALSCALE:GREGORIAN
METHOD:PUBLISH
X-WR-CALNAME:Quail Creek Sporting Ranch
X-ORIGINAL-URL:https://quailcreeksportingranch.com
X-WR-CALDESC:Events for Quail Creek Sporting Ranch
REFRESH-INTERVAL;VALUE=DURATION:PT1H
X-Robots-Tag:noindex
X-PUBLISHED-TTL:PT1H
BEGIN:VTIMEZONE
TZID:America/New_York
BEGIN:DAYLIGHT
TZOFFSETFROM:-0500
TZOFFSETTO:-0400
TZNAME:EDT
DTSTART:20220313T070000
END:DAYLIGHT
BEGIN:STANDARD
TZOFFSETFROM:-0400
TZOFFSETTO:-0500
TZNAME:EST
DTSTART:20221106T060000
END:STANDARD
BEGIN:DAYLIGHT
TZOFFSETFROM:-0500
TZOFFSETTO:-0400
TZNAME:EDT
DTSTART:20230312T070000
END:DAYLIGHT
BEGIN:STANDARD
TZOFFSETFROM:-0400
TZOFFSETTO:-0500
TZNAME:EST
DTSTART:20231105T060000
END:STANDARD
BEGIN:DAYLIGHT
TZOFFSETFROM:-0500
TZOFFSETTO:-0400
TZNAME:EDT
DTSTART:20240310T070000
END:DAYLIGHT
BEGIN:STANDARD
TZOFFSETFROM:-0400
TZOFFSETTO:-0500
TZNAME:EST
DTSTART:20241103T060000
END:STANDARD
END:VTIMEZONE
BEGIN:VEVENT
DTSTART;TZID=America/New_York:20230605T110000
DTEND;TZID=America/New_York:20230605T140000
DTSTAMP:20260424T110204
CREATED:20230406T193033Z
LAST-MODIFIED:20260202T161300Z
UID:10018024-1685962800-1685973600@quailcreeksportingranch.com
SUMMARY:Lunch Pavilion Open 11am-2pm
DESCRIPTION:
URL:https://quailcreeksportingranch.com/event/lunch-pavilion-closed/2023-06-05/
LOCATION:Quail Creek Sporting Ranch
CATEGORIES:Closure,Weekly
ORGANIZER;CN="Quail Creek Sporting Ranch":MAILTO:admin@quailcreeksportingranch.com
END:VEVENT
BEGIN:VEVENT
DTSTART;VALUE=DATE:20230605
DTEND;VALUE=DATE:20230606
DTSTAMP:20260424T110204
CREATED:20230406T193235Z
LAST-MODIFIED:20230407T134114Z
UID:10008101-1685923200-1686009599@quailcreeksportingranch.com
SUMMARY:Sporting Clays Course (CLOSED)
DESCRIPTION:
URL:https://quailcreeksportingranch.com/event/sporting-clays-course-closed/2023-06-05/
LOCATION:Quail Creek Sporting Ranch
CATEGORIES:Closure,Event
ORGANIZER;CN="Quail Creek Sporting Ranch":MAILTO:admin@quailcreeksportingranch.com
END:VEVENT
BEGIN:VEVENT
DTSTART;TZID=America/New_York:20230529T110000
DTEND;TZID=America/New_York:20230529T140000
DTSTAMP:20260424T110204
CREATED:20230406T193033Z
LAST-MODIFIED:20260202T161300Z
UID:10018023-1685358000-1685368800@quailcreeksportingranch.com
SUMMARY:Lunch Pavilion Open 11am-2pm
DESCRIPTION:
URL:https://quailcreeksportingranch.com/event/lunch-pavilion-closed/2023-05-29/
LOCATION:Quail Creek Sporting Ranch
CATEGORIES:Closure,Weekly
ORGANIZER;CN="Quail Creek Sporting Ranch":MAILTO:admin@quailcreeksportingranch.com
END:VEVENT
BEGIN:VEVENT
DTSTART;VALUE=DATE:20230529
DTEND;VALUE=DATE:20230530
DTSTAMP:20260424T110204
CREATED:20230406T193235Z
LAST-MODIFIED:20230407T134114Z
UID:10008100-1685318400-1685404799@quailcreeksportingranch.com
SUMMARY:Sporting Clays Course (CLOSED)
DESCRIPTION:
URL:https://quailcreeksportingranch.com/event/sporting-clays-course-closed/2023-05-29/
LOCATION:Quail Creek Sporting Ranch
CATEGORIES:Closure,Event
ORGANIZER;CN="Quail Creek Sporting Ranch":MAILTO:admin@quailcreeksportingranch.com
END:VEVENT
BEGIN:VEVENT
DTSTART;VALUE=DATE:20230527
DTEND;VALUE=DATE:20230528
DTSTAMP:20260424T110204
CREATED:20230407T183009Z
LAST-MODIFIED:20230407T183009Z
UID:10013049-1685145600-1685231999@quailcreeksportingranch.com
SUMMARY:NSCA – THE SALUTE SHOOT (BIUE & WHITE COURSE CLOSED)
DESCRIPTION:
URL:https://quailcreeksportingranch.com/event/nsca-the-salute-shoot-biue-white-course-closed/
LOCATION:Quail Creek Sporting Ranch
CATEGORIES:Closure,Event
ORGANIZER;CN="Quail Creek Sporting Ranch":MAILTO:admin@quailcreeksportingranch.com
END:VEVENT
BEGIN:VEVENT
DTSTART;TZID=America/New_York:20230522T110000
DTEND;TZID=America/New_York:20230522T140000
DTSTAMP:20260424T110204
CREATED:20230406T193033Z
LAST-MODIFIED:20260202T161300Z
UID:10018022-1684753200-1684764000@quailcreeksportingranch.com
SUMMARY:Lunch Pavilion Open 11am-2pm
DESCRIPTION:
URL:https://quailcreeksportingranch.com/event/lunch-pavilion-closed/2023-05-22/
LOCATION:Quail Creek Sporting Ranch
CATEGORIES:Closure,Weekly
ORGANIZER;CN="Quail Creek Sporting Ranch":MAILTO:admin@quailcreeksportingranch.com
END:VEVENT
BEGIN:VEVENT
DTSTART;VALUE=DATE:20230522
DTEND;VALUE=DATE:20230523
DTSTAMP:20260424T110204
CREATED:20230406T193235Z
LAST-MODIFIED:20230407T134114Z
UID:10008099-1684713600-1684799999@quailcreeksportingranch.com
SUMMARY:Sporting Clays Course (CLOSED)
DESCRIPTION:
URL:https://quailcreeksportingranch.com/event/sporting-clays-course-closed/2023-05-22/
LOCATION:Quail Creek Sporting Ranch
CATEGORIES:Closure,Event
ORGANIZER;CN="Quail Creek Sporting Ranch":MAILTO:admin@quailcreeksportingranch.com
END:VEVENT
BEGIN:VEVENT
DTSTART;TZID=America/New_York:20230515T110000
DTEND;TZID=America/New_York:20230515T140000
DTSTAMP:20260424T110205
CREATED:20230406T193033Z
LAST-MODIFIED:20260202T161300Z
UID:10018021-1684148400-1684159200@quailcreeksportingranch.com
SUMMARY:Lunch Pavilion Open 11am-2pm
DESCRIPTION:
URL:https://quailcreeksportingranch.com/event/lunch-pavilion-closed/2023-05-15/
LOCATION:Quail Creek Sporting Ranch
CATEGORIES:Closure,Weekly
ORGANIZER;CN="Quail Creek Sporting Ranch":MAILTO:admin@quailcreeksportingranch.com
END:VEVENT
BEGIN:VEVENT
DTSTART;VALUE=DATE:20230515
DTEND;VALUE=DATE:20230516
DTSTAMP:20260424T110205
CREATED:20230406T193235Z
LAST-MODIFIED:20230407T134114Z
UID:10008098-1684108800-1684195199@quailcreeksportingranch.com
SUMMARY:Sporting Clays Course (CLOSED)
DESCRIPTION:
URL:https://quailcreeksportingranch.com/event/sporting-clays-course-closed/2023-05-15/
LOCATION:Quail Creek Sporting Ranch
CATEGORIES:Closure,Event
ORGANIZER;CN="Quail Creek Sporting Ranch":MAILTO:admin@quailcreeksportingranch.com
END:VEVENT
BEGIN:VEVENT
DTSTART;VALUE=DATE:20230513
DTEND;VALUE=DATE:20230514
DTSTAMP:20260424T110205
CREATED:20230407T182800Z
LAST-MODIFIED:20230407T182823Z
UID:10013046-1683936000-1684022399@quailcreeksportingranch.com
SUMMARY:MUDBONE HUNTING CLUB FUNDRAISER (RED COURSE CLOSED)
DESCRIPTION:
URL:https://quailcreeksportingranch.com/event/mudbone-hunting-club-fundraiser-red-course-closed/
LOCATION:Quail Creek Sporting Ranch
CATEGORIES:Closure,Event
ORGANIZER;CN="Quail Creek Sporting Ranch":MAILTO:admin@quailcreeksportingranch.com
END:VEVENT
BEGIN:VEVENT
DTSTART;TZID=America/New_York:20230508T110000
DTEND;TZID=America/New_York:20230508T140000
DTSTAMP:20260424T110205
CREATED:20230406T193033Z
LAST-MODIFIED:20260202T161300Z
UID:10018020-1683543600-1683554400@quailcreeksportingranch.com
SUMMARY:Lunch Pavilion Open 11am-2pm
DESCRIPTION:
URL:https://quailcreeksportingranch.com/event/lunch-pavilion-closed/2023-05-08/
LOCATION:Quail Creek Sporting Ranch
CATEGORIES:Closure,Weekly
ORGANIZER;CN="Quail Creek Sporting Ranch":MAILTO:admin@quailcreeksportingranch.com
END:VEVENT
BEGIN:VEVENT
DTSTART;VALUE=DATE:20230508
DTEND;VALUE=DATE:20230509
DTSTAMP:20260424T110205
CREATED:20230406T193235Z
LAST-MODIFIED:20230407T134114Z
UID:10008097-1683504000-1683590399@quailcreeksportingranch.com
SUMMARY:Sporting Clays Course (CLOSED)
DESCRIPTION:
URL:https://quailcreeksportingranch.com/event/sporting-clays-course-closed/2023-05-08/
LOCATION:Quail Creek Sporting Ranch
CATEGORIES:Closure,Event
ORGANIZER;CN="Quail Creek Sporting Ranch":MAILTO:admin@quailcreeksportingranch.com
END:VEVENT
BEGIN:VEVENT
DTSTART;VALUE=DATE:20230505
DTEND;VALUE=DATE:20230506
DTSTAMP:20260424T110205
CREATED:20230407T182733Z
LAST-MODIFIED:20230407T182733Z
UID:10013045-1683244800-1683331199@quailcreeksportingranch.com
SUMMARY:AGC-S FIA- (RED COURSE CLOSED)
DESCRIPTION:
URL:https://quailcreeksportingranch.com/event/agc-s-fia-red-course-closed/
LOCATION:Quail Creek Sporting Ranch
CATEGORIES:Closure,Event
ORGANIZER;CN="Quail Creek Sporting Ranch":MAILTO:admin@quailcreeksportingranch.com
END:VEVENT
BEGIN:VEVENT
DTSTART;TZID=America/New_York:20230501T110000
DTEND;TZID=America/New_York:20230501T140000
DTSTAMP:20260424T110205
CREATED:20230406T193033Z
LAST-MODIFIED:20260202T161300Z
UID:10018019-1682938800-1682949600@quailcreeksportingranch.com
SUMMARY:Lunch Pavilion Open 11am-2pm
DESCRIPTION:
URL:https://quailcreeksportingranch.com/event/lunch-pavilion-closed/2023-05-01/
LOCATION:Quail Creek Sporting Ranch
CATEGORIES:Closure,Weekly
ORGANIZER;CN="Quail Creek Sporting Ranch":MAILTO:admin@quailcreeksportingranch.com
END:VEVENT
BEGIN:VEVENT
DTSTART;VALUE=DATE:20230501
DTEND;VALUE=DATE:20230502
DTSTAMP:20260424T110205
CREATED:20230406T193235Z
LAST-MODIFIED:20230407T134114Z
UID:10008096-1682899200-1682985599@quailcreeksportingranch.com
SUMMARY:Sporting Clays Course (CLOSED)
DESCRIPTION:
URL:https://quailcreeksportingranch.com/event/sporting-clays-course-closed/2023-05-01/
LOCATION:Quail Creek Sporting Ranch
CATEGORIES:Closure,Event
ORGANIZER;CN="Quail Creek Sporting Ranch":MAILTO:admin@quailcreeksportingranch.com
END:VEVENT
BEGIN:VEVENT
DTSTART;TZID=America/New_York:20230424T110000
DTEND;TZID=America/New_York:20230424T140000
DTSTAMP:20260424T110205
CREATED:20230406T193033Z
LAST-MODIFIED:20260202T161300Z
UID:10018018-1682334000-1682344800@quailcreeksportingranch.com
SUMMARY:Lunch Pavilion Open 11am-2pm
DESCRIPTION:
URL:https://quailcreeksportingranch.com/event/lunch-pavilion-closed/2023-04-24/
LOCATION:Quail Creek Sporting Ranch
CATEGORIES:Closure,Weekly
ORGANIZER;CN="Quail Creek Sporting Ranch":MAILTO:admin@quailcreeksportingranch.com
END:VEVENT
BEGIN:VEVENT
DTSTART;VALUE=DATE:20230424
DTEND;VALUE=DATE:20230425
DTSTAMP:20260424T110205
CREATED:20230406T193235Z
LAST-MODIFIED:20230407T134114Z
UID:10008095-1682294400-1682380799@quailcreeksportingranch.com
SUMMARY:Sporting Clays Course (CLOSED)
DESCRIPTION:
URL:https://quailcreeksportingranch.com/event/sporting-clays-course-closed/2023-04-24/
LOCATION:Quail Creek Sporting Ranch
CATEGORIES:Closure,Event
ORGANIZER;CN="Quail Creek Sporting Ranch":MAILTO:admin@quailcreeksportingranch.com
END:VEVENT
BEGIN:VEVENT
DTSTART;VALUE=DATE:20230420
DTEND;VALUE=DATE:20230421
DTSTAMP:20260424T110205
CREATED:20230407T182935Z
LAST-MODIFIED:20230407T182935Z
UID:10013048-1681948800-1682035199@quailcreeksportingranch.com
SUMMARY:ST. LUCIE COUNTY FARM BUREAU (RED COURSE CLOSED)
DESCRIPTION:
URL:https://quailcreeksportingranch.com/event/st-lucie-county-farm-bureau-red-course-closed/
LOCATION:Quail Creek Sporting Ranch
CATEGORIES:Closure,Event
ORGANIZER;CN="Quail Creek Sporting Ranch":MAILTO:admin@quailcreeksportingranch.com
END:VEVENT
BEGIN:VEVENT
DTSTART;VALUE=DATE:20230419
DTEND;VALUE=DATE:20230420
DTSTAMP:20260424T110205
CREATED:20230407T182852Z
LAST-MODIFIED:20230407T182907Z
UID:10013047-1681862400-1681948799@quailcreeksportingranch.com
SUMMARY:BUSTIN’ CLAYS 4 THE UNITED WAY (RED COURSE CLOSED)
DESCRIPTION:
URL:https://quailcreeksportingranch.com/event/bustin-clays-4-the-united-way-red-course-closed/
LOCATION:Quail Creek Sporting Ranch
CATEGORIES:Closure,Event
ORGANIZER;CN="Quail Creek Sporting Ranch":MAILTO:admin@quailcreeksportingranch.com
END:VEVENT
BEGIN:VEVENT
DTSTART;TZID=America/New_York:20230417T110000
DTEND;TZID=America/New_York:20230417T140000
DTSTAMP:20260424T110205
CREATED:20230406T193033Z
LAST-MODIFIED:20260202T161300Z
UID:10018017-1681729200-1681740000@quailcreeksportingranch.com
SUMMARY:Lunch Pavilion Open 11am-2pm
DESCRIPTION:
URL:https://quailcreeksportingranch.com/event/lunch-pavilion-closed/2023-04-17/
LOCATION:Quail Creek Sporting Ranch
CATEGORIES:Closure,Weekly
ORGANIZER;CN="Quail Creek Sporting Ranch":MAILTO:admin@quailcreeksportingranch.com
END:VEVENT
BEGIN:VEVENT
DTSTART;VALUE=DATE:20230417
DTEND;VALUE=DATE:20230418
DTSTAMP:20260424T110205
CREATED:20230406T193235Z
LAST-MODIFIED:20230407T134114Z
UID:10008094-1681689600-1681775999@quailcreeksportingranch.com
SUMMARY:Sporting Clays Course (CLOSED)
DESCRIPTION:
URL:https://quailcreeksportingranch.com/event/sporting-clays-course-closed/2023-04-17/
LOCATION:Quail Creek Sporting Ranch
CATEGORIES:Closure,Event
ORGANIZER;CN="Quail Creek Sporting Ranch":MAILTO:admin@quailcreeksportingranch.com
END:VEVENT
BEGIN:VEVENT
DTSTART;TZID=America/New_York:20230410T110000
DTEND;TZID=America/New_York:20230410T140000
DTSTAMP:20260424T110205
CREATED:20230406T193033Z
LAST-MODIFIED:20260202T161300Z
UID:10018016-1681124400-1681135200@quailcreeksportingranch.com
SUMMARY:Lunch Pavilion Open 11am-2pm
DESCRIPTION:
URL:https://quailcreeksportingranch.com/event/lunch-pavilion-closed/2023-04-10/
LOCATION:Quail Creek Sporting Ranch
CATEGORIES:Closure,Weekly
ORGANIZER;CN="Quail Creek Sporting Ranch":MAILTO:admin@quailcreeksportingranch.com
END:VEVENT
BEGIN:VEVENT
DTSTART;VALUE=DATE:20230410
DTEND;VALUE=DATE:20230411
DTSTAMP:20260424T110205
CREATED:20230406T193235Z
LAST-MODIFIED:20230407T134114Z
UID:10008093-1681084800-1681171199@quailcreeksportingranch.com
SUMMARY:Sporting Clays Course (CLOSED)
DESCRIPTION:
URL:https://quailcreeksportingranch.com/event/sporting-clays-course-closed/2023-04-10/
LOCATION:Quail Creek Sporting Ranch
CATEGORIES:Closure,Event
ORGANIZER;CN="Quail Creek Sporting Ranch":MAILTO:admin@quailcreeksportingranch.com
END:VEVENT
BEGIN:VEVENT
DTSTART;VALUE=DATE:20230409
DTEND;VALUE=DATE:20230410
DTSTAMP:20260424T110205
CREATED:20230407T141709Z
LAST-MODIFIED:20230407T142837Z
UID:10010707-1681027200-1681059600@quailcreeksportingranch.com
SUMMARY:Easter Day (CLOSED)
DESCRIPTION:
URL:https://quailcreeksportingranch.com/event/easter-day/2023-04-09/2/
LOCATION:Quail Creek Sporting Ranch
CATEGORIES:Closure
ORGANIZER;CN="Quail Creek Sporting Ranch":MAILTO:admin@quailcreeksportingranch.com
END:VEVENT
BEGIN:VEVENT
DTSTART;VALUE=DATE:20230409
DTEND;VALUE=DATE:20230410
DTSTAMP:20260424T110205
CREATED:20230407T141709Z
LAST-MODIFIED:20230407T142837Z
UID:10010706-1680998400-1681084799@quailcreeksportingranch.com
SUMMARY:Easter Day (CLOSED)
DESCRIPTION:
URL:https://quailcreeksportingranch.com/event/easter-day/2023-04-09/1/
LOCATION:Quail Creek Sporting Ranch
CATEGORIES:Closure
ORGANIZER;CN="Quail Creek Sporting Ranch":MAILTO:admin@quailcreeksportingranch.com
END:VEVENT
END:VCALENDAR