BEGIN:VCALENDAR
VERSION:2.0
PRODID:-//Quail Creek Sporting Ranch - ECPv6.15.15//NONSGML v1.0//EN
CALSCALE:GREGORIAN
METHOD:PUBLISH
X-ORIGINAL-URL:https://quailcreeksportingranch.com
X-WR-CALDESC:Events for Quail Creek Sporting Ranch
REFRESH-INTERVAL;VALUE=DURATION:PT1H
X-Robots-Tag:noindex
X-PUBLISHED-TTL:PT1H
BEGIN:VTIMEZONE
TZID:America/New_York
BEGIN:DAYLIGHT
TZOFFSETFROM:-0500
TZOFFSETTO:-0400
TZNAME:EDT
DTSTART:20220313T070000
END:DAYLIGHT
BEGIN:STANDARD
TZOFFSETFROM:-0400
TZOFFSETTO:-0500
TZNAME:EST
DTSTART:20221106T060000
END:STANDARD
BEGIN:DAYLIGHT
TZOFFSETFROM:-0500
TZOFFSETTO:-0400
TZNAME:EDT
DTSTART:20230312T070000
END:DAYLIGHT
BEGIN:STANDARD
TZOFFSETFROM:-0400
TZOFFSETTO:-0500
TZNAME:EST
DTSTART:20231105T060000
END:STANDARD
BEGIN:DAYLIGHT
TZOFFSETFROM:-0500
TZOFFSETTO:-0400
TZNAME:EDT
DTSTART:20240310T070000
END:DAYLIGHT
BEGIN:STANDARD
TZOFFSETFROM:-0400
TZOFFSETTO:-0500
TZNAME:EST
DTSTART:20241103T060000
END:STANDARD
END:VTIMEZONE
BEGIN:VEVENT
DTSTART;VALUE=DATE:20230918
DTEND;VALUE=DATE:20230919
DTSTAMP:20260424T060857
CREATED:20230406T193235Z
LAST-MODIFIED:20230407T134114Z
UID:10008116-1694995200-1695081599@quailcreeksportingranch.com
SUMMARY:Sporting Clays Course (CLOSED)
DESCRIPTION:
URL:https://quailcreeksportingranch.com/event/sporting-clays-course-closed/2023-09-18/
LOCATION:Quail Creek Sporting Ranch
CATEGORIES:Closure,Event
ORGANIZER;CN="Quail Creek Sporting Ranch":MAILTO:admin@quailcreeksportingranch.com
END:VEVENT
BEGIN:VEVENT
DTSTART;TZID=America/New_York:20230911T110000
DTEND;TZID=America/New_York:20230911T140000
DTSTAMP:20260424T060857
CREATED:20230406T193033Z
LAST-MODIFIED:20260202T161300Z
UID:10018038-1694430000-1694440800@quailcreeksportingranch.com
SUMMARY:Lunch Pavilion Open 11am-2pm
DESCRIPTION:
URL:https://quailcreeksportingranch.com/event/lunch-pavilion-closed/2023-09-11/
LOCATION:Quail Creek Sporting Ranch
CATEGORIES:Closure,Weekly
ORGANIZER;CN="Quail Creek Sporting Ranch":MAILTO:admin@quailcreeksportingranch.com
END:VEVENT
BEGIN:VEVENT
DTSTART;VALUE=DATE:20230911
DTEND;VALUE=DATE:20230912
DTSTAMP:20260424T060857
CREATED:20230406T193235Z
LAST-MODIFIED:20230407T134114Z
UID:10008115-1694390400-1694476799@quailcreeksportingranch.com
SUMMARY:Sporting Clays Course (CLOSED)
DESCRIPTION:
URL:https://quailcreeksportingranch.com/event/sporting-clays-course-closed/2023-09-11/
LOCATION:Quail Creek Sporting Ranch
CATEGORIES:Closure,Event
ORGANIZER;CN="Quail Creek Sporting Ranch":MAILTO:admin@quailcreeksportingranch.com
END:VEVENT
BEGIN:VEVENT
DTSTART;TZID=America/New_York:20230904T110000
DTEND;TZID=America/New_York:20230904T140000
DTSTAMP:20260424T060857
CREATED:20230406T193033Z
LAST-MODIFIED:20260202T161300Z
UID:10018037-1693825200-1693836000@quailcreeksportingranch.com
SUMMARY:Lunch Pavilion Open 11am-2pm
DESCRIPTION:
URL:https://quailcreeksportingranch.com/event/lunch-pavilion-closed/2023-09-04/
LOCATION:Quail Creek Sporting Ranch
CATEGORIES:Closure,Weekly
ORGANIZER;CN="Quail Creek Sporting Ranch":MAILTO:admin@quailcreeksportingranch.com
END:VEVENT
BEGIN:VEVENT
DTSTART;VALUE=DATE:20230904
DTEND;VALUE=DATE:20230905
DTSTAMP:20260424T060857
CREATED:20230406T193235Z
LAST-MODIFIED:20230407T134114Z
UID:10008114-1693785600-1693871999@quailcreeksportingranch.com
SUMMARY:Sporting Clays Course (CLOSED)
DESCRIPTION:
URL:https://quailcreeksportingranch.com/event/sporting-clays-course-closed/2023-09-04/
LOCATION:Quail Creek Sporting Ranch
CATEGORIES:Closure,Event
ORGANIZER;CN="Quail Creek Sporting Ranch":MAILTO:admin@quailcreeksportingranch.com
END:VEVENT
BEGIN:VEVENT
DTSTART;VALUE=DATE:20230902
DTEND;VALUE=DATE:20230903
DTSTAMP:20260424T060857
CREATED:20230407T183641Z
LAST-MODIFIED:20230407T183641Z
UID:10013058-1693612800-1693699199@quailcreeksportingranch.com
SUMMARY:NSCA – BE BOLD\, GO GOLD (BLUE & WHITE COURSE CLOSED)
DESCRIPTION:
URL:https://quailcreeksportingranch.com/event/nsca-be-bold-go-gold-blue-white-course-closed/
LOCATION:Quail Creek Sporting Ranch
CATEGORIES:Closure,Event
ORGANIZER;CN="Quail Creek Sporting Ranch":MAILTO:admin@quailcreeksportingranch.com
END:VEVENT
BEGIN:VEVENT
DTSTART;TZID=America/New_York:20230828T110000
DTEND;TZID=America/New_York:20230828T140000
DTSTAMP:20260424T060857
CREATED:20230406T193033Z
LAST-MODIFIED:20260202T161300Z
UID:10018036-1693220400-1693231200@quailcreeksportingranch.com
SUMMARY:Lunch Pavilion Open 11am-2pm
DESCRIPTION:
URL:https://quailcreeksportingranch.com/event/lunch-pavilion-closed/2023-08-28/
LOCATION:Quail Creek Sporting Ranch
CATEGORIES:Closure,Weekly
ORGANIZER;CN="Quail Creek Sporting Ranch":MAILTO:admin@quailcreeksportingranch.com
END:VEVENT
BEGIN:VEVENT
DTSTART;VALUE=DATE:20230828
DTEND;VALUE=DATE:20230829
DTSTAMP:20260424T060857
CREATED:20230406T193235Z
LAST-MODIFIED:20230407T134114Z
UID:10008113-1693180800-1693267199@quailcreeksportingranch.com
SUMMARY:Sporting Clays Course (CLOSED)
DESCRIPTION:
URL:https://quailcreeksportingranch.com/event/sporting-clays-course-closed/2023-08-28/
LOCATION:Quail Creek Sporting Ranch
CATEGORIES:Closure,Event
ORGANIZER;CN="Quail Creek Sporting Ranch":MAILTO:admin@quailcreeksportingranch.com
END:VEVENT
BEGIN:VEVENT
DTSTART;TZID=America/New_York:20230821T110000
DTEND;TZID=America/New_York:20230821T140000
DTSTAMP:20260424T060857
CREATED:20230406T193033Z
LAST-MODIFIED:20260202T161300Z
UID:10018035-1692615600-1692626400@quailcreeksportingranch.com
SUMMARY:Lunch Pavilion Open 11am-2pm
DESCRIPTION:
URL:https://quailcreeksportingranch.com/event/lunch-pavilion-closed/2023-08-21/
LOCATION:Quail Creek Sporting Ranch
CATEGORIES:Closure,Weekly
ORGANIZER;CN="Quail Creek Sporting Ranch":MAILTO:admin@quailcreeksportingranch.com
END:VEVENT
BEGIN:VEVENT
DTSTART;VALUE=DATE:20230821
DTEND;VALUE=DATE:20230822
DTSTAMP:20260424T060857
CREATED:20230406T193235Z
LAST-MODIFIED:20230407T134114Z
UID:10008112-1692576000-1692662399@quailcreeksportingranch.com
SUMMARY:Sporting Clays Course (CLOSED)
DESCRIPTION:
URL:https://quailcreeksportingranch.com/event/sporting-clays-course-closed/2023-08-21/
LOCATION:Quail Creek Sporting Ranch
CATEGORIES:Closure,Event
ORGANIZER;CN="Quail Creek Sporting Ranch":MAILTO:admin@quailcreeksportingranch.com
END:VEVENT
BEGIN:VEVENT
DTSTART;TZID=America/New_York:20230814T110000
DTEND;TZID=America/New_York:20230814T140000
DTSTAMP:20260424T060857
CREATED:20230406T193033Z
LAST-MODIFIED:20260202T161300Z
UID:10018034-1692010800-1692021600@quailcreeksportingranch.com
SUMMARY:Lunch Pavilion Open 11am-2pm
DESCRIPTION:
URL:https://quailcreeksportingranch.com/event/lunch-pavilion-closed/2023-08-14/
LOCATION:Quail Creek Sporting Ranch
CATEGORIES:Closure,Weekly
ORGANIZER;CN="Quail Creek Sporting Ranch":MAILTO:admin@quailcreeksportingranch.com
END:VEVENT
BEGIN:VEVENT
DTSTART;VALUE=DATE:20230814
DTEND;VALUE=DATE:20230815
DTSTAMP:20260424T060857
CREATED:20230406T193235Z
LAST-MODIFIED:20230407T134114Z
UID:10008111-1691971200-1692057599@quailcreeksportingranch.com
SUMMARY:Sporting Clays Course (CLOSED)
DESCRIPTION:
URL:https://quailcreeksportingranch.com/event/sporting-clays-course-closed/2023-08-14/
LOCATION:Quail Creek Sporting Ranch
CATEGORIES:Closure,Event
ORGANIZER;CN="Quail Creek Sporting Ranch":MAILTO:admin@quailcreeksportingranch.com
END:VEVENT
BEGIN:VEVENT
DTSTART;VALUE=DATE:20230812
DTEND;VALUE=DATE:20230813
DTSTAMP:20260424T060857
CREATED:20230407T183602Z
LAST-MODIFIED:20230407T183602Z
UID:10013057-1691798400-1691884799@quailcreeksportingranch.com
SUMMARY:SWEATING BULLETS MEMORIAL SHOOT- (RED COURSE CLOSED)
DESCRIPTION:
URL:https://quailcreeksportingranch.com/event/sweating-bullets-memorial-shoot-red-course-closed/
LOCATION:Quail Creek Sporting Ranch
CATEGORIES:Closure,Event
ORGANIZER;CN="Quail Creek Sporting Ranch":MAILTO:admin@quailcreeksportingranch.com
END:VEVENT
BEGIN:VEVENT
DTSTART;TZID=America/New_York:20230807T110000
DTEND;TZID=America/New_York:20230807T140000
DTSTAMP:20260424T060857
CREATED:20230406T193033Z
LAST-MODIFIED:20260202T161300Z
UID:10018033-1691406000-1691416800@quailcreeksportingranch.com
SUMMARY:Lunch Pavilion Open 11am-2pm
DESCRIPTION:
URL:https://quailcreeksportingranch.com/event/lunch-pavilion-closed/2023-08-07/
LOCATION:Quail Creek Sporting Ranch
CATEGORIES:Closure,Weekly
ORGANIZER;CN="Quail Creek Sporting Ranch":MAILTO:admin@quailcreeksportingranch.com
END:VEVENT
BEGIN:VEVENT
DTSTART;VALUE=DATE:20230807
DTEND;VALUE=DATE:20230808
DTSTAMP:20260424T060857
CREATED:20230406T193235Z
LAST-MODIFIED:20230407T134114Z
UID:10008110-1691366400-1691452799@quailcreeksportingranch.com
SUMMARY:Sporting Clays Course (CLOSED)
DESCRIPTION:
URL:https://quailcreeksportingranch.com/event/sporting-clays-course-closed/2023-08-07/
LOCATION:Quail Creek Sporting Ranch
CATEGORIES:Closure,Event
ORGANIZER;CN="Quail Creek Sporting Ranch":MAILTO:admin@quailcreeksportingranch.com
END:VEVENT
BEGIN:VEVENT
DTSTART;VALUE=DATE:20230805
DTEND;VALUE=DATE:20230806
DTSTAMP:20260424T060857
CREATED:20230407T183503Z
LAST-MODIFIED:20230407T183503Z
UID:10013056-1691193600-1691279999@quailcreeksportingranch.com
SUMMARY:NSCA – MUGGY BUGGY (BLUE & WHITE COURSE CLOSED)
DESCRIPTION:
URL:https://quailcreeksportingranch.com/event/nsca-muggy-buggy-blue-white-course-closed/
LOCATION:Quail Creek Sporting Ranch
CATEGORIES:Closure,Event
ORGANIZER;CN="Quail Creek Sporting Ranch":MAILTO:admin@quailcreeksportingranch.com
END:VEVENT
BEGIN:VEVENT
DTSTART;TZID=America/New_York:20230731T110000
DTEND;TZID=America/New_York:20230731T140000
DTSTAMP:20260424T060857
CREATED:20230406T193033Z
LAST-MODIFIED:20260202T161300Z
UID:10018032-1690801200-1690812000@quailcreeksportingranch.com
SUMMARY:Lunch Pavilion Open 11am-2pm
DESCRIPTION:
URL:https://quailcreeksportingranch.com/event/lunch-pavilion-closed/2023-07-31/
LOCATION:Quail Creek Sporting Ranch
CATEGORIES:Closure,Weekly
ORGANIZER;CN="Quail Creek Sporting Ranch":MAILTO:admin@quailcreeksportingranch.com
END:VEVENT
BEGIN:VEVENT
DTSTART;VALUE=DATE:20230731
DTEND;VALUE=DATE:20230801
DTSTAMP:20260424T060857
CREATED:20230406T193235Z
LAST-MODIFIED:20230407T134114Z
UID:10008109-1690761600-1690847999@quailcreeksportingranch.com
SUMMARY:Sporting Clays Course (CLOSED)
DESCRIPTION:
URL:https://quailcreeksportingranch.com/event/sporting-clays-course-closed/2023-07-31/
LOCATION:Quail Creek Sporting Ranch
CATEGORIES:Closure,Event
ORGANIZER;CN="Quail Creek Sporting Ranch":MAILTO:admin@quailcreeksportingranch.com
END:VEVENT
BEGIN:VEVENT
DTSTART;TZID=America/New_York:20230724T110000
DTEND;TZID=America/New_York:20230724T140000
DTSTAMP:20260424T060857
CREATED:20230406T193033Z
LAST-MODIFIED:20260202T161300Z
UID:10018031-1690196400-1690207200@quailcreeksportingranch.com
SUMMARY:Lunch Pavilion Open 11am-2pm
DESCRIPTION:
URL:https://quailcreeksportingranch.com/event/lunch-pavilion-closed/2023-07-24/
LOCATION:Quail Creek Sporting Ranch
CATEGORIES:Closure,Weekly
ORGANIZER;CN="Quail Creek Sporting Ranch":MAILTO:admin@quailcreeksportingranch.com
END:VEVENT
BEGIN:VEVENT
DTSTART;VALUE=DATE:20230724
DTEND;VALUE=DATE:20230725
DTSTAMP:20260424T060857
CREATED:20230406T193235Z
LAST-MODIFIED:20230407T134114Z
UID:10008108-1690156800-1690243199@quailcreeksportingranch.com
SUMMARY:Sporting Clays Course (CLOSED)
DESCRIPTION:
URL:https://quailcreeksportingranch.com/event/sporting-clays-course-closed/2023-07-24/
LOCATION:Quail Creek Sporting Ranch
CATEGORIES:Closure,Event
ORGANIZER;CN="Quail Creek Sporting Ranch":MAILTO:admin@quailcreeksportingranch.com
END:VEVENT
BEGIN:VEVENT
DTSTART;VALUE=DATE:20230723
DTEND;VALUE=DATE:20230724
DTSTAMP:20260424T060857
CREATED:20230407T183429Z
LAST-MODIFIED:20230407T183429Z
UID:10013055-1690070400-1690156799@quailcreeksportingranch.com
SUMMARY:NSCA – STARS\, STRIPES & SPORTING CLAYS (BLUE & WHITE COURSE CLOSED)
DESCRIPTION:
URL:https://quailcreeksportingranch.com/event/nsca-stars-stripes-sporting-clays-blue-white-course-closed/
LOCATION:Quail Creek Sporting Ranch
CATEGORIES:Closure,Event
ORGANIZER;CN="Quail Creek Sporting Ranch":MAILTO:admin@quailcreeksportingranch.com
END:VEVENT
BEGIN:VEVENT
DTSTART;TZID=America/New_York:20230717T110000
DTEND;TZID=America/New_York:20230717T140000
DTSTAMP:20260424T060857
CREATED:20230406T193033Z
LAST-MODIFIED:20260202T161300Z
UID:10018030-1689591600-1689602400@quailcreeksportingranch.com
SUMMARY:Lunch Pavilion Open 11am-2pm
DESCRIPTION:
URL:https://quailcreeksportingranch.com/event/lunch-pavilion-closed/2023-07-17/
LOCATION:Quail Creek Sporting Ranch
CATEGORIES:Closure,Weekly
ORGANIZER;CN="Quail Creek Sporting Ranch":MAILTO:admin@quailcreeksportingranch.com
END:VEVENT
BEGIN:VEVENT
DTSTART;VALUE=DATE:20230717
DTEND;VALUE=DATE:20230718
DTSTAMP:20260424T060857
CREATED:20230406T193235Z
LAST-MODIFIED:20230407T134114Z
UID:10008107-1689552000-1689638399@quailcreeksportingranch.com
SUMMARY:Sporting Clays Course (CLOSED)
DESCRIPTION:
URL:https://quailcreeksportingranch.com/event/sporting-clays-course-closed/2023-07-17/
LOCATION:Quail Creek Sporting Ranch
CATEGORIES:Closure,Event
ORGANIZER;CN="Quail Creek Sporting Ranch":MAILTO:admin@quailcreeksportingranch.com
END:VEVENT
BEGIN:VEVENT
DTSTART;VALUE=DATE:20230715
DTEND;VALUE=DATE:20230716
DTSTAMP:20260424T060857
CREATED:20230407T183335Z
LAST-MODIFIED:20230407T183336Z
UID:10013054-1689379200-1689465599@quailcreeksportingranch.com
SUMMARY:NSCA – SUMMER SPARKLER (BLUE & WHITE COURSE CLOSED)
DESCRIPTION:
URL:https://quailcreeksportingranch.com/event/nsca-summer-sparkler-blue-white-course-closed/
LOCATION:Quail Creek Sporting Ranch
CATEGORIES:Closure,Event
ORGANIZER;CN="Quail Creek Sporting Ranch":MAILTO:admin@quailcreeksportingranch.com
END:VEVENT
BEGIN:VEVENT
DTSTART;TZID=America/New_York:20230710T110000
DTEND;TZID=America/New_York:20230710T140000
DTSTAMP:20260424T060857
CREATED:20230406T193033Z
LAST-MODIFIED:20260202T161300Z
UID:10018029-1688986800-1688997600@quailcreeksportingranch.com
SUMMARY:Lunch Pavilion Open 11am-2pm
DESCRIPTION:
URL:https://quailcreeksportingranch.com/event/lunch-pavilion-closed/2023-07-10/
LOCATION:Quail Creek Sporting Ranch
CATEGORIES:Closure,Weekly
ORGANIZER;CN="Quail Creek Sporting Ranch":MAILTO:admin@quailcreeksportingranch.com
END:VEVENT
BEGIN:VEVENT
DTSTART;VALUE=DATE:20230710
DTEND;VALUE=DATE:20230711
DTSTAMP:20260424T060857
CREATED:20230406T193235Z
LAST-MODIFIED:20230407T134114Z
UID:10008106-1688947200-1689033599@quailcreeksportingranch.com
SUMMARY:Sporting Clays Course (CLOSED)
DESCRIPTION:
URL:https://quailcreeksportingranch.com/event/sporting-clays-course-closed/2023-07-10/
LOCATION:Quail Creek Sporting Ranch
CATEGORIES:Closure,Event
ORGANIZER;CN="Quail Creek Sporting Ranch":MAILTO:admin@quailcreeksportingranch.com
END:VEVENT
BEGIN:VEVENT
DTSTART;TZID=America/New_York:20230703T110000
DTEND;TZID=America/New_York:20230703T140000
DTSTAMP:20260424T060857
CREATED:20230406T193033Z
LAST-MODIFIED:20260202T161300Z
UID:10018028-1688382000-1688392800@quailcreeksportingranch.com
SUMMARY:Lunch Pavilion Open 11am-2pm
DESCRIPTION:
URL:https://quailcreeksportingranch.com/event/lunch-pavilion-closed/2023-07-03/
LOCATION:Quail Creek Sporting Ranch
CATEGORIES:Closure,Weekly
ORGANIZER;CN="Quail Creek Sporting Ranch":MAILTO:admin@quailcreeksportingranch.com
END:VEVENT
BEGIN:VEVENT
DTSTART;VALUE=DATE:20230703
DTEND;VALUE=DATE:20230704
DTSTAMP:20260424T060857
CREATED:20230406T193235Z
LAST-MODIFIED:20230407T134114Z
UID:10008105-1688342400-1688428799@quailcreeksportingranch.com
SUMMARY:Sporting Clays Course (CLOSED)
DESCRIPTION:
URL:https://quailcreeksportingranch.com/event/sporting-clays-course-closed/2023-07-03/
LOCATION:Quail Creek Sporting Ranch
CATEGORIES:Closure,Event
ORGANIZER;CN="Quail Creek Sporting Ranch":MAILTO:admin@quailcreeksportingranch.com
END:VEVENT
BEGIN:VEVENT
DTSTART;TZID=America/New_York:20230626T110000
DTEND;TZID=America/New_York:20230626T140000
DTSTAMP:20260424T060857
CREATED:20230406T193033Z
LAST-MODIFIED:20260202T161300Z
UID:10018027-1687777200-1687788000@quailcreeksportingranch.com
SUMMARY:Lunch Pavilion Open 11am-2pm
DESCRIPTION:
URL:https://quailcreeksportingranch.com/event/lunch-pavilion-closed/2023-06-26/
LOCATION:Quail Creek Sporting Ranch
CATEGORIES:Closure,Weekly
ORGANIZER;CN="Quail Creek Sporting Ranch":MAILTO:admin@quailcreeksportingranch.com
END:VEVENT
BEGIN:VEVENT
DTSTART;VALUE=DATE:20230626
DTEND;VALUE=DATE:20230627
DTSTAMP:20260424T060857
CREATED:20230406T193235Z
LAST-MODIFIED:20230407T134114Z
UID:10008104-1687737600-1687823999@quailcreeksportingranch.com
SUMMARY:Sporting Clays Course (CLOSED)
DESCRIPTION:
URL:https://quailcreeksportingranch.com/event/sporting-clays-course-closed/2023-06-26/
LOCATION:Quail Creek Sporting Ranch
CATEGORIES:Closure,Event
ORGANIZER;CN="Quail Creek Sporting Ranch":MAILTO:admin@quailcreeksportingranch.com
END:VEVENT
END:VCALENDAR