BEGIN:VCALENDAR
VERSION:2.0
PRODID:-//Quail Creek Sporting Ranch - ECPv6.15.15//NONSGML v1.0//EN
CALSCALE:GREGORIAN
METHOD:PUBLISH
X-ORIGINAL-URL:https://quailcreeksportingranch.com
X-WR-CALDESC:Events for Quail Creek Sporting Ranch
REFRESH-INTERVAL;VALUE=DURATION:PT1H
X-Robots-Tag:noindex
X-PUBLISHED-TTL:PT1H
BEGIN:VTIMEZONE
TZID:America/New_York
BEGIN:DAYLIGHT
TZOFFSETFROM:-0500
TZOFFSETTO:-0400
TZNAME:EDT
DTSTART:20220313T070000
END:DAYLIGHT
BEGIN:STANDARD
TZOFFSETFROM:-0400
TZOFFSETTO:-0500
TZNAME:EST
DTSTART:20221106T060000
END:STANDARD
BEGIN:DAYLIGHT
TZOFFSETFROM:-0500
TZOFFSETTO:-0400
TZNAME:EDT
DTSTART:20230312T070000
END:DAYLIGHT
BEGIN:STANDARD
TZOFFSETFROM:-0400
TZOFFSETTO:-0500
TZNAME:EST
DTSTART:20231105T060000
END:STANDARD
BEGIN:DAYLIGHT
TZOFFSETFROM:-0500
TZOFFSETTO:-0400
TZNAME:EDT
DTSTART:20240310T070000
END:DAYLIGHT
BEGIN:STANDARD
TZOFFSETFROM:-0400
TZOFFSETTO:-0500
TZNAME:EST
DTSTART:20241103T060000
END:STANDARD
END:VTIMEZONE
BEGIN:VEVENT
DTSTART;TZID=America/New_York:20231204T110000
DTEND;TZID=America/New_York:20231204T140000
DTSTAMP:20260424T005612
CREATED:20230406T193033Z
LAST-MODIFIED:20260202T161300Z
UID:10018050-1701687600-1701698400@quailcreeksportingranch.com
SUMMARY:Lunch Pavilion Open 11am-2pm
DESCRIPTION:
URL:https://quailcreeksportingranch.com/event/lunch-pavilion-closed/2023-12-04/
LOCATION:Quail Creek Sporting Ranch
CATEGORIES:Closure,Weekly
ORGANIZER;CN="Quail Creek Sporting Ranch":MAILTO:admin@quailcreeksportingranch.com
END:VEVENT
BEGIN:VEVENT
DTSTART;VALUE=DATE:20231204
DTEND;VALUE=DATE:20231205
DTSTAMP:20260424T005612
CREATED:20230406T193235Z
LAST-MODIFIED:20230407T134114Z
UID:10008127-1701648000-1701734399@quailcreeksportingranch.com
SUMMARY:Sporting Clays Course (CLOSED)
DESCRIPTION:
URL:https://quailcreeksportingranch.com/event/sporting-clays-course-closed/2023-12-04/
LOCATION:Quail Creek Sporting Ranch
CATEGORIES:Closure,Event
ORGANIZER;CN="Quail Creek Sporting Ranch":MAILTO:admin@quailcreeksportingranch.com
END:VEVENT
BEGIN:VEVENT
DTSTART;VALUE=DATE:20231203
DTEND;VALUE=DATE:20231204
DTSTAMP:20260424T005612
CREATED:20230407T184303Z
LAST-MODIFIED:20230407T184303Z
UID:10013070-1701561600-1701647999@quailcreeksportingranch.com
SUMMARY:NSCA – FIREWALL BLAST (BLUE & WHITE COURSE CLOSED)
DESCRIPTION:
URL:https://quailcreeksportingranch.com/event/nsca-firewall-blast-blue-white-course-closed/
LOCATION:Quail Creek Sporting Ranch
CATEGORIES:Closure,Event
ORGANIZER;CN="Quail Creek Sporting Ranch":MAILTO:admin@quailcreeksportingranch.com
END:VEVENT
BEGIN:VEVENT
DTSTART;VALUE=DATE:20231201
DTEND;VALUE=DATE:20231202
DTSTAMP:20260424T005612
CREATED:20231108T203130Z
LAST-MODIFIED:20231108T203130Z
UID:10014570-1701388800-1701475199@quailcreeksportingranch.com
SUMMARY:VINCEREMOS (BLUE COURSE CLOSED)
DESCRIPTION:Clay Shoot Flyer
URL:https://quailcreeksportingranch.com/event/vinceremos-blue-course-closed/
LOCATION:Quail Creek Sporting Ranch
CATEGORIES:Closure,Event
ORGANIZER;CN="Quail Creek Sporting Ranch":MAILTO:admin@quailcreeksportingranch.com
END:VEVENT
BEGIN:VEVENT
DTSTART;VALUE=DATE:20231201
DTEND;VALUE=DATE:20231202
DTSTAMP:20260424T005612
CREATED:20230407T184229Z
LAST-MODIFIED:20230407T184230Z
UID:10013069-1701388800-1701475199@quailcreeksportingranch.com
SUMMARY:WESTMINSTER ACADEMY (RED COURSE CLOSED)
DESCRIPTION:
URL:https://quailcreeksportingranch.com/event/westminster-academy-red-course-closed-2/
LOCATION:Quail Creek Sporting Ranch
CATEGORIES:Closure,Event
ORGANIZER;CN="Quail Creek Sporting Ranch":MAILTO:admin@quailcreeksportingranch.com
END:VEVENT
BEGIN:VEVENT
DTSTART;TZID=America/New_York:20231127T110000
DTEND;TZID=America/New_York:20231127T140000
DTSTAMP:20260424T005612
CREATED:20230406T193033Z
LAST-MODIFIED:20260202T161300Z
UID:10018049-1701082800-1701093600@quailcreeksportingranch.com
SUMMARY:Lunch Pavilion Open 11am-2pm
DESCRIPTION:
URL:https://quailcreeksportingranch.com/event/lunch-pavilion-closed/2023-11-27/
LOCATION:Quail Creek Sporting Ranch
CATEGORIES:Closure,Weekly
ORGANIZER;CN="Quail Creek Sporting Ranch":MAILTO:admin@quailcreeksportingranch.com
END:VEVENT
BEGIN:VEVENT
DTSTART;VALUE=DATE:20231127
DTEND;VALUE=DATE:20231128
DTSTAMP:20260424T005612
CREATED:20230406T193235Z
LAST-MODIFIED:20230407T134114Z
UID:10008126-1701043200-1701129599@quailcreeksportingranch.com
SUMMARY:Sporting Clays Course (CLOSED)
DESCRIPTION:
URL:https://quailcreeksportingranch.com/event/sporting-clays-course-closed/2023-11-27/
LOCATION:Quail Creek Sporting Ranch
CATEGORIES:Closure,Event
ORGANIZER;CN="Quail Creek Sporting Ranch":MAILTO:admin@quailcreeksportingranch.com
END:VEVENT
BEGIN:VEVENT
DTSTART;TZID=America/New_York:20231120T110000
DTEND;TZID=America/New_York:20231120T140000
DTSTAMP:20260424T005612
CREATED:20230406T193033Z
LAST-MODIFIED:20260202T161300Z
UID:10018048-1700478000-1700488800@quailcreeksportingranch.com
SUMMARY:Lunch Pavilion Open 11am-2pm
DESCRIPTION:
URL:https://quailcreeksportingranch.com/event/lunch-pavilion-closed/2023-11-20/
LOCATION:Quail Creek Sporting Ranch
CATEGORIES:Closure,Weekly
ORGANIZER;CN="Quail Creek Sporting Ranch":MAILTO:admin@quailcreeksportingranch.com
END:VEVENT
BEGIN:VEVENT
DTSTART;VALUE=DATE:20231120
DTEND;VALUE=DATE:20231121
DTSTAMP:20260424T005612
CREATED:20230406T193235Z
LAST-MODIFIED:20230407T134114Z
UID:10008125-1700438400-1700524799@quailcreeksportingranch.com
SUMMARY:Sporting Clays Course (CLOSED)
DESCRIPTION:
URL:https://quailcreeksportingranch.com/event/sporting-clays-course-closed/2023-11-20/
LOCATION:Quail Creek Sporting Ranch
CATEGORIES:Closure,Event
ORGANIZER;CN="Quail Creek Sporting Ranch":MAILTO:admin@quailcreeksportingranch.com
END:VEVENT
BEGIN:VEVENT
DTSTART;VALUE=DATE:20231118
DTEND;VALUE=DATE:20231119
DTSTAMP:20260424T005612
CREATED:20230407T184152Z
LAST-MODIFIED:20230407T184152Z
UID:10013068-1700265600-1700351999@quailcreeksportingranch.com
SUMMARY:NSCA – BIG BUCK BLAST (BLUE & WHITE COURSE CLOSED)
DESCRIPTION:
URL:https://quailcreeksportingranch.com/event/nsca-big-buck-blast-blue-white-course-closed/
LOCATION:Quail Creek Sporting Ranch
CATEGORIES:Closure,Event
ORGANIZER;CN="Quail Creek Sporting Ranch":MAILTO:admin@quailcreeksportingranch.com
END:VEVENT
BEGIN:VEVENT
DTSTART;VALUE=DATE:20231117
DTEND;VALUE=DATE:20231118
DTSTAMP:20260424T005612
CREATED:20230407T184126Z
LAST-MODIFIED:20230407T184126Z
UID:10013067-1700179200-1700265599@quailcreeksportingranch.com
SUMMARY:ASPE FUNDRAISER SHOOT (RED COURSE CLOSED)
DESCRIPTION:
URL:https://quailcreeksportingranch.com/event/aspe-fundraiser-shoot-red-course-closed/
LOCATION:Quail Creek Sporting Ranch
CATEGORIES:Closure,Event
ORGANIZER;CN="Quail Creek Sporting Ranch":MAILTO:admin@quailcreeksportingranch.com
END:VEVENT
BEGIN:VEVENT
DTSTART;TZID=America/New_York:20231113T110000
DTEND;TZID=America/New_York:20231113T140000
DTSTAMP:20260424T005612
CREATED:20230406T193033Z
LAST-MODIFIED:20260202T161300Z
UID:10018047-1699873200-1699884000@quailcreeksportingranch.com
SUMMARY:Lunch Pavilion Open 11am-2pm
DESCRIPTION:
URL:https://quailcreeksportingranch.com/event/lunch-pavilion-closed/2023-11-13/
LOCATION:Quail Creek Sporting Ranch
CATEGORIES:Closure,Weekly
ORGANIZER;CN="Quail Creek Sporting Ranch":MAILTO:admin@quailcreeksportingranch.com
END:VEVENT
BEGIN:VEVENT
DTSTART;VALUE=DATE:20231113
DTEND;VALUE=DATE:20231114
DTSTAMP:20260424T005612
CREATED:20230406T193235Z
LAST-MODIFIED:20230407T134114Z
UID:10008124-1699833600-1699919999@quailcreeksportingranch.com
SUMMARY:Sporting Clays Course (CLOSED)
DESCRIPTION:
URL:https://quailcreeksportingranch.com/event/sporting-clays-course-closed/2023-11-13/
LOCATION:Quail Creek Sporting Ranch
CATEGORIES:Closure,Event
ORGANIZER;CN="Quail Creek Sporting Ranch":MAILTO:admin@quailcreeksportingranch.com
END:VEVENT
BEGIN:VEVENT
DTSTART;TZID=America/New_York:20231106T110000
DTEND;TZID=America/New_York:20231106T140000
DTSTAMP:20260424T005612
CREATED:20230406T193033Z
LAST-MODIFIED:20260202T161300Z
UID:10018046-1699268400-1699279200@quailcreeksportingranch.com
SUMMARY:Lunch Pavilion Open 11am-2pm
DESCRIPTION:
URL:https://quailcreeksportingranch.com/event/lunch-pavilion-closed/2023-11-06/
LOCATION:Quail Creek Sporting Ranch
CATEGORIES:Closure,Weekly
ORGANIZER;CN="Quail Creek Sporting Ranch":MAILTO:admin@quailcreeksportingranch.com
END:VEVENT
BEGIN:VEVENT
DTSTART;VALUE=DATE:20231106
DTEND;VALUE=DATE:20231107
DTSTAMP:20260424T005612
CREATED:20230406T193235Z
LAST-MODIFIED:20230407T134114Z
UID:10008123-1699228800-1699315199@quailcreeksportingranch.com
SUMMARY:Sporting Clays Course (CLOSED)
DESCRIPTION:
URL:https://quailcreeksportingranch.com/event/sporting-clays-course-closed/2023-11-06/
LOCATION:Quail Creek Sporting Ranch
CATEGORIES:Closure,Event
ORGANIZER;CN="Quail Creek Sporting Ranch":MAILTO:admin@quailcreeksportingranch.com
END:VEVENT
BEGIN:VEVENT
DTSTART;VALUE=DATE:20231104
DTEND;VALUE=DATE:20231105
DTSTAMP:20260424T005612
CREATED:20230407T184054Z
LAST-MODIFIED:20231011T161456Z
UID:10013066-1699056000-1699142399@quailcreeksportingranch.com
SUMMARY:AGC-FEC FUNDRAISER SHOOT (RED & BLUE COURSE CLOSED)
DESCRIPTION:
URL:https://quailcreeksportingranch.com/event/agc-fec-fundraiser-shoot-red-course-closed/
LOCATION:Quail Creek Sporting Ranch
CATEGORIES:Closure,Event
ORGANIZER;CN="Quail Creek Sporting Ranch":MAILTO:admin@quailcreeksportingranch.com
END:VEVENT
BEGIN:VEVENT
DTSTART;VALUE=DATE:20231103
DTEND;VALUE=DATE:20231104
DTSTAMP:20260424T005612
CREATED:20230407T184020Z
LAST-MODIFIED:20230407T184020Z
UID:10013065-1698969600-1699055999@quailcreeksportingranch.com
SUMMARY:BOY SCOUTS OF AMERICA S. FLA (BOTH COURSES CLOSED)
DESCRIPTION:
URL:https://quailcreeksportingranch.com/event/boy-scouts-of-america-s-fla-both-courses-closed/
LOCATION:Quail Creek Sporting Ranch
CATEGORIES:Closure,Event
ORGANIZER;CN="Quail Creek Sporting Ranch":MAILTO:admin@quailcreeksportingranch.com
END:VEVENT
BEGIN:VEVENT
DTSTART;TZID=America/New_York:20231030T110000
DTEND;TZID=America/New_York:20231030T140000
DTSTAMP:20260424T005612
CREATED:20230406T193033Z
LAST-MODIFIED:20260202T161300Z
UID:10018045-1698663600-1698674400@quailcreeksportingranch.com
SUMMARY:Lunch Pavilion Open 11am-2pm
DESCRIPTION:
URL:https://quailcreeksportingranch.com/event/lunch-pavilion-closed/2023-10-30/
LOCATION:Quail Creek Sporting Ranch
CATEGORIES:Closure,Weekly
ORGANIZER;CN="Quail Creek Sporting Ranch":MAILTO:admin@quailcreeksportingranch.com
END:VEVENT
BEGIN:VEVENT
DTSTART;VALUE=DATE:20231030
DTEND;VALUE=DATE:20231031
DTSTAMP:20260424T005612
CREATED:20230406T193235Z
LAST-MODIFIED:20230407T134114Z
UID:10008122-1698624000-1698710399@quailcreeksportingranch.com
SUMMARY:Sporting Clays Course (CLOSED)
DESCRIPTION:
URL:https://quailcreeksportingranch.com/event/sporting-clays-course-closed/2023-10-30/
LOCATION:Quail Creek Sporting Ranch
CATEGORIES:Closure,Event
ORGANIZER;CN="Quail Creek Sporting Ranch":MAILTO:admin@quailcreeksportingranch.com
END:VEVENT
BEGIN:VEVENT
DTSTART;TZID=America/New_York:20231023T110000
DTEND;TZID=America/New_York:20231023T140000
DTSTAMP:20260424T005612
CREATED:20230406T193033Z
LAST-MODIFIED:20260202T161300Z
UID:10018044-1698058800-1698069600@quailcreeksportingranch.com
SUMMARY:Lunch Pavilion Open 11am-2pm
DESCRIPTION:
URL:https://quailcreeksportingranch.com/event/lunch-pavilion-closed/2023-10-23/
LOCATION:Quail Creek Sporting Ranch
CATEGORIES:Closure,Weekly
ORGANIZER;CN="Quail Creek Sporting Ranch":MAILTO:admin@quailcreeksportingranch.com
END:VEVENT
BEGIN:VEVENT
DTSTART;VALUE=DATE:20231023
DTEND;VALUE=DATE:20231024
DTSTAMP:20260424T005612
CREATED:20230406T193235Z
LAST-MODIFIED:20230407T134114Z
UID:10008121-1698019200-1698105599@quailcreeksportingranch.com
SUMMARY:Sporting Clays Course (CLOSED)
DESCRIPTION:
URL:https://quailcreeksportingranch.com/event/sporting-clays-course-closed/2023-10-23/
LOCATION:Quail Creek Sporting Ranch
CATEGORIES:Closure,Event
ORGANIZER;CN="Quail Creek Sporting Ranch":MAILTO:admin@quailcreeksportingranch.com
END:VEVENT
BEGIN:VEVENT
DTSTART;VALUE=DATE:20231021
DTEND;VALUE=DATE:20231022
DTSTAMP:20260424T005612
CREATED:20230407T183934Z
LAST-MODIFIED:20230407T183935Z
UID:10013064-1697846400-1697932799@quailcreeksportingranch.com
SUMMARY:VNA FUNDRAISER SHOOT (RED COURSE CLOSED)
DESCRIPTION:
URL:https://quailcreeksportingranch.com/event/vna-fundraiser-shoot-red-course-closed/
LOCATION:Quail Creek Sporting Ranch
CATEGORIES:Closure,Event
ORGANIZER;CN="Quail Creek Sporting Ranch":MAILTO:admin@quailcreeksportingranch.com
END:VEVENT
BEGIN:VEVENT
DTSTART;TZID=America/New_York:20231020T080000
DTEND;TZID=America/New_York:20231020T170000
DTSTAMP:20260424T005612
CREATED:20231017T124713Z
LAST-MODIFIED:20231020T134227Z
UID:10014569-1697788800-1697821200@quailcreeksportingranch.com
SUMMARY:Central Florida Boy Scout Council - FUN SHOOT - RED COURSE CLOSED
DESCRIPTION:
URL:https://quailcreeksportingranch.com/event/central-florida-boy-scout-council-fun-shoot-red-course-closed/
CATEGORIES:Closure,Event,Red Course Closed,Shoot
END:VEVENT
BEGIN:VEVENT
DTSTART;TZID=America/New_York:20231016T110000
DTEND;TZID=America/New_York:20231016T140000
DTSTAMP:20260424T005612
CREATED:20230406T193033Z
LAST-MODIFIED:20260202T161300Z
UID:10018043-1697454000-1697464800@quailcreeksportingranch.com
SUMMARY:Lunch Pavilion Open 11am-2pm
DESCRIPTION:
URL:https://quailcreeksportingranch.com/event/lunch-pavilion-closed/2023-10-16/
LOCATION:Quail Creek Sporting Ranch
CATEGORIES:Closure,Weekly
ORGANIZER;CN="Quail Creek Sporting Ranch":MAILTO:admin@quailcreeksportingranch.com
END:VEVENT
BEGIN:VEVENT
DTSTART;VALUE=DATE:20231016
DTEND;VALUE=DATE:20231017
DTSTAMP:20260424T005612
CREATED:20230406T193235Z
LAST-MODIFIED:20230407T134114Z
UID:10008120-1697414400-1697500799@quailcreeksportingranch.com
SUMMARY:Sporting Clays Course (CLOSED)
DESCRIPTION:
URL:https://quailcreeksportingranch.com/event/sporting-clays-course-closed/2023-10-16/
LOCATION:Quail Creek Sporting Ranch
CATEGORIES:Closure,Event
ORGANIZER;CN="Quail Creek Sporting Ranch":MAILTO:admin@quailcreeksportingranch.com
END:VEVENT
BEGIN:VEVENT
DTSTART;TZID=America/New_York:20231009T110000
DTEND;TZID=America/New_York:20231009T140000
DTSTAMP:20260424T005612
CREATED:20230406T193033Z
LAST-MODIFIED:20260202T161300Z
UID:10018042-1696849200-1696860000@quailcreeksportingranch.com
SUMMARY:Lunch Pavilion Open 11am-2pm
DESCRIPTION:
URL:https://quailcreeksportingranch.com/event/lunch-pavilion-closed/2023-10-09/
LOCATION:Quail Creek Sporting Ranch
CATEGORIES:Closure,Weekly
ORGANIZER;CN="Quail Creek Sporting Ranch":MAILTO:admin@quailcreeksportingranch.com
END:VEVENT
BEGIN:VEVENT
DTSTART;VALUE=DATE:20231009
DTEND;VALUE=DATE:20231010
DTSTAMP:20260424T005612
CREATED:20230406T193235Z
LAST-MODIFIED:20230407T134114Z
UID:10008119-1696809600-1696895999@quailcreeksportingranch.com
SUMMARY:Sporting Clays Course (CLOSED)
DESCRIPTION:
URL:https://quailcreeksportingranch.com/event/sporting-clays-course-closed/2023-10-09/
LOCATION:Quail Creek Sporting Ranch
CATEGORIES:Closure,Event
ORGANIZER;CN="Quail Creek Sporting Ranch":MAILTO:admin@quailcreeksportingranch.com
END:VEVENT
BEGIN:VEVENT
DTSTART;VALUE=DATE:20231007
DTEND;VALUE=DATE:20231008
DTSTAMP:20260424T005612
CREATED:20230407T183819Z
LAST-MODIFIED:20230920T110843Z
UID:10013062-1696636800-1696723199@quailcreeksportingranch.com
SUMMARY:HEALTHY START 1 ST ANNUAL FUNDRAISER SHOOT (RED COURSE CLOSED)
DESCRIPTION:
URL:https://quailcreeksportingranch.com/event/healthy-start-1-st-annual-fundraiser-shoot-red-course-closed/
LOCATION:Quail Creek Sporting Ranch
CATEGORIES:Closure,Event
ORGANIZER;CN="Quail Creek Sporting Ranch":MAILTO:admin@quailcreeksportingranch.com
END:VEVENT
BEGIN:VEVENT
DTSTART;TZID=America/New_York:20231002T110000
DTEND;TZID=America/New_York:20231002T140000
DTSTAMP:20260424T005612
CREATED:20230406T193033Z
LAST-MODIFIED:20260202T161300Z
UID:10018041-1696244400-1696255200@quailcreeksportingranch.com
SUMMARY:Lunch Pavilion Open 11am-2pm
DESCRIPTION:
URL:https://quailcreeksportingranch.com/event/lunch-pavilion-closed/2023-10-02/
LOCATION:Quail Creek Sporting Ranch
CATEGORIES:Closure,Weekly
ORGANIZER;CN="Quail Creek Sporting Ranch":MAILTO:admin@quailcreeksportingranch.com
END:VEVENT
BEGIN:VEVENT
DTSTART;VALUE=DATE:20231002
DTEND;VALUE=DATE:20231003
DTSTAMP:20260424T005612
CREATED:20230406T193235Z
LAST-MODIFIED:20230407T134114Z
UID:10008118-1696204800-1696291199@quailcreeksportingranch.com
SUMMARY:Sporting Clays Course (CLOSED)
DESCRIPTION:
URL:https://quailcreeksportingranch.com/event/sporting-clays-course-closed/2023-10-02/
LOCATION:Quail Creek Sporting Ranch
CATEGORIES:Closure,Event
ORGANIZER;CN="Quail Creek Sporting Ranch":MAILTO:admin@quailcreeksportingranch.com
END:VEVENT
END:VCALENDAR