BEGIN:VCALENDAR
VERSION:2.0
PRODID:-//Quail Creek Sporting Ranch - ECPv6.15.15//NONSGML v1.0//EN
CALSCALE:GREGORIAN
METHOD:PUBLISH
X-WR-CALNAME:Quail Creek Sporting Ranch
X-ORIGINAL-URL:https://quailcreeksportingranch.com
X-WR-CALDESC:Events for Quail Creek Sporting Ranch
REFRESH-INTERVAL;VALUE=DURATION:PT1H
X-Robots-Tag:noindex
X-PUBLISHED-TTL:PT1H
BEGIN:VTIMEZONE
TZID:America/New_York
BEGIN:DAYLIGHT
TZOFFSETFROM:-0500
TZOFFSETTO:-0400
TZNAME:EDT
DTSTART:20220313T070000
END:DAYLIGHT
BEGIN:STANDARD
TZOFFSETFROM:-0400
TZOFFSETTO:-0500
TZNAME:EST
DTSTART:20221106T060000
END:STANDARD
BEGIN:DAYLIGHT
TZOFFSETFROM:-0500
TZOFFSETTO:-0400
TZNAME:EDT
DTSTART:20230312T070000
END:DAYLIGHT
BEGIN:STANDARD
TZOFFSETFROM:-0400
TZOFFSETTO:-0500
TZNAME:EST
DTSTART:20231105T060000
END:STANDARD
BEGIN:DAYLIGHT
TZOFFSETFROM:-0500
TZOFFSETTO:-0400
TZNAME:EDT
DTSTART:20240310T070000
END:DAYLIGHT
BEGIN:STANDARD
TZOFFSETFROM:-0400
TZOFFSETTO:-0500
TZNAME:EST
DTSTART:20241103T060000
END:STANDARD
BEGIN:DAYLIGHT
TZOFFSETFROM:-0500
TZOFFSETTO:-0400
TZNAME:EDT
DTSTART:20250309T070000
END:DAYLIGHT
BEGIN:STANDARD
TZOFFSETFROM:-0400
TZOFFSETTO:-0500
TZNAME:EST
DTSTART:20251102T060000
END:STANDARD
END:VTIMEZONE
BEGIN:VEVENT
DTSTART;TZID=America/New_York:20240304T110000
DTEND;TZID=America/New_York:20240304T140000
DTSTAMP:20260423T194748
CREATED:20230406T193033Z
LAST-MODIFIED:20260202T161300Z
UID:10018063-1709550000-1709560800@quailcreeksportingranch.com
SUMMARY:Lunch Pavilion Open 11am-2pm
DESCRIPTION:
URL:https://quailcreeksportingranch.com/event/lunch-pavilion-closed/2024-03-04/
LOCATION:Quail Creek Sporting Ranch
CATEGORIES:Closure,Weekly
ORGANIZER;CN="Quail Creek Sporting Ranch":MAILTO:admin@quailcreeksportingranch.com
END:VEVENT
BEGIN:VEVENT
DTSTART;VALUE=DATE:20240304
DTEND;VALUE=DATE:20240305
DTSTAMP:20260423T194748
CREATED:20230406T193235Z
LAST-MODIFIED:20230407T134114Z
UID:10008140-1709510400-1709596799@quailcreeksportingranch.com
SUMMARY:Sporting Clays Course (CLOSED)
DESCRIPTION:
URL:https://quailcreeksportingranch.com/event/sporting-clays-course-closed/2024-03-04/
LOCATION:Quail Creek Sporting Ranch
CATEGORIES:Closure,Event
ORGANIZER;CN="Quail Creek Sporting Ranch":MAILTO:admin@quailcreeksportingranch.com
END:VEVENT
BEGIN:VEVENT
DTSTART;TZID=America/New_York:20240226T110000
DTEND;TZID=America/New_York:20240226T140000
DTSTAMP:20260423T194748
CREATED:20230406T193033Z
LAST-MODIFIED:20260202T161300Z
UID:10018062-1708945200-1708956000@quailcreeksportingranch.com
SUMMARY:Lunch Pavilion Open 11am-2pm
DESCRIPTION:
URL:https://quailcreeksportingranch.com/event/lunch-pavilion-closed/2024-02-26/
LOCATION:Quail Creek Sporting Ranch
CATEGORIES:Closure,Weekly
ORGANIZER;CN="Quail Creek Sporting Ranch":MAILTO:admin@quailcreeksportingranch.com
END:VEVENT
BEGIN:VEVENT
DTSTART;VALUE=DATE:20240226
DTEND;VALUE=DATE:20240227
DTSTAMP:20260423T194748
CREATED:20230406T193235Z
LAST-MODIFIED:20230407T134114Z
UID:10008139-1708905600-1708991999@quailcreeksportingranch.com
SUMMARY:Sporting Clays Course (CLOSED)
DESCRIPTION:
URL:https://quailcreeksportingranch.com/event/sporting-clays-course-closed/2024-02-26/
LOCATION:Quail Creek Sporting Ranch
CATEGORIES:Closure,Event
ORGANIZER;CN="Quail Creek Sporting Ranch":MAILTO:admin@quailcreeksportingranch.com
END:VEVENT
BEGIN:VEVENT
DTSTART;TZID=America/New_York:20240219T110000
DTEND;TZID=America/New_York:20240219T140000
DTSTAMP:20260423T194748
CREATED:20230406T193033Z
LAST-MODIFIED:20260202T161300Z
UID:10018061-1708340400-1708351200@quailcreeksportingranch.com
SUMMARY:Lunch Pavilion Open 11am-2pm
DESCRIPTION:
URL:https://quailcreeksportingranch.com/event/lunch-pavilion-closed/2024-02-19/
LOCATION:Quail Creek Sporting Ranch
CATEGORIES:Closure,Weekly
ORGANIZER;CN="Quail Creek Sporting Ranch":MAILTO:admin@quailcreeksportingranch.com
END:VEVENT
BEGIN:VEVENT
DTSTART;VALUE=DATE:20240219
DTEND;VALUE=DATE:20240220
DTSTAMP:20260423T194748
CREATED:20230406T193235Z
LAST-MODIFIED:20230407T134114Z
UID:10008138-1708300800-1708387199@quailcreeksportingranch.com
SUMMARY:Sporting Clays Course (CLOSED)
DESCRIPTION:
URL:https://quailcreeksportingranch.com/event/sporting-clays-course-closed/2024-02-19/
LOCATION:Quail Creek Sporting Ranch
CATEGORIES:Closure,Event
ORGANIZER;CN="Quail Creek Sporting Ranch":MAILTO:admin@quailcreeksportingranch.com
END:VEVENT
BEGIN:VEVENT
DTSTART;VALUE=DATE:20240213
DTEND;VALUE=DATE:20240219
DTSTAMP:20260423T194748
CREATED:20240119T165412Z
LAST-MODIFIED:20240119T165412Z
UID:10014581-1707782400-1708300799@quailcreeksportingranch.com
SUMMARY:JACK LINK'S CUP
DESCRIPTION:
URL:https://quailcreeksportingranch.com/event/jack-links-cup/
LOCATION:Quail Creek Sporting Ranch
CATEGORIES:Blue Course Closed,Closure,Event,Event|Closure,NSCA,Red Course Closed
ORGANIZER;CN="Quail Creek Sporting Ranch":MAILTO:admin@quailcreeksportingranch.com
END:VEVENT
BEGIN:VEVENT
DTSTART;TZID=America/New_York:20240212T110000
DTEND;TZID=America/New_York:20240212T140000
DTSTAMP:20260423T194748
CREATED:20230406T193033Z
LAST-MODIFIED:20260202T161300Z
UID:10018060-1707735600-1707746400@quailcreeksportingranch.com
SUMMARY:Lunch Pavilion Open 11am-2pm
DESCRIPTION:
URL:https://quailcreeksportingranch.com/event/lunch-pavilion-closed/2024-02-12/
LOCATION:Quail Creek Sporting Ranch
CATEGORIES:Closure,Weekly
ORGANIZER;CN="Quail Creek Sporting Ranch":MAILTO:admin@quailcreeksportingranch.com
END:VEVENT
BEGIN:VEVENT
DTSTART;VALUE=DATE:20240212
DTEND;VALUE=DATE:20240213
DTSTAMP:20260423T194748
CREATED:20230406T193235Z
LAST-MODIFIED:20230407T134114Z
UID:10008137-1707696000-1707782399@quailcreeksportingranch.com
SUMMARY:Sporting Clays Course (CLOSED)
DESCRIPTION:
URL:https://quailcreeksportingranch.com/event/sporting-clays-course-closed/2024-02-12/
LOCATION:Quail Creek Sporting Ranch
CATEGORIES:Closure,Event
ORGANIZER;CN="Quail Creek Sporting Ranch":MAILTO:admin@quailcreeksportingranch.com
END:VEVENT
BEGIN:VEVENT
DTSTART;VALUE=DATE:20240209
DTEND;VALUE=DATE:20240210
DTSTAMP:20260423T194748
CREATED:20240119T165230Z
LAST-MODIFIED:20240119T165230Z
UID:10014580-1707436800-1707523199@quailcreeksportingranch.com
SUMMARY:TCBA
DESCRIPTION:
URL:https://quailcreeksportingranch.com/event/tcba/
LOCATION:Quail Creek Sporting Ranch
CATEGORIES:Closure,Event,Event|Closure,Red Course Closed
ORGANIZER;CN="Quail Creek Sporting Ranch":MAILTO:admin@quailcreeksportingranch.com
END:VEVENT
BEGIN:VEVENT
DTSTART;TZID=America/New_York:20240205T110000
DTEND;TZID=America/New_York:20240205T140000
DTSTAMP:20260423T194748
CREATED:20230406T193033Z
LAST-MODIFIED:20260202T161300Z
UID:10018059-1707130800-1707141600@quailcreeksportingranch.com
SUMMARY:Lunch Pavilion Open 11am-2pm
DESCRIPTION:
URL:https://quailcreeksportingranch.com/event/lunch-pavilion-closed/2024-02-05/
LOCATION:Quail Creek Sporting Ranch
CATEGORIES:Closure,Weekly
ORGANIZER;CN="Quail Creek Sporting Ranch":MAILTO:admin@quailcreeksportingranch.com
END:VEVENT
BEGIN:VEVENT
DTSTART;VALUE=DATE:20240205
DTEND;VALUE=DATE:20240206
DTSTAMP:20260423T194748
CREATED:20230406T193235Z
LAST-MODIFIED:20230407T134114Z
UID:10008136-1707091200-1707177599@quailcreeksportingranch.com
SUMMARY:Sporting Clays Course (CLOSED)
DESCRIPTION:
URL:https://quailcreeksportingranch.com/event/sporting-clays-course-closed/2024-02-05/
LOCATION:Quail Creek Sporting Ranch
CATEGORIES:Closure,Event
ORGANIZER;CN="Quail Creek Sporting Ranch":MAILTO:admin@quailcreeksportingranch.com
END:VEVENT
BEGIN:VEVENT
DTSTART;TZID=America/New_York:20240129T110000
DTEND;TZID=America/New_York:20240129T140000
DTSTAMP:20260423T194748
CREATED:20230406T193033Z
LAST-MODIFIED:20260202T161300Z
UID:10018058-1706526000-1706536800@quailcreeksportingranch.com
SUMMARY:Lunch Pavilion Open 11am-2pm
DESCRIPTION:
URL:https://quailcreeksportingranch.com/event/lunch-pavilion-closed/2024-01-29/
LOCATION:Quail Creek Sporting Ranch
CATEGORIES:Closure,Weekly
ORGANIZER;CN="Quail Creek Sporting Ranch":MAILTO:admin@quailcreeksportingranch.com
END:VEVENT
BEGIN:VEVENT
DTSTART;VALUE=DATE:20240129
DTEND;VALUE=DATE:20240130
DTSTAMP:20260423T194748
CREATED:20230406T193235Z
LAST-MODIFIED:20230407T134114Z
UID:10008135-1706486400-1706572799@quailcreeksportingranch.com
SUMMARY:Sporting Clays Course (CLOSED)
DESCRIPTION:
URL:https://quailcreeksportingranch.com/event/sporting-clays-course-closed/2024-01-29/
LOCATION:Quail Creek Sporting Ranch
CATEGORIES:Closure,Event
ORGANIZER;CN="Quail Creek Sporting Ranch":MAILTO:admin@quailcreeksportingranch.com
END:VEVENT
BEGIN:VEVENT
DTSTART;VALUE=DATE:20240127
DTEND;VALUE=DATE:20240128
DTSTAMP:20260423T194748
CREATED:20240119T163425Z
LAST-MODIFIED:20240119T163425Z
UID:10014579-1706313600-1706399999@quailcreeksportingranch.com
SUMMARY:BELLAS ANGELS
DESCRIPTION:
URL:https://quailcreeksportingranch.com/event/bellas-angels/
LOCATION:Quail Creek Sporting Ranch
CATEGORIES:Closure,Event,Event|Closure,Red Course Closed
ORGANIZER;CN="Quail Creek Sporting Ranch":MAILTO:admin@quailcreeksportingranch.com
END:VEVENT
BEGIN:VEVENT
DTSTART;VALUE=DATE:20240127
DTEND;VALUE=DATE:20240128
DTSTAMP:20260423T194748
CREATED:20240119T163227Z
LAST-MODIFIED:20240119T163227Z
UID:10014577-1706313600-1706399999@quailcreeksportingranch.com
SUMMARY:CHILDRENS HEALING INSTITUTE
DESCRIPTION:
URL:https://quailcreeksportingranch.com/event/childrens-healing-institute/
LOCATION:Quail Creek Sporting Ranch
CATEGORIES:Closure,Event,Event|Closure,Red Course Closed
ORGANIZER;CN="Quail Creek Sporting Ranch":MAILTO:admin@quailcreeksportingranch.com
END:VEVENT
BEGIN:VEVENT
DTSTART;VALUE=DATE:20240126
DTEND;VALUE=DATE:20240127
DTSTAMP:20260423T194748
CREATED:20240119T163308Z
LAST-MODIFIED:20240119T163308Z
UID:10014578-1706227200-1706313599@quailcreeksportingranch.com
SUMMARY:ANNIE OAKLEY
DESCRIPTION:
URL:https://quailcreeksportingranch.com/event/annie-oakley/
LOCATION:Quail Creek Sporting Ranch
CATEGORIES:Closure,Event,Event|Closure,Red Course Closed
ORGANIZER;CN="Quail Creek Sporting Ranch":MAILTO:admin@quailcreeksportingranch.com
END:VEVENT
BEGIN:VEVENT
DTSTART;VALUE=DATE:20240126
DTEND;VALUE=DATE:20240127
DTSTAMP:20260423T194748
CREATED:20240119T163118Z
LAST-MODIFIED:20240119T163118Z
UID:10014576-1706227200-1706313599@quailcreeksportingranch.com
SUMMARY:ST. LUCIE EDC (RED COURSE CLOSED)
DESCRIPTION:
URL:https://quailcreeksportingranch.com/event/st-lucie-edc-red-course-closed/
LOCATION:Quail Creek Sporting Ranch
CATEGORIES:Closure,Event,Event|Closure,Red Course Closed
ORGANIZER;CN="Quail Creek Sporting Ranch":MAILTO:admin@quailcreeksportingranch.com
END:VEVENT
BEGIN:VEVENT
DTSTART;VALUE=DATE:20240124
DTEND;VALUE=DATE:20240125
DTSTAMP:20260423T194748
CREATED:20240119T163040Z
LAST-MODIFIED:20240119T163040Z
UID:10014575-1706054400-1706140799@quailcreeksportingranch.com
SUMMARY:DIAMOND R FERTILIZER (RED COURSE CLOSED)
DESCRIPTION:
URL:https://quailcreeksportingranch.com/event/diamond-r-fertilizer-red-course-closed/
LOCATION:Quail Creek Sporting Ranch
CATEGORIES:Closure,Event,Event|Closure,Red Course Closed
ORGANIZER;CN="Quail Creek Sporting Ranch":MAILTO:admin@quailcreeksportingranch.com
END:VEVENT
BEGIN:VEVENT
DTSTART;TZID=America/New_York:20240122T110000
DTEND;TZID=America/New_York:20240122T140000
DTSTAMP:20260423T194748
CREATED:20230406T193033Z
LAST-MODIFIED:20260202T161300Z
UID:10018057-1705921200-1705932000@quailcreeksportingranch.com
SUMMARY:Lunch Pavilion Open 11am-2pm
DESCRIPTION:
URL:https://quailcreeksportingranch.com/event/lunch-pavilion-closed/2024-01-22/
LOCATION:Quail Creek Sporting Ranch
CATEGORIES:Closure,Weekly
ORGANIZER;CN="Quail Creek Sporting Ranch":MAILTO:admin@quailcreeksportingranch.com
END:VEVENT
BEGIN:VEVENT
DTSTART;VALUE=DATE:20240122
DTEND;VALUE=DATE:20240123
DTSTAMP:20260423T194748
CREATED:20230406T193235Z
LAST-MODIFIED:20230407T134114Z
UID:10008134-1705881600-1705967999@quailcreeksportingranch.com
SUMMARY:Sporting Clays Course (CLOSED)
DESCRIPTION:
URL:https://quailcreeksportingranch.com/event/sporting-clays-course-closed/2024-01-22/
LOCATION:Quail Creek Sporting Ranch
CATEGORIES:Closure,Event
ORGANIZER;CN="Quail Creek Sporting Ranch":MAILTO:admin@quailcreeksportingranch.com
END:VEVENT
BEGIN:VEVENT
DTSTART;VALUE=DATE:20240121
DTEND;VALUE=DATE:20240122
DTSTAMP:20260423T194748
CREATED:20240119T162839Z
LAST-MODIFIED:20240119T162937Z
UID:10014573-1705795200-1705881599@quailcreeksportingranch.com
SUMMARY:John Martinelli Memorial - NSCA (BLUE & WHITE COURSES CLOSED)
DESCRIPTION:
URL:https://quailcreeksportingranch.com/event/john-martinelli-memorial-nsca-blue-white-courses-closed/
LOCATION:Quail Creek Sporting Ranch
CATEGORIES:Blue Course Closed,Closure,Event,Event|Closure,NSCA
ORGANIZER;CN="Quail Creek Sporting Ranch":MAILTO:admin@quailcreeksportingranch.com
END:VEVENT
BEGIN:VEVENT
DTSTART;VALUE=DATE:20240119
DTEND;VALUE=DATE:20240120
DTSTAMP:20260423T194748
CREATED:20240119T162551Z
LAST-MODIFIED:20240119T162551Z
UID:10014571-1705622400-1705708799@quailcreeksportingranch.com
SUMMARY:PLACE OF HOPE (ALL COURSES CLOSED)
DESCRIPTION:
URL:https://quailcreeksportingranch.com/event/place-of-hope-all-courses-closed/
LOCATION:Quail Creek Sporting Ranch
CATEGORIES:Blue Course Closed,Closure,Event,Event|Closure,Red Course Closed
ORGANIZER;CN="Quail Creek Sporting Ranch":MAILTO:admin@quailcreeksportingranch.com
END:VEVENT
BEGIN:VEVENT
DTSTART;TZID=America/New_York:20240115T110000
DTEND;TZID=America/New_York:20240115T140000
DTSTAMP:20260423T194748
CREATED:20230406T193033Z
LAST-MODIFIED:20260202T161300Z
UID:10018056-1705316400-1705327200@quailcreeksportingranch.com
SUMMARY:Lunch Pavilion Open 11am-2pm
DESCRIPTION:
URL:https://quailcreeksportingranch.com/event/lunch-pavilion-closed/2024-01-15/
LOCATION:Quail Creek Sporting Ranch
CATEGORIES:Closure,Weekly
ORGANIZER;CN="Quail Creek Sporting Ranch":MAILTO:admin@quailcreeksportingranch.com
END:VEVENT
BEGIN:VEVENT
DTSTART;VALUE=DATE:20240115
DTEND;VALUE=DATE:20240116
DTSTAMP:20260423T194748
CREATED:20230406T193235Z
LAST-MODIFIED:20230407T134114Z
UID:10008133-1705276800-1705363199@quailcreeksportingranch.com
SUMMARY:Sporting Clays Course (CLOSED)
DESCRIPTION:
URL:https://quailcreeksportingranch.com/event/sporting-clays-course-closed/2024-01-15/
LOCATION:Quail Creek Sporting Ranch
CATEGORIES:Closure,Event
ORGANIZER;CN="Quail Creek Sporting Ranch":MAILTO:admin@quailcreeksportingranch.com
END:VEVENT
BEGIN:VEVENT
DTSTART;TZID=America/New_York:20240108T110000
DTEND;TZID=America/New_York:20240108T140000
DTSTAMP:20260423T194748
CREATED:20230406T193033Z
LAST-MODIFIED:20260202T161300Z
UID:10018055-1704711600-1704722400@quailcreeksportingranch.com
SUMMARY:Lunch Pavilion Open 11am-2pm
DESCRIPTION:
URL:https://quailcreeksportingranch.com/event/lunch-pavilion-closed/2024-01-08/
LOCATION:Quail Creek Sporting Ranch
CATEGORIES:Closure,Weekly
ORGANIZER;CN="Quail Creek Sporting Ranch":MAILTO:admin@quailcreeksportingranch.com
END:VEVENT
BEGIN:VEVENT
DTSTART;VALUE=DATE:20240108
DTEND;VALUE=DATE:20240109
DTSTAMP:20260423T194748
CREATED:20230406T193235Z
LAST-MODIFIED:20230407T134114Z
UID:10008132-1704672000-1704758399@quailcreeksportingranch.com
SUMMARY:Sporting Clays Course (CLOSED)
DESCRIPTION:
URL:https://quailcreeksportingranch.com/event/sporting-clays-course-closed/2024-01-08/
LOCATION:Quail Creek Sporting Ranch
CATEGORIES:Closure,Event
ORGANIZER;CN="Quail Creek Sporting Ranch":MAILTO:admin@quailcreeksportingranch.com
END:VEVENT
BEGIN:VEVENT
DTSTART;TZID=America/New_York:20240101T110000
DTEND;TZID=America/New_York:20240101T140000
DTSTAMP:20260423T194748
CREATED:20230406T193033Z
LAST-MODIFIED:20260202T161300Z
UID:10018054-1704106800-1704117600@quailcreeksportingranch.com
SUMMARY:Lunch Pavilion Open 11am-2pm
DESCRIPTION:
URL:https://quailcreeksportingranch.com/event/lunch-pavilion-closed/2024-01-01/
LOCATION:Quail Creek Sporting Ranch
CATEGORIES:Closure,Weekly
ORGANIZER;CN="Quail Creek Sporting Ranch":MAILTO:admin@quailcreeksportingranch.com
END:VEVENT
BEGIN:VEVENT
DTSTART;VALUE=DATE:20240101
DTEND;VALUE=DATE:20240102
DTSTAMP:20260423T194748
CREATED:20230406T193235Z
LAST-MODIFIED:20230407T134114Z
UID:10008131-1704067200-1704153599@quailcreeksportingranch.com
SUMMARY:Sporting Clays Course (CLOSED)
DESCRIPTION:
URL:https://quailcreeksportingranch.com/event/sporting-clays-course-closed/2024-01-01/
LOCATION:Quail Creek Sporting Ranch
CATEGORIES:Closure,Event
ORGANIZER;CN="Quail Creek Sporting Ranch":MAILTO:admin@quailcreeksportingranch.com
END:VEVENT
BEGIN:VEVENT
DTSTART;TZID=America/New_York:20231225T110000
DTEND;TZID=America/New_York:20231225T140000
DTSTAMP:20260423T194748
CREATED:20230406T193033Z
LAST-MODIFIED:20260202T161300Z
UID:10018053-1703502000-1703512800@quailcreeksportingranch.com
SUMMARY:Lunch Pavilion Open 11am-2pm
DESCRIPTION:
URL:https://quailcreeksportingranch.com/event/lunch-pavilion-closed/2023-12-25/
LOCATION:Quail Creek Sporting Ranch
CATEGORIES:Closure,Weekly
ORGANIZER;CN="Quail Creek Sporting Ranch":MAILTO:admin@quailcreeksportingranch.com
END:VEVENT
END:VCALENDAR