BEGIN:VCALENDAR
VERSION:2.0
PRODID:-//Quail Creek Sporting Ranch - ECPv6.15.15//NONSGML v1.0//EN
CALSCALE:GREGORIAN
METHOD:PUBLISH
X-ORIGINAL-URL:https://quailcreeksportingranch.com
X-WR-CALDESC:Events for Quail Creek Sporting Ranch
REFRESH-INTERVAL;VALUE=DURATION:PT1H
X-Robots-Tag:noindex
X-PUBLISHED-TTL:PT1H
BEGIN:VTIMEZONE
TZID:America/New_York
BEGIN:DAYLIGHT
TZOFFSETFROM:-0500
TZOFFSETTO:-0400
TZNAME:EDT
DTSTART:20230312T070000
END:DAYLIGHT
BEGIN:STANDARD
TZOFFSETFROM:-0400
TZOFFSETTO:-0500
TZNAME:EST
DTSTART:20231105T060000
END:STANDARD
BEGIN:DAYLIGHT
TZOFFSETFROM:-0500
TZOFFSETTO:-0400
TZNAME:EDT
DTSTART:20240310T070000
END:DAYLIGHT
BEGIN:STANDARD
TZOFFSETFROM:-0400
TZOFFSETTO:-0500
TZNAME:EST
DTSTART:20241103T060000
END:STANDARD
BEGIN:DAYLIGHT
TZOFFSETFROM:-0500
TZOFFSETTO:-0400
TZNAME:EDT
DTSTART:20250309T070000
END:DAYLIGHT
BEGIN:STANDARD
TZOFFSETFROM:-0400
TZOFFSETTO:-0500
TZNAME:EST
DTSTART:20251102T060000
END:STANDARD
END:VTIMEZONE
BEGIN:VEVENT
DTSTART;VALUE=DATE:20240708
DTEND;VALUE=DATE:20240709
DTSTAMP:20260423T130155
CREATED:20230406T193235Z
LAST-MODIFIED:20230407T134114Z
UID:10008158-1720396800-1720483199@quailcreeksportingranch.com
SUMMARY:Sporting Clays Course (CLOSED)
DESCRIPTION:
URL:https://quailcreeksportingranch.com/event/sporting-clays-course-closed/2024-07-08/
LOCATION:Quail Creek Sporting Ranch
CATEGORIES:Closure,Event
ORGANIZER;CN="Quail Creek Sporting Ranch":MAILTO:admin@quailcreeksportingranch.com
END:VEVENT
BEGIN:VEVENT
DTSTART;TZID=America/New_York:20240701T110000
DTEND;TZID=America/New_York:20240701T140000
DTSTAMP:20260423T130155
CREATED:20230406T193033Z
LAST-MODIFIED:20260202T161300Z
UID:10018080-1719831600-1719842400@quailcreeksportingranch.com
SUMMARY:Lunch Pavilion Open 11am-2pm
DESCRIPTION:
URL:https://quailcreeksportingranch.com/event/lunch-pavilion-closed/2024-07-01/
LOCATION:Quail Creek Sporting Ranch
CATEGORIES:Closure,Weekly
ORGANIZER;CN="Quail Creek Sporting Ranch":MAILTO:admin@quailcreeksportingranch.com
END:VEVENT
BEGIN:VEVENT
DTSTART;VALUE=DATE:20240701
DTEND;VALUE=DATE:20240702
DTSTAMP:20260423T130155
CREATED:20230406T193235Z
LAST-MODIFIED:20230407T134114Z
UID:10008157-1719792000-1719878399@quailcreeksportingranch.com
SUMMARY:Sporting Clays Course (CLOSED)
DESCRIPTION:
URL:https://quailcreeksportingranch.com/event/sporting-clays-course-closed/2024-07-01/
LOCATION:Quail Creek Sporting Ranch
CATEGORIES:Closure,Event
ORGANIZER;CN="Quail Creek Sporting Ranch":MAILTO:admin@quailcreeksportingranch.com
END:VEVENT
BEGIN:VEVENT
DTSTART;TZID=America/New_York:20240624T110000
DTEND;TZID=America/New_York:20240624T140000
DTSTAMP:20260423T130155
CREATED:20230406T193033Z
LAST-MODIFIED:20260202T161300Z
UID:10018079-1719226800-1719237600@quailcreeksportingranch.com
SUMMARY:Lunch Pavilion Open 11am-2pm
DESCRIPTION:
URL:https://quailcreeksportingranch.com/event/lunch-pavilion-closed/2024-06-24/
LOCATION:Quail Creek Sporting Ranch
CATEGORIES:Closure,Weekly
ORGANIZER;CN="Quail Creek Sporting Ranch":MAILTO:admin@quailcreeksportingranch.com
END:VEVENT
BEGIN:VEVENT
DTSTART;VALUE=DATE:20240624
DTEND;VALUE=DATE:20240625
DTSTAMP:20260423T130155
CREATED:20230406T193235Z
LAST-MODIFIED:20230407T134114Z
UID:10008156-1719187200-1719273599@quailcreeksportingranch.com
SUMMARY:Sporting Clays Course (CLOSED)
DESCRIPTION:
URL:https://quailcreeksportingranch.com/event/sporting-clays-course-closed/2024-06-24/
LOCATION:Quail Creek Sporting Ranch
CATEGORIES:Closure,Event
ORGANIZER;CN="Quail Creek Sporting Ranch":MAILTO:admin@quailcreeksportingranch.com
END:VEVENT
BEGIN:VEVENT
DTSTART;TZID=America/New_York:20240617T110000
DTEND;TZID=America/New_York:20240617T140000
DTSTAMP:20260423T130155
CREATED:20230406T193033Z
LAST-MODIFIED:20260202T161300Z
UID:10018078-1718622000-1718632800@quailcreeksportingranch.com
SUMMARY:Lunch Pavilion Open 11am-2pm
DESCRIPTION:
URL:https://quailcreeksportingranch.com/event/lunch-pavilion-closed/2024-06-17/
LOCATION:Quail Creek Sporting Ranch
CATEGORIES:Closure,Weekly
ORGANIZER;CN="Quail Creek Sporting Ranch":MAILTO:admin@quailcreeksportingranch.com
END:VEVENT
BEGIN:VEVENT
DTSTART;VALUE=DATE:20240617
DTEND;VALUE=DATE:20240618
DTSTAMP:20260423T130155
CREATED:20230406T193235Z
LAST-MODIFIED:20230407T134114Z
UID:10008155-1718582400-1718668799@quailcreeksportingranch.com
SUMMARY:Sporting Clays Course (CLOSED)
DESCRIPTION:
URL:https://quailcreeksportingranch.com/event/sporting-clays-course-closed/2024-06-17/
LOCATION:Quail Creek Sporting Ranch
CATEGORIES:Closure,Event
ORGANIZER;CN="Quail Creek Sporting Ranch":MAILTO:admin@quailcreeksportingranch.com
END:VEVENT
BEGIN:VEVENT
DTSTART;TZID=America/New_York:20240610T110000
DTEND;TZID=America/New_York:20240610T140000
DTSTAMP:20260423T130155
CREATED:20230406T193033Z
LAST-MODIFIED:20260202T161300Z
UID:10018077-1718017200-1718028000@quailcreeksportingranch.com
SUMMARY:Lunch Pavilion Open 11am-2pm
DESCRIPTION:
URL:https://quailcreeksportingranch.com/event/lunch-pavilion-closed/2024-06-10/
LOCATION:Quail Creek Sporting Ranch
CATEGORIES:Closure,Weekly
ORGANIZER;CN="Quail Creek Sporting Ranch":MAILTO:admin@quailcreeksportingranch.com
END:VEVENT
BEGIN:VEVENT
DTSTART;VALUE=DATE:20240610
DTEND;VALUE=DATE:20240611
DTSTAMP:20260423T130155
CREATED:20230406T193235Z
LAST-MODIFIED:20230407T134114Z
UID:10008154-1717977600-1718063999@quailcreeksportingranch.com
SUMMARY:Sporting Clays Course (CLOSED)
DESCRIPTION:
URL:https://quailcreeksportingranch.com/event/sporting-clays-course-closed/2024-06-10/
LOCATION:Quail Creek Sporting Ranch
CATEGORIES:Closure,Event
ORGANIZER;CN="Quail Creek Sporting Ranch":MAILTO:admin@quailcreeksportingranch.com
END:VEVENT
BEGIN:VEVENT
DTSTART;TZID=America/New_York:20240603T110000
DTEND;TZID=America/New_York:20240603T140000
DTSTAMP:20260423T130155
CREATED:20230406T193033Z
LAST-MODIFIED:20260202T161300Z
UID:10018076-1717412400-1717423200@quailcreeksportingranch.com
SUMMARY:Lunch Pavilion Open 11am-2pm
DESCRIPTION:
URL:https://quailcreeksportingranch.com/event/lunch-pavilion-closed/2024-06-03/
LOCATION:Quail Creek Sporting Ranch
CATEGORIES:Closure,Weekly
ORGANIZER;CN="Quail Creek Sporting Ranch":MAILTO:admin@quailcreeksportingranch.com
END:VEVENT
BEGIN:VEVENT
DTSTART;VALUE=DATE:20240603
DTEND;VALUE=DATE:20240604
DTSTAMP:20260423T130155
CREATED:20230406T193235Z
LAST-MODIFIED:20230407T134114Z
UID:10008153-1717372800-1717459199@quailcreeksportingranch.com
SUMMARY:Sporting Clays Course (CLOSED)
DESCRIPTION:
URL:https://quailcreeksportingranch.com/event/sporting-clays-course-closed/2024-06-03/
LOCATION:Quail Creek Sporting Ranch
CATEGORIES:Closure,Event
ORGANIZER;CN="Quail Creek Sporting Ranch":MAILTO:admin@quailcreeksportingranch.com
END:VEVENT
BEGIN:VEVENT
DTSTART;TZID=America/New_York:20240527T110000
DTEND;TZID=America/New_York:20240527T140000
DTSTAMP:20260423T130155
CREATED:20230406T193033Z
LAST-MODIFIED:20260202T161300Z
UID:10018075-1716807600-1716818400@quailcreeksportingranch.com
SUMMARY:Lunch Pavilion Open 11am-2pm
DESCRIPTION:
URL:https://quailcreeksportingranch.com/event/lunch-pavilion-closed/2024-05-27/
LOCATION:Quail Creek Sporting Ranch
CATEGORIES:Closure,Weekly
ORGANIZER;CN="Quail Creek Sporting Ranch":MAILTO:admin@quailcreeksportingranch.com
END:VEVENT
BEGIN:VEVENT
DTSTART;VALUE=DATE:20240527
DTEND;VALUE=DATE:20240528
DTSTAMP:20260423T130155
CREATED:20230406T193235Z
LAST-MODIFIED:20230407T134114Z
UID:10008152-1716768000-1716854399@quailcreeksportingranch.com
SUMMARY:Sporting Clays Course (CLOSED)
DESCRIPTION:
URL:https://quailcreeksportingranch.com/event/sporting-clays-course-closed/2024-05-27/
LOCATION:Quail Creek Sporting Ranch
CATEGORIES:Closure,Event
ORGANIZER;CN="Quail Creek Sporting Ranch":MAILTO:admin@quailcreeksportingranch.com
END:VEVENT
BEGIN:VEVENT
DTSTART;TZID=America/New_York:20240520T110000
DTEND;TZID=America/New_York:20240520T140000
DTSTAMP:20260423T130155
CREATED:20230406T193033Z
LAST-MODIFIED:20260202T161300Z
UID:10018074-1716202800-1716213600@quailcreeksportingranch.com
SUMMARY:Lunch Pavilion Open 11am-2pm
DESCRIPTION:
URL:https://quailcreeksportingranch.com/event/lunch-pavilion-closed/2024-05-20/
LOCATION:Quail Creek Sporting Ranch
CATEGORIES:Closure,Weekly
ORGANIZER;CN="Quail Creek Sporting Ranch":MAILTO:admin@quailcreeksportingranch.com
END:VEVENT
BEGIN:VEVENT
DTSTART;VALUE=DATE:20240520
DTEND;VALUE=DATE:20240521
DTSTAMP:20260423T130155
CREATED:20230406T193235Z
LAST-MODIFIED:20230407T134114Z
UID:10008151-1716163200-1716249599@quailcreeksportingranch.com
SUMMARY:Sporting Clays Course (CLOSED)
DESCRIPTION:
URL:https://quailcreeksportingranch.com/event/sporting-clays-course-closed/2024-05-20/
LOCATION:Quail Creek Sporting Ranch
CATEGORIES:Closure,Event
ORGANIZER;CN="Quail Creek Sporting Ranch":MAILTO:admin@quailcreeksportingranch.com
END:VEVENT
BEGIN:VEVENT
DTSTART;TZID=America/New_York:20240513T110000
DTEND;TZID=America/New_York:20240513T140000
DTSTAMP:20260423T130155
CREATED:20230406T193033Z
LAST-MODIFIED:20260202T161300Z
UID:10018073-1715598000-1715608800@quailcreeksportingranch.com
SUMMARY:Lunch Pavilion Open 11am-2pm
DESCRIPTION:
URL:https://quailcreeksportingranch.com/event/lunch-pavilion-closed/2024-05-13/
LOCATION:Quail Creek Sporting Ranch
CATEGORIES:Closure,Weekly
ORGANIZER;CN="Quail Creek Sporting Ranch":MAILTO:admin@quailcreeksportingranch.com
END:VEVENT
BEGIN:VEVENT
DTSTART;VALUE=DATE:20240513
DTEND;VALUE=DATE:20240514
DTSTAMP:20260423T130155
CREATED:20230406T193235Z
LAST-MODIFIED:20230407T134114Z
UID:10008150-1715558400-1715644799@quailcreeksportingranch.com
SUMMARY:Sporting Clays Course (CLOSED)
DESCRIPTION:
URL:https://quailcreeksportingranch.com/event/sporting-clays-course-closed/2024-05-13/
LOCATION:Quail Creek Sporting Ranch
CATEGORIES:Closure,Event
ORGANIZER;CN="Quail Creek Sporting Ranch":MAILTO:admin@quailcreeksportingranch.com
END:VEVENT
BEGIN:VEVENT
DTSTART;TZID=America/New_York:20240506T110000
DTEND;TZID=America/New_York:20240506T140000
DTSTAMP:20260423T130155
CREATED:20230406T193033Z
LAST-MODIFIED:20260202T161300Z
UID:10018072-1714993200-1715004000@quailcreeksportingranch.com
SUMMARY:Lunch Pavilion Open 11am-2pm
DESCRIPTION:
URL:https://quailcreeksportingranch.com/event/lunch-pavilion-closed/2024-05-06/
LOCATION:Quail Creek Sporting Ranch
CATEGORIES:Closure,Weekly
ORGANIZER;CN="Quail Creek Sporting Ranch":MAILTO:admin@quailcreeksportingranch.com
END:VEVENT
BEGIN:VEVENT
DTSTART;VALUE=DATE:20240506
DTEND;VALUE=DATE:20240507
DTSTAMP:20260423T130155
CREATED:20230406T193235Z
LAST-MODIFIED:20230407T134114Z
UID:10008149-1714953600-1715039999@quailcreeksportingranch.com
SUMMARY:Sporting Clays Course (CLOSED)
DESCRIPTION:
URL:https://quailcreeksportingranch.com/event/sporting-clays-course-closed/2024-05-06/
LOCATION:Quail Creek Sporting Ranch
CATEGORIES:Closure,Event
ORGANIZER;CN="Quail Creek Sporting Ranch":MAILTO:admin@quailcreeksportingranch.com
END:VEVENT
BEGIN:VEVENT
DTSTART;TZID=America/New_York:20240429T110000
DTEND;TZID=America/New_York:20240429T140000
DTSTAMP:20260423T130155
CREATED:20230406T193033Z
LAST-MODIFIED:20260202T161300Z
UID:10018071-1714388400-1714399200@quailcreeksportingranch.com
SUMMARY:Lunch Pavilion Open 11am-2pm
DESCRIPTION:
URL:https://quailcreeksportingranch.com/event/lunch-pavilion-closed/2024-04-29/
LOCATION:Quail Creek Sporting Ranch
CATEGORIES:Closure,Weekly
ORGANIZER;CN="Quail Creek Sporting Ranch":MAILTO:admin@quailcreeksportingranch.com
END:VEVENT
BEGIN:VEVENT
DTSTART;VALUE=DATE:20240429
DTEND;VALUE=DATE:20240430
DTSTAMP:20260423T130155
CREATED:20230406T193235Z
LAST-MODIFIED:20230407T134114Z
UID:10008148-1714348800-1714435199@quailcreeksportingranch.com
SUMMARY:Sporting Clays Course (CLOSED)
DESCRIPTION:
URL:https://quailcreeksportingranch.com/event/sporting-clays-course-closed/2024-04-29/
LOCATION:Quail Creek Sporting Ranch
CATEGORIES:Closure,Event
ORGANIZER;CN="Quail Creek Sporting Ranch":MAILTO:admin@quailcreeksportingranch.com
END:VEVENT
BEGIN:VEVENT
DTSTART;VALUE=DATE:20240426
DTEND;VALUE=DATE:20240427
DTSTAMP:20260423T130155
CREATED:20240405T170500Z
LAST-MODIFIED:20240405T170500Z
UID:10015164-1714089600-1714175999@quailcreeksportingranch.com
SUMMARY:ANNIE OAKLEY
DESCRIPTION:
URL:https://quailcreeksportingranch.com/event/annie-oakley-2/
LOCATION:Quail Creek Sporting Ranch
CATEGORIES:Closure,Event,Event|Closure,Red Course Closed
ATTACH;FMTTYPE=image/jpeg:https://quailcreeksportingranch.com/wp-content/uploads/2024/04/QC_AnnieOakley_Flyer_C24_8.5x11-scaled.jpg
ORGANIZER;CN="Quail Creek Sporting Ranch":MAILTO:admin@quailcreeksportingranch.com
END:VEVENT
BEGIN:VEVENT
DTSTART;TZID=America/New_York:20240422T110000
DTEND;TZID=America/New_York:20240422T140000
DTSTAMP:20260423T130155
CREATED:20230406T193033Z
LAST-MODIFIED:20260202T161300Z
UID:10018070-1713783600-1713794400@quailcreeksportingranch.com
SUMMARY:Lunch Pavilion Open 11am-2pm
DESCRIPTION:
URL:https://quailcreeksportingranch.com/event/lunch-pavilion-closed/2024-04-22/
LOCATION:Quail Creek Sporting Ranch
CATEGORIES:Closure,Weekly
ORGANIZER;CN="Quail Creek Sporting Ranch":MAILTO:admin@quailcreeksportingranch.com
END:VEVENT
BEGIN:VEVENT
DTSTART;VALUE=DATE:20240422
DTEND;VALUE=DATE:20240423
DTSTAMP:20260423T130155
CREATED:20230406T193235Z
LAST-MODIFIED:20230407T134114Z
UID:10008147-1713744000-1713830399@quailcreeksportingranch.com
SUMMARY:Sporting Clays Course (CLOSED)
DESCRIPTION:
URL:https://quailcreeksportingranch.com/event/sporting-clays-course-closed/2024-04-22/
LOCATION:Quail Creek Sporting Ranch
CATEGORIES:Closure,Event
ORGANIZER;CN="Quail Creek Sporting Ranch":MAILTO:admin@quailcreeksportingranch.com
END:VEVENT
BEGIN:VEVENT
DTSTART;TZID=America/New_York:20240415T110000
DTEND;TZID=America/New_York:20240415T140000
DTSTAMP:20260423T130155
CREATED:20230406T193033Z
LAST-MODIFIED:20260202T161300Z
UID:10018069-1713178800-1713189600@quailcreeksportingranch.com
SUMMARY:Lunch Pavilion Open 11am-2pm
DESCRIPTION:
URL:https://quailcreeksportingranch.com/event/lunch-pavilion-closed/2024-04-15/
LOCATION:Quail Creek Sporting Ranch
CATEGORIES:Closure,Weekly
ORGANIZER;CN="Quail Creek Sporting Ranch":MAILTO:admin@quailcreeksportingranch.com
END:VEVENT
BEGIN:VEVENT
DTSTART;VALUE=DATE:20240415
DTEND;VALUE=DATE:20240416
DTSTAMP:20260423T130155
CREATED:20230406T193235Z
LAST-MODIFIED:20230407T134114Z
UID:10008146-1713139200-1713225599@quailcreeksportingranch.com
SUMMARY:Sporting Clays Course (CLOSED)
DESCRIPTION:
URL:https://quailcreeksportingranch.com/event/sporting-clays-course-closed/2024-04-15/
LOCATION:Quail Creek Sporting Ranch
CATEGORIES:Closure,Event
ORGANIZER;CN="Quail Creek Sporting Ranch":MAILTO:admin@quailcreeksportingranch.com
END:VEVENT
BEGIN:VEVENT
DTSTART;TZID=America/New_York:20240408T110000
DTEND;TZID=America/New_York:20240408T140000
DTSTAMP:20260423T130155
CREATED:20230406T193033Z
LAST-MODIFIED:20260202T161300Z
UID:10018068-1712574000-1712584800@quailcreeksportingranch.com
SUMMARY:Lunch Pavilion Open 11am-2pm
DESCRIPTION:
URL:https://quailcreeksportingranch.com/event/lunch-pavilion-closed/2024-04-08/
LOCATION:Quail Creek Sporting Ranch
CATEGORIES:Closure,Weekly
ORGANIZER;CN="Quail Creek Sporting Ranch":MAILTO:admin@quailcreeksportingranch.com
END:VEVENT
BEGIN:VEVENT
DTSTART;VALUE=DATE:20240408
DTEND;VALUE=DATE:20240409
DTSTAMP:20260423T130155
CREATED:20230406T193235Z
LAST-MODIFIED:20230407T134114Z
UID:10008145-1712534400-1712620799@quailcreeksportingranch.com
SUMMARY:Sporting Clays Course (CLOSED)
DESCRIPTION:
URL:https://quailcreeksportingranch.com/event/sporting-clays-course-closed/2024-04-08/
LOCATION:Quail Creek Sporting Ranch
CATEGORIES:Closure,Event
ORGANIZER;CN="Quail Creek Sporting Ranch":MAILTO:admin@quailcreeksportingranch.com
END:VEVENT
BEGIN:VEVENT
DTSTART;TZID=America/New_York:20240401T110000
DTEND;TZID=America/New_York:20240401T140000
DTSTAMP:20260423T130155
CREATED:20230406T193033Z
LAST-MODIFIED:20260202T161300Z
UID:10018067-1711969200-1711980000@quailcreeksportingranch.com
SUMMARY:Lunch Pavilion Open 11am-2pm
DESCRIPTION:
URL:https://quailcreeksportingranch.com/event/lunch-pavilion-closed/2024-04-01/
LOCATION:Quail Creek Sporting Ranch
CATEGORIES:Closure,Weekly
ORGANIZER;CN="Quail Creek Sporting Ranch":MAILTO:admin@quailcreeksportingranch.com
END:VEVENT
BEGIN:VEVENT
DTSTART;VALUE=DATE:20240401
DTEND;VALUE=DATE:20240402
DTSTAMP:20260423T130155
CREATED:20230406T193235Z
LAST-MODIFIED:20230407T134114Z
UID:10008144-1711929600-1712015999@quailcreeksportingranch.com
SUMMARY:Sporting Clays Course (CLOSED)
DESCRIPTION:
URL:https://quailcreeksportingranch.com/event/sporting-clays-course-closed/2024-04-01/
LOCATION:Quail Creek Sporting Ranch
CATEGORIES:Closure,Event
ORGANIZER;CN="Quail Creek Sporting Ranch":MAILTO:admin@quailcreeksportingranch.com
END:VEVENT
END:VCALENDAR