BEGIN:VCALENDAR
VERSION:2.0
PRODID:-//Quail Creek Sporting Ranch - ECPv6.15.15//NONSGML v1.0//EN
CALSCALE:GREGORIAN
METHOD:PUBLISH
X-ORIGINAL-URL:https://quailcreeksportingranch.com
X-WR-CALDESC:Events for Quail Creek Sporting Ranch
REFRESH-INTERVAL;VALUE=DURATION:PT1H
X-Robots-Tag:noindex
X-PUBLISHED-TTL:PT1H
BEGIN:VTIMEZONE
TZID:America/New_York
BEGIN:DAYLIGHT
TZOFFSETFROM:-0500
TZOFFSETTO:-0400
TZNAME:EDT
DTSTART:20230312T070000
END:DAYLIGHT
BEGIN:STANDARD
TZOFFSETFROM:-0400
TZOFFSETTO:-0500
TZNAME:EST
DTSTART:20231105T060000
END:STANDARD
BEGIN:DAYLIGHT
TZOFFSETFROM:-0500
TZOFFSETTO:-0400
TZNAME:EDT
DTSTART:20240310T070000
END:DAYLIGHT
BEGIN:STANDARD
TZOFFSETFROM:-0400
TZOFFSETTO:-0500
TZNAME:EST
DTSTART:20241103T060000
END:STANDARD
BEGIN:DAYLIGHT
TZOFFSETFROM:-0500
TZOFFSETTO:-0400
TZNAME:EDT
DTSTART:20250309T070000
END:DAYLIGHT
BEGIN:STANDARD
TZOFFSETFROM:-0400
TZOFFSETTO:-0500
TZNAME:EST
DTSTART:20251102T060000
END:STANDARD
BEGIN:DAYLIGHT
TZOFFSETFROM:-0500
TZOFFSETTO:-0400
TZNAME:EDT
DTSTART:20260308T070000
END:DAYLIGHT
BEGIN:STANDARD
TZOFFSETFROM:-0400
TZOFFSETTO:-0500
TZNAME:EST
DTSTART:20261101T060000
END:STANDARD
END:VTIMEZONE
BEGIN:VEVENT
DTSTART;TZID=America/New_York:20251025T073000
DTEND;TZID=America/New_York:20251025T130000
DTSTAMP:20260422T045410
CREATED:20251011T133722Z
LAST-MODIFIED:20251011T133722Z
UID:10016682-1761377400-1761397200@quailcreeksportingranch.com
SUMMARY:The Rotary Clubs Clay Shoot -  Operation Outdoor Freedom (Red & Blue Course 7:30am-1pm)
DESCRIPTION:
URL:https://quailcreeksportingranch.com/event/the-rotary-clubs-clay-shoot-operation-outdoor-freedom-red-blue-course-730am-1pm/
LOCATION:Quail Creek Sporting Ranch
CATEGORIES:Blue Course Closed,Closure,Red Course Closed
ORGANIZER;CN="Quail Creek Sporting Ranch":MAILTO:admin@quailcreeksportingranch.com
END:VEVENT
BEGIN:VEVENT
DTSTART;TZID=America/New_York:20251019T080000
DTEND;TZID=America/New_York:20251019T150000
DTSTAMP:20260422T045410
CREATED:20251011T133920Z
LAST-MODIFIED:20251011T134034Z
UID:10016683-1760860800-1760886000@quailcreeksportingranch.com
SUMMARY:Sasquatch Scramble Leg #1 - All courses occupied by event. Walk-ins welcome. Carts by reservation only
DESCRIPTION:
URL:https://quailcreeksportingranch.com/event/sasquatch-scramble-leg-1-all-courses-occupied-by-event-walk-ins-welcome-carts-by-reservation-only/
LOCATION:Quail Creek Sporting Ranch
CATEGORIES:Blue Course Closed,Closure,Event,Event|Closure,NSCA,Red Course Closed,Shoot,White Course Closed
ORGANIZER;CN="Quail Creek Sporting Ranch":MAILTO:admin@quailcreeksportingranch.com
END:VEVENT
BEGIN:VEVENT
DTSTART;TZID=America/New_York:20250803T080000
DTEND;TZID=America/New_York:20250803T150000
DTSTAMP:20260422T045410
CREATED:20250515T181410Z
LAST-MODIFIED:20250725T142542Z
UID:10016665-1754208000-1754233200@quailcreeksportingranch.com
SUMMARY:All Courses Occupied by NSCA Tournament. Walk-Ins Welcome. Carts by Reservation Only
DESCRIPTION:
URL:https://quailcreeksportingranch.com/event/select-courses-occupied-by-nsca-tournament-carts-by-reservation-only/
LOCATION:Quail Creek Sporting Ranch
CATEGORIES:Blue Course Closed,FITASC Closed,NSCA,White Course Closed
ORGANIZER;CN="Quail Creek Sporting Ranch":MAILTO:admin@quailcreeksportingranch.com
END:VEVENT
BEGIN:VEVENT
DTSTART;TZID=America/New_York:20250803T080000
DTEND;TZID=America/New_York:20250803T150000
DTSTAMP:20260422T045410
CREATED:20250501T172340Z
LAST-MODIFIED:20250501T172340Z
UID:10016660-1754208000-1754233200@quailcreeksportingranch.com
SUMMARY:NSCA - The Crying Towel
DESCRIPTION:
URL:https://quailcreeksportingranch.com/event/nsca-the-crying-towel/
LOCATION:Quail Creek Sporting Ranch
CATEGORIES:Blue Course Closed,Event|Closure,FITASC Closed,NSCA,White Course Closed
ORGANIZER;CN="Quail Creek Sporting Ranch":MAILTO:admin@quailcreeksportingranch.com
END:VEVENT
BEGIN:VEVENT
DTSTART;VALUE=DATE:20250210
DTEND;VALUE=DATE:20250217
DTSTAMP:20260422T045410
CREATED:20241226T201207Z
LAST-MODIFIED:20241226T201207Z
UID:10016631-1739145600-1739750399@quailcreeksportingranch.com
SUMMARY:Jack Link's Cup
DESCRIPTION:
URL:https://quailcreeksportingranch.com/event/jack-links-cup-2/
LOCATION:Quail Creek Sporting Ranch
CATEGORIES:Blue Course Closed,Event|Closure,FITASC Closed,Red Course Closed,White Course Closed
ORGANIZER;CN="Quail Creek Sporting Ranch":MAILTO:admin@quailcreeksportingranch.com
END:VEVENT
BEGIN:VEVENT
DTSTART;VALUE=DATE:20250117
DTEND;VALUE=DATE:20250118
DTSTAMP:20260422T045410
CREATED:20240402T142321Z
LAST-MODIFIED:20240515T144710Z
UID:10015163-1737072000-1737158399@quailcreeksportingranch.com
SUMMARY:Place Of Hope (Blue & White Course Closed)
DESCRIPTION:
URL:https://quailcreeksportingranch.com/event/place-of-hope-blue-white-course-closed/
LOCATION:Quail Creek Sporting Ranch
CATEGORIES:Blue Course Closed,White Course Closed
ORGANIZER;CN="Quail Creek Sporting Ranch":MAILTO:admin@quailcreeksportingranch.com
END:VEVENT
BEGIN:VEVENT
DTSTART;VALUE=DATE:20241215
DTEND;VALUE=DATE:20241216
DTSTAMP:20260422T045410
CREATED:20240402T142238Z
LAST-MODIFIED:20240818T132134Z
UID:10015162-1734220800-1734307199@quailcreeksportingranch.com
SUMMARY:The Last Shot NSCA (Blue\, White & FITASC Course Closed)
DESCRIPTION:
URL:https://quailcreeksportingranch.com/event/nsca-the-last-shot-blue-white-course-closed/
LOCATION:Quail Creek Sporting Ranch
CATEGORIES:Blue Course Closed,FITASC Closed,NSCA,White Course Closed
ORGANIZER;CN="Quail Creek Sporting Ranch":MAILTO:admin@quailcreeksportingranch.com
END:VEVENT
BEGIN:VEVENT
DTSTART;VALUE=DATE:20241207
DTEND;VALUE=DATE:20241208
DTSTAMP:20260422T045410
CREATED:20240806T181907Z
LAST-MODIFIED:20240806T181948Z
UID:10016460-1733529600-1733615999@quailcreeksportingranch.com
SUMMARY:HCCGA Citrus Fun Shoot
DESCRIPTION:
URL:https://quailcreeksportingranch.com/event/hccga-citrus-fun-shoot/
CATEGORIES:Blue Course Closed,Red Course Closed
END:VEVENT
BEGIN:VEVENT
DTSTART;VALUE=DATE:20241123
DTEND;VALUE=DATE:20241124
DTSTAMP:20260422T045410
CREATED:20240402T142111Z
LAST-MODIFIED:20240818T131532Z
UID:10015160-1732320000-1732406399@quailcreeksportingranch.com
SUMMARY:Big Buck Blast NSCA (Blue\, White & FITASC Course Closed)
DESCRIPTION:
URL:https://quailcreeksportingranch.com/event/nsca-big-buck-blast-blue-white-course-closed-2/
LOCATION:Quail Creek Sporting Ranch
CATEGORIES:Blue Course Closed,FITASC Closed,NSCA,White Course Closed
ORGANIZER;CN="Quail Creek Sporting Ranch":MAILTO:admin@quailcreeksportingranch.com
END:VEVENT
BEGIN:VEVENT
DTSTART;VALUE=DATE:20241108
DTEND;VALUE=DATE:20241109
DTSTAMP:20260422T045410
CREATED:20240402T141853Z
LAST-MODIFIED:20240818T130926Z
UID:10015157-1731024000-1731110399@quailcreeksportingranch.com
SUMMARY:South Florida Council Boy Scouts of America Sporting Clays Invitational (Red & Blue Course Closed)
DESCRIPTION:
URL:https://quailcreeksportingranch.com/event/boy-scouts-of-america-red-course/
LOCATION:Quail Creek Sporting Ranch
CATEGORIES:Blue Course Closed,Red Course Closed
ORGANIZER;CN="Quail Creek Sporting Ranch":MAILTO:admin@quailcreeksportingranch.com
END:VEVENT
BEGIN:VEVENT
DTSTART;VALUE=DATE:20241102
DTEND;VALUE=DATE:20241103
DTSTAMP:20260422T045410
CREATED:20240818T130332Z
LAST-MODIFIED:20240818T130332Z
UID:10016465-1730505600-1730591999@quailcreeksportingranch.com
SUMMARY:AGC FEC 19th Annual Clay Shoot (Red & Blue Course Closed)
DESCRIPTION:
URL:https://quailcreeksportingranch.com/event/agc-fec-19th-annual-clay-shoot-red-blue-course-closed/
CATEGORIES:Blue Course Closed,Red Course Closed
END:VEVENT
BEGIN:VEVENT
DTSTART;VALUE=DATE:20241006
DTEND;VALUE=DATE:20241007
DTSTAMP:20260422T045410
CREATED:20240402T141501Z
LAST-MODIFIED:20240818T131433Z
UID:10015152-1728172800-1728259199@quailcreeksportingranch.com
SUMMARY:NSCA – In PINK For The Cure (Blue\, White & FITASC Course Closed)
DESCRIPTION:
URL:https://quailcreeksportingranch.com/event/nsca-in-pink-for-the-cure-blue-white-course-closed/
LOCATION:Quail Creek Sporting Ranch
CATEGORIES:Blue Course Closed,FITASC Closed,NSCA,White Course Closed
ORGANIZER;CN="Quail Creek Sporting Ranch":MAILTO:admin@quailcreeksportingranch.com
END:VEVENT
BEGIN:VEVENT
DTSTART;VALUE=DATE:20240907
DTEND;VALUE=DATE:20240908
DTSTAMP:20260422T045410
CREATED:20240402T141413Z
LAST-MODIFIED:20240818T124628Z
UID:10015151-1725667200-1725753599@quailcreeksportingranch.com
SUMMARY:NSCA – The Quail Creek Classic (Blue\, White & FITASC Course Closed)
DESCRIPTION:
URL:https://quailcreeksportingranch.com/event/nsca-the-quail-creek-classic-blue-white-course-closed-2/
LOCATION:Quail Creek Sporting Ranch
CATEGORIES:Blue Course Closed,FITASC Closed,NSCA,White Course Closed
ORGANIZER;CN="Quail Creek Sporting Ranch":MAILTO:admin@quailcreeksportingranch.com
END:VEVENT
BEGIN:VEVENT
DTSTART;VALUE=DATE:20240831
DTEND;VALUE=DATE:20240901
DTSTAMP:20260422T045410
CREATED:20240822T140100Z
LAST-MODIFIED:20240822T140100Z
UID:10016470-1725062400-1725148799@quailcreeksportingranch.com
SUMMARY:Work Hard\, Play Harder NSCA Shoot
DESCRIPTION:
URL:https://quailcreeksportingranch.com/event/work-hard-play-harder-nsca-shoot/
CATEGORIES:Blue Course Closed,FITASC Closed,NSCA,White Course Closed
END:VEVENT
BEGIN:VEVENT
DTSTART;VALUE=DATE:20240803
DTEND;VALUE=DATE:20240804
DTSTAMP:20260422T045410
CREATED:20240402T141231Z
LAST-MODIFIED:20240402T141231Z
UID:10015149-1722643200-1722729599@quailcreeksportingranch.com
SUMMARY:NSCA – End of Summer Slam (Blue & White Course Closed)
DESCRIPTION:
URL:https://quailcreeksportingranch.com/event/nsca-end-of-summer-slam-blue-white-course-closed/
LOCATION:Quail Creek Sporting Ranch
CATEGORIES:Blue Course Closed,NSCA,White Course Closed
ORGANIZER;CN="Quail Creek Sporting Ranch":MAILTO:admin@quailcreeksportingranch.com
END:VEVENT
BEGIN:VEVENT
DTSTART;VALUE=DATE:20240727
DTEND;VALUE=DATE:20240728
DTSTAMP:20260422T045410
CREATED:20240402T141143Z
LAST-MODIFIED:20240402T141143Z
UID:10015148-1722038400-1722124799@quailcreeksportingranch.com
SUMMARY:NSCA – Stars\, Stripes & Sporting Clays (Blue & White Course Closed)
DESCRIPTION:
URL:https://quailcreeksportingranch.com/event/nsca-stars-stripes-sporting-clays-blue-white-course-closed-2/
LOCATION:Quail Creek Sporting Ranch
CATEGORIES:Blue Course Closed,NSCA,White Course Closed
ORGANIZER;CN="Quail Creek Sporting Ranch":MAILTO:admin@quailcreeksportingranch.com
END:VEVENT
BEGIN:VEVENT
DTSTART;VALUE=DATE:20240609
DTEND;VALUE=DATE:20240610
DTSTAMP:20260422T045410
CREATED:20240402T141104Z
LAST-MODIFIED:20240402T141105Z
UID:10015147-1717891200-1717977599@quailcreeksportingranch.com
SUMMARY:NSCA – Summer Shootout (Blue & White Course Closed)
DESCRIPTION:
URL:https://quailcreeksportingranch.com/event/nsca-summer-shootout-blue-white-course-closed/
LOCATION:Quail Creek Sporting Ranch
CATEGORIES:Blue Course Closed,NSCA,White Course Closed
ORGANIZER;CN="Quail Creek Sporting Ranch":MAILTO:admin@quailcreeksportingranch.com
END:VEVENT
BEGIN:VEVENT
DTSTART;VALUE=DATE:20240526
DTEND;VALUE=DATE:20240527
DTSTAMP:20260422T045410
CREATED:20240402T141007Z
LAST-MODIFIED:20240515T145328Z
UID:10015146-1716681600-1716767999@quailcreeksportingranch.com
SUMMARY:NSCA – The Salute Shoot (Blue\, White & FITASC Course Closed)
DESCRIPTION:
URL:https://quailcreeksportingranch.com/event/nsca-the-salute-shoot-blue-white-course-closed/
LOCATION:Quail Creek Sporting Ranch
CATEGORIES:Blue Course Closed,NSCA,White Course Closed
ORGANIZER;CN="Quail Creek Sporting Ranch":MAILTO:admin@quailcreeksportingranch.com
END:VEVENT
BEGIN:VEVENT
DTSTART;VALUE=DATE:20240518
DTEND;VALUE=DATE:20240519
DTSTAMP:20260422T045410
CREATED:20240402T140836Z
LAST-MODIFIED:20240402T140836Z
UID:10015144-1715990400-1716076799@quailcreeksportingranch.com
SUMMARY:NSCA – Bob White Blast (Blue & White Course Closed)
DESCRIPTION:
URL:https://quailcreeksportingranch.com/event/nsca-bob-white-blast-blue-white-course-closed/
LOCATION:Quail Creek Sporting Ranch
CATEGORIES:Blue Course Closed,White Course Closed
ORGANIZER;CN="Quail Creek Sporting Ranch":MAILTO:admin@quailcreeksportingranch.com
END:VEVENT
BEGIN:VEVENT
DTSTART;VALUE=DATE:20240420
DTEND;VALUE=DATE:20240421
DTSTAMP:20260422T045410
CREATED:20240402T140550Z
LAST-MODIFIED:20240402T140550Z
UID:10015141-1713571200-1713657599@quailcreeksportingranch.com
SUMMARY:NSCA – Spring Fling (Blue & White Course Closed)
DESCRIPTION:
URL:https://quailcreeksportingranch.com/event/nsca-spring-fling-blue-white-course-closed/
LOCATION:Quail Creek Sporting Ranch
CATEGORIES:Blue Course Closed
ORGANIZER;CN="Quail Creek Sporting Ranch":MAILTO:admin@quailcreeksportingranch.com
END:VEVENT
BEGIN:VEVENT
DTSTART;VALUE=DATE:20240213
DTEND;VALUE=DATE:20240219
DTSTAMP:20260422T045410
CREATED:20240119T165412Z
LAST-MODIFIED:20240119T165412Z
UID:10014581-1707782400-1708300799@quailcreeksportingranch.com
SUMMARY:JACK LINK'S CUP
DESCRIPTION:
URL:https://quailcreeksportingranch.com/event/jack-links-cup/
LOCATION:Quail Creek Sporting Ranch
CATEGORIES:Blue Course Closed,Closure,Event,Event|Closure,NSCA,Red Course Closed
ORGANIZER;CN="Quail Creek Sporting Ranch":MAILTO:admin@quailcreeksportingranch.com
END:VEVENT
BEGIN:VEVENT
DTSTART;VALUE=DATE:20240121
DTEND;VALUE=DATE:20240122
DTSTAMP:20260422T045410
CREATED:20240119T162839Z
LAST-MODIFIED:20240119T162937Z
UID:10014573-1705795200-1705881599@quailcreeksportingranch.com
SUMMARY:John Martinelli Memorial - NSCA (BLUE & WHITE COURSES CLOSED)
DESCRIPTION:
URL:https://quailcreeksportingranch.com/event/john-martinelli-memorial-nsca-blue-white-courses-closed/
LOCATION:Quail Creek Sporting Ranch
CATEGORIES:Blue Course Closed,Closure,Event,Event|Closure,NSCA
ORGANIZER;CN="Quail Creek Sporting Ranch":MAILTO:admin@quailcreeksportingranch.com
END:VEVENT
BEGIN:VEVENT
DTSTART;VALUE=DATE:20240119
DTEND;VALUE=DATE:20240120
DTSTAMP:20260422T045410
CREATED:20240119T162551Z
LAST-MODIFIED:20240119T162551Z
UID:10014571-1705622400-1705708799@quailcreeksportingranch.com
SUMMARY:PLACE OF HOPE (ALL COURSES CLOSED)
DESCRIPTION:
URL:https://quailcreeksportingranch.com/event/place-of-hope-all-courses-closed/
LOCATION:Quail Creek Sporting Ranch
CATEGORIES:Blue Course Closed,Closure,Event,Event|Closure,Red Course Closed
ORGANIZER;CN="Quail Creek Sporting Ranch":MAILTO:admin@quailcreeksportingranch.com
END:VEVENT
END:VCALENDAR